BEGIN:VCALENDAR
VERSION:2.0
PRODID:-//bc magazine - ECPv6.15.20//NONSGML v1.0//EN
CALSCALE:GREGORIAN
METHOD:PUBLISH
X-ORIGINAL-URL:https://www.bcmagazine.net
X-WR-CALDESC:Events for bc magazine
REFRESH-INTERVAL;VALUE=DURATION:PT1H
X-Robots-Tag:noindex
X-PUBLISHED-TTL:PT1H
BEGIN:VTIMEZONE
TZID:Asia/Hong_Kong
BEGIN:STANDARD
TZOFFSETFROM:+0800
TZOFFSETTO:+0800
TZNAME:HKT
DTSTART:20140101T000000
END:STANDARD
END:VTIMEZONE
BEGIN:VEVENT
DTSTART;VALUE=DATE:20151223
DTEND;VALUE=DATE:20160329
DTSTAMP:20260424T014546
CREATED:20151205T153540Z
LAST-MODIFIED:20160105T154954Z
UID:10005084-1450828800-1459209599@www.bcmagazine.net
SUMMARY:Tung Wah Charity Carnival
DESCRIPTION:Tung Wah Charity Carnival\nDate: 23 December 2015 – 28 March 2016\nVenue: Kai Tak Runway\nTickets: $180\nMore info:\nWeekdays: 3-11pm\nFriday\, Saturday: 11am-11pm\nwww.twcarnival.hk
URL:https://www.bcmagazine.net/event/tung-wah-charity-carnival-2016/
LOCATION:Kai Tak Runway\, Kai Tak\, Kowloon City\, Hong Kong
CATEGORIES:2015,2016,Nightlife
GEO:22.3246084;114.1990482
X-APPLE-STRUCTURED-LOCATION;VALUE=URI;X-ADDRESS=Kai Tak Runway Kai Tak Kowloon City Hong Kong;X-APPLE-RADIUS=500;X-TITLE=Kai Tak:geo:114.1990482,22.3246084
END:VEVENT
BEGIN:VEVENT
DTSTART;VALUE=DATE:20160227
DTEND;VALUE=DATE:20160306
DTSTAMP:20260424T014546
CREATED:19160219T092214Z
LAST-MODIFIED:20160219T092457Z
UID:10000327-1456531200-1457222399@www.bcmagazine.net
SUMMARY:21st ifva Festival
DESCRIPTION:21st ifva Festival\nDate: 27 February – 5 March\, 2016\nVenue: HK Arts Centre\, agnès b. Cinema\nTickets: $65 from Urbtix\nMore info:\nhttp://www.ifva.com
URL:https://www.bcmagazine.net/event/21st-ifva-festival/
LOCATION:HK Arts Centre\, agnès b. Cinema\, 2 Harbour Road\, Wanchai
CATEGORIES:2016,Cultural Festival,Film
GEO:22.2802442;114.17082
X-APPLE-STRUCTURED-LOCATION;VALUE=URI;X-ADDRESS=HK Arts Centre agnès b. Cinema 2 Harbour Road Wanchai;X-APPLE-RADIUS=500;X-TITLE=2 Harbour Road:geo:114.17082,22.2802442
END:VEVENT
BEGIN:VEVENT
DTSTART;TZID=Asia/Hong_Kong:20160301T200000
DTEND;TZID=Asia/Hong_Kong:20160301T230000
DTSTAMP:20260424T014546
CREATED:19151006T135119Z
LAST-MODIFIED:20151006T135448Z
UID:10000101-1456862400-1456873200@www.bcmagazine.net
SUMMARY:Death Cab for Cutie
DESCRIPTION:Death Cab for Cutie\nDate: 8pm\, 1 March\, 2016\nVenue: MacPherson Stadium\nTickets: $490
URL:https://www.bcmagazine.net/event/death-cab-for-cutie-macpherson-stadium/
LOCATION:MacPherson Stadium\, 38 Nelson Street\, Mongkok\, Hong Kong
CATEGORIES:2016,Concert,Music
GEO:22.3188457;114.1728403
X-APPLE-STRUCTURED-LOCATION;VALUE=URI;X-ADDRESS=MacPherson Stadium 38 Nelson Street Mongkok Hong Kong;X-APPLE-RADIUS=500;X-TITLE=38 Nelson Street:geo:114.1728403,22.3188457
END:VEVENT
BEGIN:VEVENT
DTSTART;VALUE=DATE:20160302
DTEND;VALUE=DATE:20160314
DTSTAMP:20260424T014546
CREATED:19160119T013014Z
LAST-MODIFIED:20220923T143506Z
UID:10000308-1456876800-1457913599@www.bcmagazine.net
SUMMARY:Un Air De Famille
DESCRIPTION:Un Air De Famille\nHK Theatre Association\nDate: 2\, 4\, 9\, 12\, 13 March\, 2016\nVenue: Quayside\nTickets: $610
URL:https://www.bcmagazine.net/event/un-air-de-famille-2016/
LOCATION:Quayside\, Wanchai\, Hong Kong
CATEGORIES:2016,Food,Performing Arts,Theatre
GEO:22.2783151;114.174695
END:VEVENT
BEGIN:VEVENT
DTSTART;TZID=Asia/Hong_Kong:20160302T200000
DTEND;TZID=Asia/Hong_Kong:20160302T200000
DTSTAMP:20260424T014546
CREATED:19160221T072449Z
LAST-MODIFIED:20160829T025551Z
UID:10001399-1456948800-1456948800@www.bcmagazine.net
SUMMARY:Hong Kong Stories
DESCRIPTION:Hong Kong Stories\nDate: 8pm\, 2 March\, 2016\nVenue: Fringe Club\, Fringe Upstairs\nTickets: $120 from HKTicketing\nMore info:\nEvery last Wednesday of the month
URL:https://www.bcmagazine.net/event/hong-kong-stories-2016/2016-03-02/
LOCATION:Fringe Club\, Fringe Upstairs\, Central\, Hong Kong
CATEGORIES:2016,Performing Arts,Theatre
END:VEVENT
BEGIN:VEVENT
DTSTART;TZID=Asia/Hong_Kong:20160302T203000
DTEND;TZID=Asia/Hong_Kong:20160302T203000
DTSTAMP:20260424T014546
CREATED:19160221T071825Z
LAST-MODIFIED:20160221T072435Z
UID:10001394-1456950600-1456950600@www.bcmagazine.net
SUMMARY:Magic at the Fringe
DESCRIPTION:Magic at the Fringe\nHarry Wong\nDate: 8:30pm 2 March\, 2016\nVenue: Fringe Club\, Fringe Dairy\nTickets: $230 from HKTicketing\nMore info:\nFirst Wednesday of each month
URL:https://www.bcmagazine.net/event/magic-at-the-fringe-2016/2016-03-02/
LOCATION:Fringe Club\, Fringe Dairy\, Central\, Hong Kong
CATEGORIES:2016,Performing Arts
END:VEVENT
BEGIN:VEVENT
DTSTART;TZID=Asia/Hong_Kong:20160304T200000
DTEND;TZID=Asia/Hong_Kong:20160304T200000
DTSTAMP:20260424T014546
CREATED:19160219T085846Z
LAST-MODIFIED:20160219T090206Z
UID:10000332-1457121600-1457121600@www.bcmagazine.net
SUMMARY:Preposition of Life
DESCRIPTION:Preposition of Life\nJoseph Ngan Kin Fai\nDate: 8pm 4-5 March\, 2016\nVenue: HK Arts Centre\, McAulay Theatre\nTickets: $160 from Urbtix
URL:https://www.bcmagazine.net/event/preposition-of-life/2016-03-04/
LOCATION:HK Arts Centre\, McAulay Studio\, 2 Harbour Road\, Wanchai\, Hong Kong
CATEGORIES:2016,Performing Arts,Theatre
GEO:22.280173;114.1708144
X-APPLE-STRUCTURED-LOCATION;VALUE=URI;X-ADDRESS=HK Arts Centre McAulay Studio 2 Harbour Road Wanchai Hong Kong;X-APPLE-RADIUS=500;X-TITLE=2 Harbour Road:geo:114.1708144,22.280173
END:VEVENT
BEGIN:VEVENT
DTSTART;TZID=Asia/Hong_Kong:20160304T201500
DTEND;TZID=Asia/Hong_Kong:20160304T201500
DTSTAMP:20260424T014546
CREATED:19151221T122839Z
LAST-MODIFIED:20160217T062836Z
UID:10000227-1457122500-1457122500@www.bcmagazine.net
SUMMARY:Priscilla-ism
DESCRIPTION:Priscilla-ism\nDate: 8:15pm\, 4-7 March\, 2016\nVenue: HK Coliseum\nTickets: $680\, $480\, $280 from Urbtix
URL:https://www.bcmagazine.net/event/priscilla-ism-2016/2016-03-04/
LOCATION:HK Coliseum\, 9 Cheong Wan Road\, Hung Hom\, Hong Kong
CATEGORIES:2016,Concert,Music,Performing Arts
GEO:22.3014169;114.1820305
X-APPLE-STRUCTURED-LOCATION;VALUE=URI;X-ADDRESS=HK Coliseum 9 Cheong Wan Road Hung Hom Hong Kong;X-APPLE-RADIUS=500;X-TITLE=9 Cheong Wan Road:geo:114.1820305,22.3014169
END:VEVENT
BEGIN:VEVENT
DTSTART;TZID=Asia/Hong_Kong:20160305T130000
DTEND;TZID=Asia/Hong_Kong:20160305T170000
DTSTAMP:20260424T014546
CREATED:19160304T010240Z
LAST-MODIFIED:20160305T022313Z
UID:10000339-1457182800-1457197200@www.bcmagazine.net
SUMMARY:TedX Bold
DESCRIPTION:TedX Bold\nDate: 1pm\, 5 March\, 2016\nVenue: Lingnan University\nTickets: $40
URL:https://www.bcmagazine.net/event/tedx-bold-2016/
LOCATION:Lingnan University\, 8 Castle Peak Road\, Tuen Mun\, Hong Kong
CATEGORIES:2016
GEO:22.3555787;114.027274
X-APPLE-STRUCTURED-LOCATION;VALUE=URI;X-ADDRESS=Lingnan University 8 Castle Peak Road Tuen Mun Hong Kong;X-APPLE-RADIUS=500;X-TITLE=8 Castle Peak Road:geo:114.027274,22.3555787
END:VEVENT
BEGIN:VEVENT
DTSTART;TZID=Asia/Hong_Kong:20160305T170000
DTEND;TZID=Asia/Hong_Kong:20160305T170000
DTSTAMP:20260424T014546
CREATED:20160227T140604Z
LAST-MODIFIED:20160227T141123Z
UID:10006090-1457197200-1457197200@www.bcmagazine.net
SUMMARY:Peace\, Love\, Lamma\, Dickstock R.I.P.
DESCRIPTION:Peace\, Love\, Lamma\, Dickstock R.I.P.\nMaki & Gaby\, Flow\, Dark Himaya\, The 88s\, The Midlife Crisis Cowboys\, Turing Apples\, Transnoodle\, Psycho in Mongkok\, The David Bowie Knives\nDate: 5pm\, 5 March\, 2016\nVenue: Picnic Area on the hill above Pak Kok\nTickets: Free
URL:https://www.bcmagazine.net/event/peace-love-lamma-dickstock-r-i-p-2016/
LOCATION:Hong Kong
CATEGORIES:2016,Concert,Free,Music
END:VEVENT
BEGIN:VEVENT
DTSTART;TZID=Asia/Hong_Kong:20160305T200000
DTEND;TZID=Asia/Hong_Kong:20160305T200000
DTSTAMP:20260424T014546
CREATED:19160202T092119Z
LAST-MODIFIED:20160202T093407Z
UID:10001225-1457208000-1457208000@www.bcmagazine.net
SUMMARY:Della
DESCRIPTION:Della The First Day To Say I Love You\nDate: 8pm\, 5 March\, 2016\nVenue: Studio City Event Centre\, Macau\nTickets: $980\, $780\, $580\, $380 from HKTicketing
URL:https://www.bcmagazine.net/event/della/
LOCATION:Studio City\, Estrada do Istmo\, Cotai\, Macau
CATEGORIES:2016,Concert,Macau,Music
GEO:22.1397693;113.5632663
X-APPLE-STRUCTURED-LOCATION;VALUE=URI;X-ADDRESS=Studio City Estrada do Istmo Cotai Macau;X-APPLE-RADIUS=500;X-TITLE=Estrada do Istmo:geo:113.5632663,22.1397693
END:VEVENT
BEGIN:VEVENT
DTSTART;TZID=Asia/Hong_Kong:20160305T200000
DTEND;TZID=Asia/Hong_Kong:20160305T200000
DTSTAMP:20260424T014546
CREATED:19160221T063251Z
LAST-MODIFIED:20160221T063756Z
UID:10001371-1457208000-1457208000@www.bcmagazine.net
SUMMARY:Beast\, BTOB\, 4Minute
DESCRIPTION:Beast\, BTOB\, 4Minute\nDate: 8pm\, 5 March\, 2016\nVenue: Venetian\, CotaiArena\nTickets: $1\,280\, $980\, $780\, $580\, $380 from HKTicketing
URL:https://www.bcmagazine.net/event/beast-btob-4minute/
LOCATION:CotaiArena\, Venetian Macao\, Taipa\, Macau
CATEGORIES:2016,Concert,Macau,Music
GEO:22.1483528;113.5602019
X-APPLE-STRUCTURED-LOCATION;VALUE=URI;X-ADDRESS=CotaiArena Venetian Macao Taipa Macau;X-APPLE-RADIUS=500;X-TITLE=Venetian Macao:geo:113.5602019,22.1483528
END:VEVENT
BEGIN:VEVENT
DTSTART;TZID=Asia/Hong_Kong:20160305T201500
DTEND;TZID=Asia/Hong_Kong:20160305T201500
DTSTAMP:20260424T014546
CREATED:19151221T122839Z
LAST-MODIFIED:20160217T062836Z
UID:10000228-1457208900-1457208900@www.bcmagazine.net
SUMMARY:Priscilla-ism
DESCRIPTION:Priscilla-ism\nDate: 8:15pm\, 4-7 March\, 2016\nVenue: HK Coliseum\nTickets: $680\, $480\, $280 from Urbtix
URL:https://www.bcmagazine.net/event/priscilla-ism-2016/2016-03-05/
LOCATION:HK Coliseum\, 9 Cheong Wan Road\, Hung Hom\, Hong Kong
CATEGORIES:2016,Concert,Music,Performing Arts
GEO:22.3014169;114.1820305
X-APPLE-STRUCTURED-LOCATION;VALUE=URI;X-ADDRESS=HK Coliseum 9 Cheong Wan Road Hung Hom Hong Kong;X-APPLE-RADIUS=500;X-TITLE=9 Cheong Wan Road:geo:114.1820305,22.3014169
END:VEVENT
BEGIN:VEVENT
DTSTART;TZID=Asia/Hong_Kong:20160306T144500
DTEND;TZID=Asia/Hong_Kong:20160306T144500
DTSTAMP:20260424T014546
CREATED:19160217T081932Z
LAST-MODIFIED:20160217T082301Z
UID:10001370-1457275500-1457275500@www.bcmagazine.net
SUMMARY:Hong Kong Treble Choir
DESCRIPTION:Hong Kong Treble Choir Annual Concert 2016\nDate: 2:45pm\, 6 March\, 2016\nVenue: HK Cultural Centre\, Concert Hall\nTickets: $550\, $330\, $280\, $220 from Urbtix
URL:https://www.bcmagazine.net/event/hong-kong-treble-choir-2016/
LOCATION:HK Cultural Centre\, Concert Hall\, 10 Salisbury Road\, Tsim Sha Tsui\, Hong Kong
CATEGORIES:2016,Concert,Music
GEO:22.294318;114.171708
X-APPLE-STRUCTURED-LOCATION;VALUE=URI;X-ADDRESS=HK Cultural Centre Concert Hall 10 Salisbury Road Tsim Sha Tsui Hong Kong;X-APPLE-RADIUS=500;X-TITLE=10 Salisbury Road:geo:114.171708,22.294318
END:VEVENT
BEGIN:VEVENT
DTSTART;TZID=Asia/Hong_Kong:20160306T200000
DTEND;TZID=Asia/Hong_Kong:20160306T200000
DTSTAMP:20260424T014546
CREATED:19160116T004848Z
LAST-MODIFIED:20160116T011529Z
UID:10000311-1457294400-1457294400@www.bcmagazine.net
SUMMARY:John Grant
DESCRIPTION:John Grant\nDate: 8pm\, 6 March\, 2016\nVenue: Music Zone@E-Max\nTickets: $560\, $460 (Early bird) from Ticketflap
URL:https://www.bcmagazine.net/event/john-grant-2016/
LOCATION:KITEC\, Music Zone@E-Max\, KITEC\,‎ 1 Trademart Drive\, Kowloon Bay\, Hong Kong
CATEGORIES:2016,Concert,Music,Performing Arts
GEO:22.3239575;114.2037608
X-APPLE-STRUCTURED-LOCATION;VALUE=URI;X-ADDRESS=KITEC Music Zone@E-Max KITEC‎ 1 Trademart Drive Kowloon Bay Hong Kong;X-APPLE-RADIUS=500;X-TITLE=KITEC\,‎ 1 Trademart Drive:geo:114.2037608,22.3239575
END:VEVENT
BEGIN:VEVENT
DTSTART;TZID=Asia/Hong_Kong:20160306T201500
DTEND;TZID=Asia/Hong_Kong:20160306T201500
DTSTAMP:20260424T014546
CREATED:19151221T122839Z
LAST-MODIFIED:20160217T062836Z
UID:10000229-1457295300-1457295300@www.bcmagazine.net
SUMMARY:Priscilla-ism
DESCRIPTION:Priscilla-ism\nDate: 8:15pm\, 4-7 March\, 2016\nVenue: HK Coliseum\nTickets: $680\, $480\, $280 from Urbtix
URL:https://www.bcmagazine.net/event/priscilla-ism-2016/2016-03-06/
LOCATION:HK Coliseum\, 9 Cheong Wan Road\, Hung Hom\, Hong Kong
CATEGORIES:2016,Concert,Music,Performing Arts
GEO:22.3014169;114.1820305
X-APPLE-STRUCTURED-LOCATION;VALUE=URI;X-ADDRESS=HK Coliseum 9 Cheong Wan Road Hung Hom Hong Kong;X-APPLE-RADIUS=500;X-TITLE=9 Cheong Wan Road:geo:114.1820305,22.3014169
END:VEVENT
BEGIN:VEVENT
DTSTART;TZID=Asia/Hong_Kong:20160307T193000
DTEND;TZID=Asia/Hong_Kong:20160307T193000
DTSTAMP:20260424T014546
CREATED:19160107T094702Z
LAST-MODIFIED:20160107T094919Z
UID:10000291-1457379000-1457379000@www.bcmagazine.net
SUMMARY:Cantonese Opera
DESCRIPTION:Cantonese Opera\nFai Ying Opera\nDate: 7:30pm\, 7 March\, 2016\nVenue: HK Cultural Centre\, Grand Theatre\nTickets: $120\, $100\, $80 from Urbtix
URL:https://www.bcmagazine.net/event/cantonese-opera-fai-ying-opera-2016/
LOCATION:HK Cultural Centre\, Grand Theatre\,\, 10 Salisbury Road\, Tsim Sha Tsui\, Hong Kong
CATEGORIES:2016,Cantonese Opera,Performing Arts
GEO:22.294318;114.171708
X-APPLE-STRUCTURED-LOCATION;VALUE=URI;X-ADDRESS=HK Cultural Centre Grand Theatre 10 Salisbury Road Tsim Sha Tsui Hong Kong;X-APPLE-RADIUS=500;X-TITLE=10 Salisbury Road:geo:114.171708,22.294318
END:VEVENT
BEGIN:VEVENT
DTSTART;TZID=Asia/Hong_Kong:20160307T193000
DTEND;TZID=Asia/Hong_Kong:20160307T193000
DTSTAMP:20260424T014546
CREATED:19160217T072955Z
LAST-MODIFIED:20160217T073248Z
UID:10001365-1457379000-1457379000@www.bcmagazine.net
SUMMARY:Fai Ying Opera
DESCRIPTION:Fai Ying Opera\nDate: 7:30pm\, 7 March\, 2016\nVenue: HK Cultural Centre\, Grand Theatre\nTickets: $120\, $100\, $80 from Urbtix
URL:https://www.bcmagazine.net/event/fai-ying-opera/
LOCATION:HK Cultural Centre\, Grand Theatre\,\, 10 Salisbury Road\, Tsim Sha Tsui\, Hong Kong
CATEGORIES:2016,Cantonese Opera,Performing Arts
GEO:22.294318;114.171708
X-APPLE-STRUCTURED-LOCATION;VALUE=URI;X-ADDRESS=HK Cultural Centre Grand Theatre 10 Salisbury Road Tsim Sha Tsui Hong Kong;X-APPLE-RADIUS=500;X-TITLE=10 Salisbury Road:geo:114.171708,22.294318
END:VEVENT
BEGIN:VEVENT
DTSTART;TZID=Asia/Hong_Kong:20160307T200000
DTEND;TZID=Asia/Hong_Kong:20160307T200000
DTSTAMP:20260424T014546
CREATED:19160107T110603Z
LAST-MODIFIED:20160107T110826Z
UID:10001141-1457380800-1457380800@www.bcmagazine.net
SUMMARY:Long String Music Development Centre
DESCRIPTION:Long String Music Development Centre\nDate: 8pm\, 7 March\, 2016\nVenue: HK Cultural Centre\, Concert Hall\nTickets: $580\, $380\, $280\, $200 from Urbtix
URL:https://www.bcmagazine.net/event/long-string-music-development-centre-2016/
LOCATION:HK Cultural Centre\, Concert Hall\, 10 Salisbury Road\, Tsim Sha Tsui\, Hong Kong
CATEGORIES:2016,Concert,Music,Performing Arts
GEO:22.294318;114.171708
X-APPLE-STRUCTURED-LOCATION;VALUE=URI;X-ADDRESS=HK Cultural Centre Concert Hall 10 Salisbury Road Tsim Sha Tsui Hong Kong;X-APPLE-RADIUS=500;X-TITLE=10 Salisbury Road:geo:114.171708,22.294318
END:VEVENT
BEGIN:VEVENT
DTSTART;TZID=Asia/Hong_Kong:20160307T201500
DTEND;TZID=Asia/Hong_Kong:20160307T201500
DTSTAMP:20260424T014546
CREATED:19151221T122839Z
LAST-MODIFIED:20160217T062836Z
UID:10000230-1457381700-1457381700@www.bcmagazine.net
SUMMARY:Priscilla-ism
DESCRIPTION:Priscilla-ism\nDate: 8:15pm\, 4-7 March\, 2016\nVenue: HK Coliseum\nTickets: $680\, $480\, $280 from Urbtix
URL:https://www.bcmagazine.net/event/priscilla-ism-2016/2016-03-07/
LOCATION:HK Coliseum\, 9 Cheong Wan Road\, Hung Hom\, Hong Kong
CATEGORIES:2016,Concert,Music,Performing Arts
GEO:22.3014169;114.1820305
X-APPLE-STRUCTURED-LOCATION;VALUE=URI;X-ADDRESS=HK Coliseum 9 Cheong Wan Road Hung Hom Hong Kong;X-APPLE-RADIUS=500;X-TITLE=9 Cheong Wan Road:geo:114.1820305,22.3014169
END:VEVENT
BEGIN:VEVENT
DTSTART;TZID=Asia/Hong_Kong:20160308T200000
DTEND;TZID=Asia/Hong_Kong:20160308T200000
DTSTAMP:20260424T014546
CREATED:19160125T104950Z
LAST-MODIFIED:20160202T032627Z
UID:10000302-1457467200-1457467200@www.bcmagazine.net
SUMMARY:Margaret Cho
DESCRIPTION:Margaret Cho – The Psycho Tour\nDate: 8pm\, 8-9 March\, 2016\nVenue: King George V School (KGV)\nTickets: $680\, $580\, $480\, $380
URL:https://www.bcmagazine.net/event/margaret-cho/2016-03-08/
LOCATION:KGV\, 2 Tin Kwong Road\, Ho Man Tin\, Hong Kong
CATEGORIES:2016,Comedy,Performing Arts
GEO:22.32173;114.183056
X-APPLE-STRUCTURED-LOCATION;VALUE=URI;X-ADDRESS=KGV 2 Tin Kwong Road Ho Man Tin Hong Kong;X-APPLE-RADIUS=500;X-TITLE=2 Tin Kwong Road:geo:114.183056,22.32173
END:VEVENT
BEGIN:VEVENT
DTSTART;TZID=Asia/Hong_Kong:20160308T200000
DTEND;TZID=Asia/Hong_Kong:20160308T200000
DTSTAMP:20260424T014546
CREATED:20151118T091711Z
LAST-MODIFIED:20151118T091711Z
UID:10005074-1457467200-1457467200@www.bcmagazine.net
SUMMARY:Bon Iver
DESCRIPTION:Bon Iver\nDate: 8pm\, 8 March\, 2016\nVenue: MacPherson Stadium\nTickets: $590 (Advance)\, $690 (Door) onsale 23 November\, 2015
URL:https://www.bcmagazine.net/event/bon-iver/
LOCATION:MacPherson Stadium\, 38 Nelson Street\, Mongkok\, Hong Kong
CATEGORIES:2016,Concert,Music
GEO:22.3188457;114.1728403
X-APPLE-STRUCTURED-LOCATION;VALUE=URI;X-ADDRESS=MacPherson Stadium 38 Nelson Street Mongkok Hong Kong;X-APPLE-RADIUS=500;X-TITLE=38 Nelson Street:geo:114.1728403,22.3188457
END:VEVENT
BEGIN:VEVENT
DTSTART;TZID=Asia/Hong_Kong:20160308T201500
DTEND;TZID=Asia/Hong_Kong:20160308T201500
DTSTAMP:20260424T014546
CREATED:19160217T124517Z
LAST-MODIFIED:20160217T124935Z
UID:10000337-1457468100-1457468100@www.bcmagazine.net
SUMMARY:Michael Landau Trio
DESCRIPTION:Michael Landau Trio\nDate: 8:15pm\, 8 March\, 2016\nVenue: Youth Square\, Y Theatre\nTickets: $580\, $380 from Urbtix
URL:https://www.bcmagazine.net/event/michael-landau-trio-2016/
LOCATION:Youth Square\, Y Theatre\, 238 Chai Wan Road\, Chai Wan\, Hong Kong
CATEGORIES:2016,Concert,Music,Performing Arts
GEO:22.26301;114.2366034
X-APPLE-STRUCTURED-LOCATION;VALUE=URI;X-ADDRESS=Youth Square Y Theatre 238 Chai Wan Road Chai Wan Hong Kong;X-APPLE-RADIUS=500;X-TITLE=238 Chai Wan Road:geo:114.2366034,22.26301
END:VEVENT
BEGIN:VEVENT
DTSTART;TZID=Asia/Hong_Kong:20160309T200000
DTEND;TZID=Asia/Hong_Kong:20160309T200000
DTSTAMP:20260424T014546
CREATED:19160202T075440Z
LAST-MODIFIED:20160202T080558Z
UID:10001205-1457553600-1457553600@www.bcmagazine.net
SUMMARY:Pyjama Pour Six (A Pyjama For Six)
DESCRIPTION:Pyjama Pour Six (A Pyjama For Six)\nHong Kong French Theater Festival\nDate: 8pm\, 9 March\, 2016\nVenue: French International School Auditorium\nTickets: $250 from Ticketflap\nMore info: In French with English subtitles
URL:https://www.bcmagazine.net/event/pyjama-pour-six-2016/
LOCATION:French International School: Auditorium\, 34 Price Road\, Jardine's Lookout\, Hong Kong
CATEGORIES:2016,Cultural Festival,Performing Arts,Theatre,Theatre
GEO:22.2645115;114.1912046
X-APPLE-STRUCTURED-LOCATION;VALUE=URI;X-ADDRESS=French International School: Auditorium 34 Price Road Jardine's Lookout Hong Kong;X-APPLE-RADIUS=500;X-TITLE=34 Price Road:geo:114.1912046,22.2645115
END:VEVENT
BEGIN:VEVENT
DTSTART;VALUE=DATE:20160310
DTEND;VALUE=DATE:20160313
DTSTAMP:20260424T014546
CREATED:19151212T142529Z
LAST-MODIFIED:20151212T142840Z
UID:10000206-1457568000-1457827199@www.bcmagazine.net
SUMMARY:Vegetarian Food Asia
DESCRIPTION:Vegetarian Food Asia\nDate: 10-12 March\, 2016\nVenue: HK Convention & Exhibition Centre\nTickets: tbc
URL:https://www.bcmagazine.net/event/vegetarian-food-asia/
LOCATION:HK Convention and Exhibition Centre\, 1 Expo Drive\, Wanchai\, Hong Kong
CATEGORIES:2016,Exhibition,Food
END:VEVENT
BEGIN:VEVENT
DTSTART;TZID=Asia/Hong_Kong:20160310T100000
DTEND;TZID=Asia/Hong_Kong:20160310T180000
DTSTAMP:20260424T014546
CREATED:19160202T042725Z
LAST-MODIFIED:20160202T042934Z
UID:10001187-1457604000-1457632800@www.bcmagazine.net
SUMMARY:LOHAS Expo
DESCRIPTION:LOHAS (Lifestyle Of Health And Sustainability)\nDate: 10am-6pm\, 10-12 March\, 2016\nVenue: HK Convention and Exhibition Centre\nTickets: $10 (Saturday)\nMore Info: 12 March public day
URL:https://www.bcmagazine.net/event/lohas-expo/2016-03-10/
LOCATION:HK Convention and Exhibition Centre\, 1 Expo Drive\, Wanchai\, Hong Kong
CATEGORIES:2016,Exhibition,Food
END:VEVENT
BEGIN:VEVENT
DTSTART;TZID=Asia/Hong_Kong:20160310T180000
DTEND;TZID=Asia/Hong_Kong:20160310T220000
DTSTAMP:20260424T014546
CREATED:19160202T061616Z
LAST-MODIFIED:20160202T062603Z
UID:10001200-1457632800-1457647200@www.bcmagazine.net
SUMMARY:Taste
DESCRIPTION:Taste of Hong Kong\nDate: 10-13 March\, 2016\nVenue: Central Harbourfront\nTickets: $678\, $198\, $168 from Ticketflap
URL:https://www.bcmagazine.net/event/taste-2016/2016-03-10/
LOCATION:Central Harbourfront\,  9 Lung Wo Road\, Central\, Hong Kong
CATEGORIES:2016,Food
GEO:22.2826223;114.164346
X-APPLE-STRUCTURED-LOCATION;VALUE=URI;X-ADDRESS=Central Harbourfront  9 Lung Wo Road Central Hong Kong;X-APPLE-RADIUS=500;X-TITLE=9 Lung Wo Road:geo:114.164346,22.2826223
END:VEVENT
BEGIN:VEVENT
DTSTART;TZID=Asia/Hong_Kong:20160310T200000
DTEND;TZID=Asia/Hong_Kong:20160310T200000
DTSTAMP:20260424T014546
CREATED:19151212T182039Z
LAST-MODIFIED:20151212T184805Z
UID:10000916-1457640000-1457640000@www.bcmagazine.net
SUMMARY:5 Seconds of Summer
DESCRIPTION:5 Seconds of Summer – Sounds Live Feels Live\nDate: 8pm\,10 March\, 2016\nVenue: AsiaWorld Expo\, Hall 10\nTickets: $1\,588\, $1\,288\, $1\,088\, $888\, $688\, $488 from HKTicketing
URL:https://www.bcmagazine.net/event/5-seconds-of-summer/
LOCATION:AsiaWorld-Expo\, Hall 10\, Cheong Wing Road\, Chek Lap Kok\, Lantau\, Hong Kong
CATEGORIES:2016,Concert,Music
GEO:22.3217383;113.9402012
X-APPLE-STRUCTURED-LOCATION;VALUE=URI;X-ADDRESS=AsiaWorld-Expo Hall 10 Cheong Wing Road Chek Lap Kok Lantau Hong Kong;X-APPLE-RADIUS=500;X-TITLE=Cheong Wing Road\, Chek Lap Kok:geo:113.9402012,22.3217383
END:VEVENT
BEGIN:VEVENT
DTSTART;TZID=Asia/Hong_Kong:20160310T200000
DTEND;TZID=Asia/Hong_Kong:20160310T200000
DTSTAMP:20260424T014546
CREATED:19160202T080231Z
LAST-MODIFIED:20160202T082107Z
UID:10001207-1457640000-1457640000@www.bcmagazine.net
SUMMARY:Inconnu à Cette Adresse (Address Unknown)
DESCRIPTION:Inconnu à Cette Adresse (Address Unknown)\nHong Kong French Theater Festival\nDate: 8pm\, 10 March\, 2016\nVenue: Chinese International School Auditorium\nTickets: $250 from Ticketflap\nMore info: In French with English subtitles
URL:https://www.bcmagazine.net/event/inconnu-a-cette-adresse-2016/
LOCATION:Chinese International School Auditorium\, 1 Hau Yuen Path\, Braemar Hill\, Hong Kong
CATEGORIES:2016,Cultural Festival,Performing Arts,Theatre,Theatre
GEO:22.282979;114.198914
X-APPLE-STRUCTURED-LOCATION;VALUE=URI;X-ADDRESS=Chinese International School Auditorium 1 Hau Yuen Path Braemar Hill Hong Kong;X-APPLE-RADIUS=500;X-TITLE=1 Hau Yuen Path:geo:114.198914,22.282979
END:VEVENT
BEGIN:VEVENT
DTSTART;TZID=Asia/Hong_Kong:20160310T200000
DTEND;TZID=Asia/Hong_Kong:20160310T200000
DTSTAMP:20260424T014546
CREATED:19160217T153332Z
LAST-MODIFIED:20160219T081639Z
UID:10000334-1457640000-1457640000@www.bcmagazine.net
SUMMARY:Single Mother Temptation
DESCRIPTION:Single Mother Temptation\nDate: 8pm\, 10-13 March\, 2016\nVenue: HK Arts Centre\, McAulay Studio\nTickets: $186 from Urbtix\nMore info: Cantonese drama
URL:https://www.bcmagazine.net/event/single-mother-temptation/2016-03-10/
LOCATION:HK Arts Centre\, McAulay Studio\, 2 Harbour Road\, Wanchai\, Hong Kong
CATEGORIES:2016,Performing Arts,Theatre
GEO:22.280173;114.1708144
X-APPLE-STRUCTURED-LOCATION;VALUE=URI;X-ADDRESS=HK Arts Centre McAulay Studio 2 Harbour Road Wanchai Hong Kong;X-APPLE-RADIUS=500;X-TITLE=2 Harbour Road:geo:114.1708144,22.280173
END:VEVENT
END:VCALENDAR