BEGIN:VCALENDAR
VERSION:2.0
PRODID:-//bc magazine - ECPv6.15.20//NONSGML v1.0//EN
CALSCALE:GREGORIAN
METHOD:PUBLISH
X-ORIGINAL-URL:https://www.bcmagazine.net
X-WR-CALDESC:Events for bc magazine
REFRESH-INTERVAL;VALUE=DURATION:PT1H
X-Robots-Tag:noindex
X-PUBLISHED-TTL:PT1H
BEGIN:VTIMEZONE
TZID:Asia/Hong_Kong
BEGIN:STANDARD
TZOFFSETFROM:+0800
TZOFFSETTO:+0800
TZNAME:HKT
DTSTART:20180101T000000
END:STANDARD
END:VTIMEZONE
BEGIN:VEVENT
DTSTART;VALUE=DATE:20191220
DTEND;VALUE=DATE:20200302
DTSTAMP:20260421T073716
CREATED:19170811T054537Z
LAST-MODIFIED:20191126T110813Z
UID:10003256-1576800000-1583107199@www.bcmagazine.net
SUMMARY:Banksy: Genius or Vandal?
DESCRIPTION:Banksy: Genius or Vandal?\nDate: 11am\, 20 December\, 2019 – 1 March\, 2020\nVenue: Portal 6311\nTickets: $210\, $180
URL:https://www.bcmagazine.net/event/banksy-genius-or-vandal-hong-kong/
LOCATION:Portal 6311\, 1/F\, FTLife Tower\, 18 Sheung Yuet Road\,\, Kowloon Bay\, Hong Kong
CATEGORIES:2019,Concert,DJ,Music,Performing Arts
END:VEVENT
BEGIN:VEVENT
DTSTART;TZID=Asia/Hong_Kong:20200303T193000
DTEND;TZID=Asia/Hong_Kong:20200303T193000
DTSTAMP:20260421T073716
CREATED:20200213T145036Z
LAST-MODIFIED:20200214T170533Z
UID:10006613-1583263800-1583263800@www.bcmagazine.net
SUMMARY:Pixies - Cancelled
DESCRIPTION:Pixies\nDate: 7:30pm\, 3 March\, 2020\nVenue: Kitec\, Rotunda 2\nTickets: $590 from Ticketflap
URL:https://www.bcmagazine.net/event/pixies-hk-2020/
LOCATION:KITEC\, Rotunda 2\, Hong Kong
CATEGORIES:2020,Concert,Music,Performing Arts
GEO:22.396428;114.109497
END:VEVENT
BEGIN:VEVENT
DTSTART;TZID=Asia/Hong_Kong:20200305T193000
DTEND;TZID=Asia/Hong_Kong:20200305T193000
DTSTAMP:20260421T073716
CREATED:19190711T044512Z
LAST-MODIFIED:20191219T012310Z
UID:10004857-1583436600-1583436600@www.bcmagazine.net
SUMMARY:Omar Apollo
DESCRIPTION:Omar Apollo\nDate: 7:30pm\, 5 March\, 2020\nVenue: This Town Needs (TTN)\nTickets: $410 from Ticketflap
URL:https://www.bcmagazine.net/event/omar-apollo-hk-2020/
LOCATION:This Town Needs (TTN)\, 1/F Ocean One\, 6 Shung Shun Street\, Yau Tong\, Hong Kong
CATEGORIES:2020,Concert,Music,Performing Arts
ATTACH;FMTTYPE=image/jpeg:https://www.bcmagazine.net/wp-content/uploads/1919/07/omar-apollo-hk-2020.jpg
GEO:22.292861;114.23782
X-APPLE-STRUCTURED-LOCATION;VALUE=URI;X-ADDRESS=This Town Needs (TTN) 1/F Ocean One 6 Shung Shun Street Yau Tong Hong Kong;X-APPLE-RADIUS=500;X-TITLE=1/F Ocean One\, 6 Shung Shun Street:geo:114.23782,22.292861
END:VEVENT
BEGIN:VEVENT
DTSTART;TZID=Asia/Hong_Kong:20200306T193000
DTEND;TZID=Asia/Hong_Kong:20200306T193000
DTSTAMP:20260421T073716
CREATED:19180802T094055Z
LAST-MODIFIED:20191219T032919Z
UID:10004369-1583523000-1583523000@www.bcmagazine.net
SUMMARY:Bruno Major
DESCRIPTION:Bruno Major\nDate: 7:30pm\, 6 March\, 2020\nVenue: This Town Needs (TTN)\nTickets: $360 from Ticketflap
URL:https://www.bcmagazine.net/event/bruno-major-2020/
LOCATION:This Town Needs (TTN)\, 1/F Ocean One\, 6 Shung Shun Street\, Yau Tong\, Hong Kong
CATEGORIES:2020,Concert,Music,Performing Arts
ATTACH;FMTTYPE=image/jpeg:https://www.bcmagazine.net/wp-content/uploads/1918/08/Bruno-Major-hk-2020.jpg
GEO:22.292861;114.23782
X-APPLE-STRUCTURED-LOCATION;VALUE=URI;X-ADDRESS=This Town Needs (TTN) 1/F Ocean One 6 Shung Shun Street Yau Tong Hong Kong;X-APPLE-RADIUS=500;X-TITLE=1/F Ocean One\, 6 Shung Shun Street:geo:114.23782,22.292861
END:VEVENT
BEGIN:VEVENT
DTSTART;TZID=Asia/Hong_Kong:20200307T200000
DTEND;TZID=Asia/Hong_Kong:20200307T200000
DTSTAMP:20260421T073716
CREATED:20200229T024216Z
LAST-MODIFIED:20200229T163524Z
UID:10006618-1583611200-1583611200@www.bcmagazine.net
SUMMARY:TYNT + Thud - (Not Cancelled)
DESCRIPTION:TYNT + Thud – (Not Cancelled)\nDate: 8pm\, 7 March\, 2020\nVenue: MOM Livehouse\nTickets: $200
URL:https://www.bcmagazine.net/event/tynt-thud-not-cancelled/
LOCATION:MOM Livehouse\, B39 Seven Seas Shopping Centre\, 117-121 Kings Road\, North Point\, Hong Kong
CATEGORIES:2020,Concert,Music,Performing Arts
ATTACH;FMTTYPE=image/jpeg:https://www.bcmagazine.net/wp-content/uploads/2020/02/Not-Cancelled_Original-2020.jpg
GEO:22.2884683;114.192803
X-APPLE-STRUCTURED-LOCATION;VALUE=URI;X-ADDRESS=MOM Livehouse B39 Seven Seas Shopping Centre 117-121 Kings Road North Point Hong Kong;X-APPLE-RADIUS=500;X-TITLE=B39 Seven Seas Shopping Centre\, 117-121 Kings Road:geo:114.192803,22.2884683
END:VEVENT
BEGIN:VEVENT
DTSTART;TZID=Asia/Hong_Kong:20200310T200000
DTEND;TZID=Asia/Hong_Kong:20200310T200000
DTSTAMP:20260421T073716
CREATED:19190711T044512Z
LAST-MODIFIED:20191219T013406Z
UID:10004859-1583870400-1583870400@www.bcmagazine.net
SUMMARY:Fat White Family
DESCRIPTION:Fat White Family\nDate: 8pm\, 10 March\, 2020\nVenue: This Town Needs (TTN)\nTickets: $460\, $360 (advance) from Ticketflap
URL:https://www.bcmagazine.net/event/fat-white-family-hk-2020/
LOCATION:This Town Needs (TTN)\, 1/F Ocean One\, 6 Shung Shun Street\, Yau Tong\, Hong Kong
CATEGORIES:2020,Concert,Music,Performing Arts
ATTACH;FMTTYPE=image/jpeg:https://www.bcmagazine.net/wp-content/uploads/1919/07/fat-white-family.jpg
GEO:22.292861;114.23782
X-APPLE-STRUCTURED-LOCATION;VALUE=URI;X-ADDRESS=This Town Needs (TTN) 1/F Ocean One 6 Shung Shun Street Yau Tong Hong Kong;X-APPLE-RADIUS=500;X-TITLE=1/F Ocean One\, 6 Shung Shun Street:geo:114.23782,22.292861
END:VEVENT
BEGIN:VEVENT
DTSTART;TZID=Asia/Hong_Kong:20200318T200000
DTEND;TZID=Asia/Hong_Kong:20200318T200000
DTSTAMP:20260421T073717
CREATED:19190711T044512Z
LAST-MODIFIED:20200304T045328Z
UID:10004856-1584561600-1584561600@www.bcmagazine.net
SUMMARY:YungBlud - Cancelled
DESCRIPTION:YungBlud – Twisted Tales of the Ritalin\nDate: 8pm\, 18 March\, 2020\nVenue: This Town Needs (TTN)\nTickets: $420\, $380 (advance) from Ticketflap
URL:https://www.bcmagazine.net/event/yungblud-2020/
LOCATION:This Town Needs (TTN)\, 1/F Ocean One\, 6 Shung Shun Street\, Yau Tong\, Hong Kong
CATEGORIES:2020,Cancelled,Concert,Music,Performing Arts
ATTACH;FMTTYPE=image/jpeg:https://www.bcmagazine.net/wp-content/uploads/2019/07/yungblud-hk-2020.jpg
GEO:22.292861;114.23782
X-APPLE-STRUCTURED-LOCATION;VALUE=URI;X-ADDRESS=This Town Needs (TTN) 1/F Ocean One 6 Shung Shun Street Yau Tong Hong Kong;X-APPLE-RADIUS=500;X-TITLE=1/F Ocean One\, 6 Shung Shun Street:geo:114.23782,22.292861
END:VEVENT
BEGIN:VEVENT
DTSTART;TZID=Asia/Hong_Kong:20200318T200000
DTEND;TZID=Asia/Hong_Kong:20200318T200000
DTSTAMP:20260421T073717
CREATED:20200225T044512Z
LAST-MODIFIED:20200228T022459Z
UID:10006616-1584561600-1584561600@www.bcmagazine.net
SUMMARY:Marilyn Manson - Cancelled
DESCRIPTION:Marilyn Manson\nDate: 8pm\, 18 March\, 2020\nVenue: Hall 10\, AsiaWorld Expo\nTickets: $898 from HKTicketing
URL:https://www.bcmagazine.net/event/marilyn-manson-2020/
LOCATION:AsiaWorld-Expo\, Hall 10\, Cheong Wing Road\, Chek Lap Kok\, Lantau\, Hong Kong
CATEGORIES:2020,Cancelled,Concert,Music,Performing Arts
GEO:22.3217383;113.9402012
X-APPLE-STRUCTURED-LOCATION;VALUE=URI;X-ADDRESS=AsiaWorld-Expo Hall 10 Cheong Wing Road Chek Lap Kok Lantau Hong Kong;X-APPLE-RADIUS=500;X-TITLE=Cheong Wing Road\, Chek Lap Kok:geo:113.9402012,22.3217383
END:VEVENT
BEGIN:VEVENT
DTSTART;VALUE=DATE:20200319
DTEND;VALUE=DATE:20200322
DTSTAMP:20260421T073717
CREATED:19170912T061746Z
LAST-MODIFIED:20200209T021806Z
UID:10003474-1584576000-1584835199@www.bcmagazine.net
SUMMARY:Art Basel - Cancelled
DESCRIPTION:Art Basel\nDate: 19-21 March 2020\nVenue: HK Convention and Exhibition Centre\nTickets: $950-$150 from HKTicketing\nMore info:\n19 March: 1-8pm\n20 March: 1-8pm\n21 March: 11am-6pm
URL:https://www.bcmagazine.net/event/art-basel-2020/
LOCATION:HK Convention and Exhibition Centre\, 1 Expo Drive\, Wanchai\, Hong Kong
CATEGORIES:2020,Art Gallery,Exhibition
END:VEVENT
BEGIN:VEVENT
DTSTART;VALUE=DATE:20200324
DTEND;VALUE=DATE:20200407
DTSTAMP:20260421T073717
CREATED:19160223T063818Z
LAST-MODIFIED:20200610T075022Z
UID:10000360-1585008000-1586217599@www.bcmagazine.net
SUMMARY:44th Hong Kong International Film Festival - Postponed
DESCRIPTION:44th Hong Kong International Film Festival\nDate: 24 March – 6 April\, 2020\nVenue: various\nTickets: tbc
URL:https://www.bcmagazine.net/event/hong-kong-international-film-festival-2020/
CATEGORIES:2020,Film,Performing Arts
ATTACH;FMTTYPE=image/jpeg:https://www.bcmagazine.net/wp-content/uploads/1916/02/hkiff44-2020.jpg
END:VEVENT
BEGIN:VEVENT
DTSTART;TZID=Asia/Hong_Kong:20200324T194500
DTEND;TZID=Asia/Hong_Kong:20200324T200000
DTSTAMP:20260421T073717
CREATED:19180802T094055Z
LAST-MODIFIED:20191231T054627Z
UID:10004385-1585079100-1585080000@www.bcmagazine.net
SUMMARY:We Are With You
DESCRIPTION:We Are With You – Hearing is Healing\nDate: 7:45pm\, 24-25 March\, 2020\nVenue: MacPherson Stadium\nTickets: $980\, $380\, $180 from Cityline
URL:https://www.bcmagazine.net/event/we-are-with-you-24-03-2020-hk/
LOCATION:MacPherson Stadium\, 38 Nelson Street\, Mongkok\, Hong Kong
CATEGORIES:2020,Concert,Music,Performing Arts
GEO:22.3188457;114.1728403
X-APPLE-STRUCTURED-LOCATION;VALUE=URI;X-ADDRESS=MacPherson Stadium 38 Nelson Street Mongkok Hong Kong;X-APPLE-RADIUS=500;X-TITLE=38 Nelson Street:geo:114.1728403,22.3188457
END:VEVENT
BEGIN:VEVENT
DTSTART;TZID=Asia/Hong_Kong:20200325T194500
DTEND;TZID=Asia/Hong_Kong:20200325T200000
DTSTAMP:20260421T073717
CREATED:19180802T094055Z
LAST-MODIFIED:20191231T054652Z
UID:10004387-1585165500-1585166400@www.bcmagazine.net
SUMMARY:We Are With You
DESCRIPTION:We Are With You – Hearing is Healing\nDate: 7:45pm\, 24-25 March\, 2020\nVenue: MacPherson Stadium\nTickets: $980\, $380\, $180 from Cityline
URL:https://www.bcmagazine.net/event/we-are-with-you-25-03-2020-hk/
LOCATION:MacPherson Stadium\, 38 Nelson Street\, Mongkok\, Hong Kong
CATEGORIES:2020,Concert,Music,Performing Arts
GEO:22.3188457;114.1728403
X-APPLE-STRUCTURED-LOCATION;VALUE=URI;X-ADDRESS=MacPherson Stadium 38 Nelson Street Mongkok Hong Kong;X-APPLE-RADIUS=500;X-TITLE=38 Nelson Street:geo:114.1728403,22.3188457
END:VEVENT
BEGIN:VEVENT
DTSTART;TZID=Asia/Hong_Kong:20200328T120000
DTEND;TZID=Asia/Hong_Kong:20200328T120000
DTSTAMP:20260421T073717
CREATED:19190212T044512Z
LAST-MODIFIED:20191219T020912Z
UID:10004730-1585396800-1585396800@www.bcmagazine.net
SUMMARY:Sónar Hong Kong 2020
DESCRIPTION:Sónar Hong Kong 2020\nDate: Noon\, 28 March\, 2020\nVenue: Hong Kong Science park\nTickets: $880\, $680 from Ticketflap
URL:https://www.bcmagazine.net/event/sonar-hong-kong-2020/
LOCATION:HK Science Park\, Hong Kong
CATEGORIES:2020,Concert,DJ,Music,Performing Arts
ATTACH;FMTTYPE=image/jpeg:https://www.bcmagazine.net/wp-content/uploads/1919/02/sonar-hk-2020.jpg
GEO:22.396428;114.109497
END:VEVENT
BEGIN:VEVENT
DTSTART;TZID=Asia/Hong_Kong:20200328T190000
DTEND;TZID=Asia/Hong_Kong:20200328T190000
DTSTAMP:20260421T073717
CREATED:20200213T063849Z
LAST-MODIFIED:20200214T171358Z
UID:10006612-1585422000-1585422000@www.bcmagazine.net
SUMMARY:APink - Cancelled
DESCRIPTION:APink – Pink World\nDate: 7pm\, 28 March\, 2020\nVenue: AsiaWorld Expo\, Hall 10\nTickets: $1\,888\, $1\,388\, $1\,088\, $788\, $588 from Cityline
URL:https://www.bcmagazine.net/event/apink-2020/
LOCATION:AsiaWorld-Expo\, Hall 10\, Cheong Wing Road\, Chek Lap Kok\, Lantau\, Hong Kong
CATEGORIES:2020,Concert,Music,Performing Arts
ATTACH;FMTTYPE=image/jpeg:https://www.bcmagazine.net/wp-content/uploads/1917/07/Apink_HK2020_A3_final-s.jpg
GEO:22.3217383;113.9402012
X-APPLE-STRUCTURED-LOCATION;VALUE=URI;X-ADDRESS=AsiaWorld-Expo Hall 10 Cheong Wing Road Chek Lap Kok Lantau Hong Kong;X-APPLE-RADIUS=500;X-TITLE=Cheong Wing Road\, Chek Lap Kok:geo:113.9402012,22.3217383
END:VEVENT
END:VCALENDAR