BEGIN:VCALENDAR
VERSION:2.0
PRODID:-//bc magazine - ECPv6.15.20//NONSGML v1.0//EN
CALSCALE:GREGORIAN
METHOD:PUBLISH
X-ORIGINAL-URL:https://www.bcmagazine.net
X-WR-CALDESC:Events for bc magazine
REFRESH-INTERVAL;VALUE=DURATION:PT1H
X-Robots-Tag:noindex
X-PUBLISHED-TTL:PT1H
BEGIN:VTIMEZONE
TZID:Asia/Hong_Kong
BEGIN:STANDARD
TZOFFSETFROM:+0800
TZOFFSETTO:+0800
TZNAME:HKT
DTSTART:20190101T000000
END:STANDARD
END:VTIMEZONE
BEGIN:VEVENT
DTSTART;VALUE=DATE:20201023
DTEND;VALUE=DATE:20210311
DTSTAMP:20260421T150920
CREATED:20200905T075925Z
LAST-MODIFIED:20210301T082925Z
UID:10006632-1603411200-1615420799@www.bcmagazine.net
SUMMARY:Botticelli and His Times
DESCRIPTION:Botticelli and His Times – Masterworks from the Uffizi\nDate: 23 October\, 2020 – 3 March\, 2021\nVenue: Hong Kong Museum of Art\, The Special Gallery\nTickets: $30\, $21\, $15\nMore info:\nA cultural movement that grew out of Florence\, the Renaissance was a period in history when people rediscovered and developed a renewed interest in the classic Greek and Roman cultures. Humanist ideas were embraced in various fields such as philosophy\, art and scientific research\, with a focus on humanity\, exploration and the discovery of truth. \nThrough the display of over 40 precious works from The Uffizi Galleries and another institution\, this exhibition presents the humanist ideals pursued by artists at the time\, as reflected in their portraits and religious paintings. Drawing attention to the paintings by Sandro Botticelli\, the juxtaposition of other masters of the time such as Filippo Lippi\, further reveals the relationships between artists and patrons\, which also run parallel with the pivotal role of the Medici family and the literati group in the emergence of a new era in history.
URL:https://www.bcmagazine.net/event/botticelli-and-his-times-hkmoa-2020/
LOCATION:Hong Kong Museum of Art (HKMOA)\, 10 Salisbury Road\, Tsim Sha Tsui
CATEGORIES:2020,2021,Art Gallery,Exhibition,Free,Lifestyle,Other
ATTACH;FMTTYPE=image/jpeg:https://www.bcmagazine.net/wp-content/uploads/2019/09/madonna-and-child-Botticelli.jpg
END:VEVENT
BEGIN:VEVENT
DTSTART;VALUE=DATE:20201031
DTEND;VALUE=DATE:20201109
DTSTAMP:20260421T150920
CREATED:19200405T044512Z
LAST-MODIFIED:20201031T040245Z
UID:10004937-1604102400-1604879999@www.bcmagazine.net
SUMMARY:SurrealHK
DESCRIPTION:SurrealHK\nDate: 31 October – 8 November\, 2020\nVenue: 13A\, New Street\, Tai Ping Shan\nTickets: free\nMore info:\n12-7pm
URL:https://www.bcmagazine.net/event/surrealhk-exhibition-2020/
LOCATION:13A New Street\, 13 A New Street\, Tai Ping Shan
CATEGORIES:2020,Art Gallery,Exhibition,Free
ATTACH;FMTTYPE=image/jpeg:https://www.bcmagazine.net/wp-content/uploads/1920/04/122970687_1237291353312157_714702921537432647_o.jpg
END:VEVENT
BEGIN:VEVENT
DTSTART;TZID=Asia/Hong_Kong:20201101T193000
DTEND;TZID=Asia/Hong_Kong:20201101T193000
DTSTAMP:20260421T150920
CREATED:19200405T044512Z
LAST-MODIFIED:20200918T095018Z
UID:10004935-1604259000-1604259000@www.bcmagazine.net
SUMMARY:Don Quixote
DESCRIPTION:Don Quixote\nDate: 30 October – 1 November\, 2020\nVenue: HK Cultural Centre\, Grand Theatre\nTickets: $1\,000\, $680\, $480\, $280\, $140 from Urbtix\nMore info:\n30-31 Oct\, 1 Nov – 7:30pm\n30 Oct – 1 Nov – 2:30pm
URL:https://www.bcmagazine.net/event/don-quixote-01-11-2020/
LOCATION:HK Cultural Centre\, Grand Theatre\,\, 10 Salisbury Road\, Tsim Sha Tsui\, Hong Kong
CATEGORIES:2020,Ballet,Performing Arts
GEO:22.294318;114.171708
X-APPLE-STRUCTURED-LOCATION;VALUE=URI;X-ADDRESS=HK Cultural Centre Grand Theatre 10 Salisbury Road Tsim Sha Tsui Hong Kong;X-APPLE-RADIUS=500;X-TITLE=10 Salisbury Road:geo:114.171708,22.294318
END:VEVENT
BEGIN:VEVENT
DTSTART;TZID=Asia/Hong_Kong:20201101T193000
DTEND;TZID=Asia/Hong_Kong:20201101T193000
DTSTAMP:20260421T150920
CREATED:20200901T084823Z
LAST-MODIFIED:20201112T093352Z
UID:10006631-1604259000-1604259000@www.bcmagazine.net
SUMMARY:Pink Dot Hong Kong
DESCRIPTION:Pink Dot Hong Kong\nDate: 1 November\, 2020\nVenue: Various\nTickets: Free
URL:https://www.bcmagazine.net/event/pink-dot-hong-kong/
LOCATION:Online\, Hong Kong
CATEGORIES:2020,Charity,Free,LGBT
ATTACH;FMTTYPE=image/jpeg:https://www.bcmagazine.net/wp-content/uploads/2018/09/pink-dot-2020.jpg
END:VEVENT
BEGIN:VEVENT
DTSTART;VALUE=DATE:20201103
DTEND;VALUE=DATE:20201123
DTSTAMP:20260421T150920
CREATED:20201021T075302Z
LAST-MODIFIED:20201021T181741Z
UID:10006639-1604361600-1606089599@www.bcmagazine.net
SUMMARY:Hong Kong Asian Film Festival
DESCRIPTION:17th Hong Kong Asian Film Festival\nDate: 3-22 November\, 2020\nVenues: Broadway Cinematheque\, Broadway The One\, My Cinema Yoho Mall\, AMC Pacific Place\, Palace IFC\, Movie Movie Citiplaza\, Premiere Elements\nTickets: www.cinema.com.hk
URL:https://www.bcmagazine.net/event/hong-kong-asian-film-festival-2020/
CATEGORIES:2020,Cultural Festival,Film,Performing Arts
ATTACH;FMTTYPE=image/jpeg:https://www.bcmagazine.net/wp-content/uploads/1919/10/HKAFF2020_KV-poster.jpg
END:VEVENT
BEGIN:VEVENT
DTSTART;VALUE=DATE:20201105
DTEND;VALUE=DATE:20201116
DTSTAMP:20260421T150920
CREATED:20150915T025116Z
LAST-MODIFIED:20200826T092546Z
UID:10005076-1604534400-1605484799@www.bcmagazine.net
SUMMARY:Hong Kong International Literary Festival
DESCRIPTION:The Twentieth Hong Kong International Literary Festival takes place from 5-15 November with \nHong Kong International Literary Festival\nDate: 5-15 November\, 2020\nVenue: various\nTickets: various\nMore info:\nfor the full festival schedule www.festival.org.hk/programmes/
URL:https://www.bcmagazine.net/event/hong-kong-international-literary-festival-hkilf-2020/
CATEGORIES:2020,Cultural Festival,Performing Arts
END:VEVENT
BEGIN:VEVENT
DTSTART;VALUE=DATE:20201106
DTEND;VALUE=DATE:20201109
DTSTAMP:20260421T150920
CREATED:20201014T031525Z
LAST-MODIFIED:20201014T042458Z
UID:10006634-1604620800-1604879999@www.bcmagazine.net
SUMMARY:Freespace Jazz Fest
DESCRIPTION:Freespace Jazz Fest\nTed Lo\, Eugene Pao\, Patrick Lui Jazz Orchestra\, Angelita Li\nDate: 6-8 November\, 2020\nVenue: West Kowloon Cultural District\, Freespace and Art Park\nTickets: $400\, $280\, $250\, Free
URL:https://www.bcmagazine.net/event/freespace-jazz-fest-2020/
LOCATION:West Kowloon Culture District\, West Kowloon Waterfront Promenade\, Hong Kong
CATEGORIES:2020,Concert,Free,Jazz,Music,Performing Arts
ATTACH;FMTTYPE=image/jpeg:https://www.bcmagazine.net/wp-content/uploads/1916/04/jazzfest-2020.jpg
GEO:22.302243;114.155596
X-APPLE-STRUCTURED-LOCATION;VALUE=URI;X-ADDRESS=West Kowloon Culture District West Kowloon Waterfront Promenade Hong Kong;X-APPLE-RADIUS=500;X-TITLE=West Kowloon Waterfront Promenade:geo:114.155596,22.302243
END:VEVENT
BEGIN:VEVENT
DTSTART;VALUE=DATE:20201106
DTEND;VALUE=DATE:20201117
DTSTAMP:20260421T150920
CREATED:20201103T093057Z
LAST-MODIFIED:20201105T112642Z
UID:10006642-1604620800-1605571199@www.bcmagazine.net
SUMMARY:Novembre Numérique
DESCRIPTION:4th Novembre Numérique\nConsulate General of France in Hong Kong and Macau\nDate: 6-16 November\, 2020\nVenue: HK Space Museum\nTickets: Free\nMore info:\nhttps://hongkong.consulfrance.org/Digital-November-2020-Novembre-Numerique-Univers-e-is-landing-in-Hong-Kong
URL:https://www.bcmagazine.net/event/novembre-numerique-2020/
LOCATION:Hong Kong Space Museum\, 10 Salisbury Road\, Tsim Sha Tsui\, Hong Kong
CATEGORIES:2020,Art Gallery,Cultural Festival,Exhibition,Film,Free,Lifestyle
ATTACH;FMTTYPE=image/png:https://www.bcmagazine.net/wp-content/uploads/1917/08/french-digital-hk-2020.png
END:VEVENT
BEGIN:VEVENT
DTSTART;VALUE=DATE:20201107
DTEND;VALUE=DATE:20201108
DTSTAMP:20260421T150920
CREATED:19180721T074637Z
LAST-MODIFIED:20200819T130339Z
UID:10004349-1604707200-1604793599@www.bcmagazine.net
SUMMARY:Cyclothon - Cancelled
DESCRIPTION:Cyclothon\nDate: November\, 2020\nVenue: Tsing Ma Bridge\nTickets: Free by registration http://register.hongkongcyclothon.com
URL:https://www.bcmagazine.net/event/cyclothon-2020/
CATEGORIES:2020,Cycling,Free,Sport
END:VEVENT
BEGIN:VEVENT
DTSTART;TZID=Asia/Hong_Kong:20201110T193000
DTEND;TZID=Asia/Hong_Kong:20201110T193000
DTSTAMP:20260421T150920
CREATED:19170810T093057Z
LAST-MODIFIED:20201103T114033Z
UID:10003207-1605036600-1605036600@www.bcmagazine.net
SUMMARY:The Marriage of Figaro
DESCRIPTION:The Marriage of Figaro (Le Nozze di Figaro)\nOpera Hong Kong\nDate: 7:30pm\, 10-11 November\, 2020\nVenue: HK Cultural Centre\, Concert Hall\nTickets: $480\, $380\, $280\, $100 from Urbtix\nMore info:\nIn Italian with Chinese and English surtitles
URL:https://www.bcmagazine.net/event/the-marriage-of-figaro-10-11-2020/
LOCATION:HK Cultural Centre\, Concert Hall\, 10 Salisbury Road\, Tsim Sha Tsui\, Hong Kong
CATEGORIES:2020,Concert,Music,Opera,Performing Arts
ATTACH;FMTTYPE=image/jpeg:https://www.bcmagazine.net/wp-content/uploads/1917/08/Figaro_1000x460.jpg
GEO:22.294318;114.171708
X-APPLE-STRUCTURED-LOCATION;VALUE=URI;X-ADDRESS=HK Cultural Centre Concert Hall 10 Salisbury Road Tsim Sha Tsui Hong Kong;X-APPLE-RADIUS=500;X-TITLE=10 Salisbury Road:geo:114.171708,22.294318
END:VEVENT
BEGIN:VEVENT
DTSTART;VALUE=DATE:20201111
DTEND;VALUE=DATE:20201114
DTSTAMP:20260421T150920
CREATED:19190427T044512Z
LAST-MODIFIED:20200921T125153Z
UID:10004841-1605052800-1605311999@www.bcmagazine.net
SUMMARY:Restaurant & Bar Hong Kong
DESCRIPTION:Restaurant & Bar Hong Kong + Gourmet Asia\nDate: 11-13 November\, 2020\nVenue: HK Convention & Exhibition Centre\nTickets: tbc
URL:https://www.bcmagazine.net/event/restaurant-bar-hong-kong-2020/
LOCATION:HK Convention and Exhibition Centre\, 1 Expo Drive\, Wanchai\, Hong Kong
CATEGORIES:2020,Food,Lifestyle,Nightlife
END:VEVENT
BEGIN:VEVENT
DTSTART;VALUE=DATE:20201111
DTEND;VALUE=DATE:20201216
DTSTAMP:20260421T150920
CREATED:20201023T073117Z
LAST-MODIFIED:20201026T143622Z
UID:10006640-1605052800-1608076799@www.bcmagazine.net
SUMMARY:Wine & Dine Festival 2020
DESCRIPTION:Wine & Dine Festival 2020\nDate: 11 November – 15 December\, 2020\nVenue: Online + Offline\nTickets: various
URL:https://www.bcmagazine.net/event/wine-dine-festival-2020/
LOCATION:Online\, Hong Kong
CATEGORIES:2020,Food,Nightlife
ATTACH;FMTTYPE=image/jpeg:https://www.bcmagazine.net/wp-content/uploads/1916/10/hktb-wine-and-dine-2020.jpg
END:VEVENT
BEGIN:VEVENT
DTSTART;TZID=Asia/Hong_Kong:20201111T173000
DTEND;TZID=Asia/Hong_Kong:20201111T173000
DTSTAMP:20260421T150920
CREATED:20201108T084247Z
LAST-MODIFIED:20201109T023649Z
UID:10006644-1605115800-1605115800@www.bcmagazine.net
SUMMARY:Bounce Hong Kong Music Festival
DESCRIPTION:Bounce Hong Kong Music Festival\nTomii Chan\, Lili Forest\, Lester Lam + Moon Tang\, Beat Friday / INK\nDate: 5:30pm\, 11 November\, 2020\nVenue: HK Observation Wheel\, Vitality Park\nTickets: $640\, $320
URL:https://www.bcmagazine.net/event/bounce-hong-kong-music-festival-2020/
LOCATION:Hong Kong Observation Wheel\, 33 Man Kwong Street\, Central\, Hong Kong
CATEGORIES:2020,Cantopop,Concert,Music,Nightlife,Performing Arts
ATTACH;FMTTYPE=image/png:https://www.bcmagazine.net/wp-content/uploads/2020/11/bounce-music-festival-2020.png
END:VEVENT
BEGIN:VEVENT
DTSTART;TZID=Asia/Hong_Kong:20201111T193000
DTEND;TZID=Asia/Hong_Kong:20201111T193000
DTSTAMP:20260421T150920
CREATED:20201020T093057Z
LAST-MODIFIED:20201103T114012Z
UID:10006638-1605123000-1605123000@www.bcmagazine.net
SUMMARY:The Marriage of Figaro
DESCRIPTION:The Marriage of Figaro (Le Nozze di Figaro)\nOpera Hong Kong\nDate: 7:30pm\, 10-11 November\, 2020\nVenue: HK Cultural Centre\, Concert Hall\nTickets: $480\, $380\, $280\, $100 from Urbtix\nMore info:\nIn Italian with Chinese and English surtitles
URL:https://www.bcmagazine.net/event/the-marriage-of-figaro-11-11-2020/
LOCATION:HK Cultural Centre\, Concert Hall\, 10 Salisbury Road\, Tsim Sha Tsui\, Hong Kong
CATEGORIES:2020,Concert,Music,Opera,Performing Arts
ATTACH;FMTTYPE=image/jpeg:https://www.bcmagazine.net/wp-content/uploads/1917/08/Figaro_1000x460.jpg
GEO:22.294318;114.171708
X-APPLE-STRUCTURED-LOCATION;VALUE=URI;X-ADDRESS=HK Cultural Centre Concert Hall 10 Salisbury Road Tsim Sha Tsui Hong Kong;X-APPLE-RADIUS=500;X-TITLE=10 Salisbury Road:geo:114.171708,22.294318
END:VEVENT
BEGIN:VEVENT
DTSTART;TZID=Asia/Hong_Kong:20201113T193000
DTEND;TZID=Asia/Hong_Kong:20201113T193000
DTSTAMP:20260421T150920
CREATED:19200405T044512Z
LAST-MODIFIED:20201102T145738Z
UID:10004938-1605295800-1605295800@www.bcmagazine.net
SUMMARY:The Tempest
DESCRIPTION:The Tempest\nAlice Theatre Laboratory Limited\nDate: 13-15 November\, 2020\nVenue: HK Arts Centre\, Shouson Theatre\nTickets: $350\, $300\, $250 from Urbtix\nMore info:\nIn Chinese with English and Chinese subtitles\n13-14 Nov – 7:30pm\n15-15 Nov – 2:30pm
URL:https://www.bcmagazine.net/event/the-tempest-13-11-2020/
LOCATION:HK Arts Centre\, Shouson Theatre\, 2 Harbour Road\, Wanchai\, Hong Kong
CATEGORIES:2020,Cantonese drama,Performing Arts
ATTACH;FMTTYPE=image/jpeg:https://www.bcmagazine.net/wp-content/uploads/1920/04/the-tempest-alice-theatre-lab.jpg
GEO:22.280173;114.1708144
X-APPLE-STRUCTURED-LOCATION;VALUE=URI;X-ADDRESS=HK Arts Centre Shouson Theatre 2 Harbour Road Wanchai Hong Kong;X-APPLE-RADIUS=500;X-TITLE=2 Harbour Road:geo:114.1708144,22.280173
END:VEVENT
BEGIN:VEVENT
DTSTART;VALUE=DATE:20201114
DTEND;VALUE=DATE:20201130
DTSTAMP:20260421T150921
CREATED:20201017T034205Z
LAST-MODIFIED:20201019T091235Z
UID:10006636-1605312000-1606694399@www.bcmagazine.net
SUMMARY:Hong Kong Jewish Film Festival
DESCRIPTION:Twenty First Hong Kong Jewish Film Festival\nDate: 14-29 November\, 2020\nVenue: Digital Streaming\nTickets: $80\nMore info: www.hkjff.org
URL:https://www.bcmagazine.net/event/hong-kong-jewish-film-festival-2020/
LOCATION:online
CATEGORIES:2020,Cultural Festival,Film,Performing Arts
ATTACH;FMTTYPE=image/jpeg:https://www.bcmagazine.net/wp-content/uploads/1915/09/hkjff2020.jpg
END:VEVENT
BEGIN:VEVENT
DTSTART;TZID=Asia/Hong_Kong:20201114T130000
DTEND;TZID=Asia/Hong_Kong:20201114T130000
DTSTAMP:20260421T150921
CREATED:19170916T105728Z
LAST-MODIFIED:20201110T114452Z
UID:10003480-1605358800-1605358800@www.bcmagazine.net
SUMMARY:Hong Kong Pride Parade 2020
DESCRIPTION:Hong Kong Pride Parade 2020\nDate: 1pm\, 14 November\, 2020\nVenue: online\nTickets: Free
URL:https://www.bcmagazine.net/event/hong-kong-pride-parade-2020/
LOCATION:Online\, Hong Kong
CATEGORIES:2020,Free,LGBT,Lifestyle
ATTACH;FMTTYPE=image/jpeg:https://www.bcmagazine.net/wp-content/uploads/1917/09/hk-pride-2020.jpg
END:VEVENT
BEGIN:VEVENT
DTSTART;TZID=Asia/Hong_Kong:20201114T193000
DTEND;TZID=Asia/Hong_Kong:20201114T193000
DTSTAMP:20260421T150921
CREATED:19200405T044512Z
LAST-MODIFIED:20201102T145910Z
UID:10004939-1605382200-1605382200@www.bcmagazine.net
SUMMARY:The Tempest
DESCRIPTION:The Tempest\nAlice Theatre Laboratory Limited\nDate: 13-15 November\, 2020\nVenue: HK Arts Centre\, Shouson Theatre\nTickets: $350\, $300\, $250 from Urbtix\nMore info:\nIn Chinese with English and Chinese subtitles\n13-14 Nov – 7:30pm\n15-15 Nov – 2:30pm
URL:https://www.bcmagazine.net/event/the-tempest-14-11-2020/
LOCATION:HK Arts Centre\, Shouson Theatre\, 2 Harbour Road\, Wanchai\, Hong Kong
CATEGORIES:2020,Cantonese drama,Performing Arts
ATTACH;FMTTYPE=image/jpeg:https://www.bcmagazine.net/wp-content/uploads/1920/04/the-tempest-alice-theatre-lab.jpg
GEO:22.280173;114.1708144
X-APPLE-STRUCTURED-LOCATION;VALUE=URI;X-ADDRESS=HK Arts Centre Shouson Theatre 2 Harbour Road Wanchai Hong Kong;X-APPLE-RADIUS=500;X-TITLE=2 Harbour Road:geo:114.1708144,22.280173
END:VEVENT
BEGIN:VEVENT
DTSTART;TZID=Asia/Hong_Kong:20201115T143000
DTEND;TZID=Asia/Hong_Kong:20201115T143000
DTSTAMP:20260421T150921
CREATED:19200405T044512Z
LAST-MODIFIED:20201102T145903Z
UID:10004940-1605450600-1605450600@www.bcmagazine.net
SUMMARY:The Tempest
DESCRIPTION:The Tempest\nAlice Theatre Laboratory Limited\nDate: 13-15 November\, 2020\nVenue: HK Arts Centre\, Shouson Theatre\nTickets: $350\, $300\, $250 from Urbtix\nMore info:\nIn Chinese with English and Chinese subtitles\n13-14 Nov – 7:30pm\n15-15 Nov – 2:30pm
URL:https://www.bcmagazine.net/event/the-tempest-15-11-2020/
LOCATION:HK Arts Centre\, Shouson Theatre\, 2 Harbour Road\, Wanchai\, Hong Kong
CATEGORIES:2020,Cantonese drama,Performing Arts
ATTACH;FMTTYPE=image/jpeg:https://www.bcmagazine.net/wp-content/uploads/1920/04/the-tempest-alice-theatre-lab.jpg
GEO:22.280173;114.1708144
X-APPLE-STRUCTURED-LOCATION;VALUE=URI;X-ADDRESS=HK Arts Centre Shouson Theatre 2 Harbour Road Wanchai Hong Kong;X-APPLE-RADIUS=500;X-TITLE=2 Harbour Road:geo:114.1708144,22.280173
END:VEVENT
BEGIN:VEVENT
DTSTART;VALUE=DATE:20201120
DTEND;VALUE=DATE:20201123
DTSTAMP:20260421T150921
CREATED:20201106T084247Z
LAST-MODIFIED:20201107T084555Z
UID:10006643-1605830400-1606089599@www.bcmagazine.net
SUMMARY:67th Macau Grand Prix
DESCRIPTION:67th Macau Grand Prix\nDate: 20-22 November\, 2020\nVenue: Macau\nTickets: tbc
URL:https://www.bcmagazine.net/event/67th-macau-grand-prix/
LOCATION:Macau\, Macau
CATEGORIES:2020,Macau,Sport
ATTACH;FMTTYPE=image/png:https://www.bcmagazine.net/wp-content/uploads/2017/07/macau-grand-prix-2020.png
GEO:22.198745;113.543873
END:VEVENT
BEGIN:VEVENT
DTSTART;VALUE=DATE:20201125
DTEND;VALUE=DATE:20201216
DTSTAMP:20260421T150921
CREATED:20201102T023057Z
LAST-MODIFIED:20201105T113746Z
UID:10006641-1606262400-1608076799@www.bcmagazine.net
SUMMARY:49th Hong Kong French Film Festival
DESCRIPTION:49th Hong Kong French Film Festival\nDate: 25 November – 15 December\, 2020\nVenue: Various cinema and online\nTickets: various\nMore info:\nwww.hkfrenchfilmfestival.com
URL:https://www.bcmagazine.net/event/49th-hong-kong-french-film-festival/
CATEGORIES:2020,Cultural Festival,Exhibition,Film,Performing Arts
ATTACH;FMTTYPE=image/jpeg:https://www.bcmagazine.net/wp-content/uploads/2020/11/49-french-film-fest-2020.jpg
END:VEVENT
END:VCALENDAR