BEGIN:VCALENDAR
VERSION:2.0
PRODID:-//bc magazine - ECPv6.15.20//NONSGML v1.0//EN
CALSCALE:GREGORIAN
METHOD:PUBLISH
X-ORIGINAL-URL:https://www.bcmagazine.net
X-WR-CALDESC:Events for bc magazine
REFRESH-INTERVAL;VALUE=DURATION:PT1H
X-Robots-Tag:noindex
X-PUBLISHED-TTL:PT1H
BEGIN:VTIMEZONE
TZID:Asia/Hong_Kong
BEGIN:STANDARD
TZOFFSETFROM:+0800
TZOFFSETTO:+0800
TZNAME:HKT
DTSTART:20200101T000000
END:STANDARD
END:VTIMEZONE
BEGIN:VEVENT
DTSTART;VALUE=DATE:20210518
DTEND;VALUE=DATE:20210613
DTSTAMP:20260421T204719
CREATED:19181104T041350Z
LAST-MODIFIED:20210504T041927Z
UID:10004569-1621296000-1623542399@www.bcmagazine.net
SUMMARY:Great Wines of World – Hong Kong\, Summer 2021
DESCRIPTION:Great Wines of World – Hong Kong\, Summer 2021\nJamesSuckling.com\nDate: 18 May – 12 June\, 2021\nVenue: James Suckling Wine Central\nTickets: various
URL:https://www.bcmagazine.net/event/great-wines-of-world-hong-kong-summer-2021/
LOCATION:James Suckling Wine Central\, 22 Staunton Street\, Central\, Hong Kong
CATEGORIES:2021,Food,Lifestyle
ATTACH;FMTTYPE=image/jpeg:https://www.bcmagazine.net/wp-content/uploads/1918/11/great-wines-summer-2021.jpeg
END:VEVENT
BEGIN:VEVENT
DTSTART;TZID=Asia/Hong_Kong:20210604T193000
DTEND;TZID=Asia/Hong_Kong:20210604T193000
DTSTAMP:20260421T204719
CREATED:19210409T085402Z
LAST-MODIFIED:20210504T152757Z
UID:10005097-1622835000-1622835000@www.bcmagazine.net
SUMMARY:Grand Xiqu
DESCRIPTION:Cantonese Opera\nGrand Xiqu\nDate: 7:30pm\, 4-5 June\, 2021\nVenue: HK Cultural Centre\, Grand Theatre\nTickets: $420\, $360\, $300\, $240\, $200 from Urbtix
URL:https://www.bcmagazine.net/event/grand-xiqu-2/2021-06-04/
LOCATION:HK Cultural Centre\, Grand Theatre\,\, 10 Salisbury Road\, Tsim Sha Tsui\, Hong Kong
CATEGORIES:2021,Cantonese drama,Concert,Music,Performing Arts
ATTACH;FMTTYPE=image/jpeg:https://www.bcmagazine.net/wp-content/uploads/2021/04/grand-xiqu-2021-2.jpeg
GEO:22.294318;114.171708
X-APPLE-STRUCTURED-LOCATION;VALUE=URI;X-ADDRESS=HK Cultural Centre Grand Theatre 10 Salisbury Road Tsim Sha Tsui Hong Kong;X-APPLE-RADIUS=500;X-TITLE=10 Salisbury Road:geo:114.171708,22.294318
END:VEVENT
BEGIN:VEVENT
DTSTART;TZID=Asia/Hong_Kong:20210604T200000
DTEND;TZID=Asia/Hong_Kong:20210604T200000
DTSTAMP:20260421T204719
CREATED:19210409T085402Z
LAST-MODIFIED:20210504T160839Z
UID:10005001-1622836800-1622836800@www.bcmagazine.net
SUMMARY:HK Chinese Orchestra x Liza Wang
DESCRIPTION:HK Chinese Orchestra – Liza Wang & HKCO 2021\nDate: 8pm\, 4-6 June\, 2021\nVenue: HK Cultural Centre\, Concert Hall\nTickets: $680\, $480\, $280 from Urbtix
URL:https://www.bcmagazine.net/event/hk-chinese-orchestra-x-liza-wang/2021-06-04/
LOCATION:HK Cultural Centre\, Concert Hall\, 10 Salisbury Road\, Tsim Sha Tsui\, Hong Kong
CATEGORIES:2021,Chinese opera,Concert,Music,Performing Arts,Theatre
ATTACH;FMTTYPE=image/png:https://www.bcmagazine.net/wp-content/uploads/1921/04/liza-wang.png
GEO:22.294318;114.171708
X-APPLE-STRUCTURED-LOCATION;VALUE=URI;X-ADDRESS=HK Cultural Centre Concert Hall 10 Salisbury Road Tsim Sha Tsui Hong Kong;X-APPLE-RADIUS=500;X-TITLE=10 Salisbury Road:geo:114.171708,22.294318
END:VEVENT
BEGIN:VEVENT
DTSTART;VALUE=DATE:20210605
DTEND;VALUE=DATE:20210606
DTSTAMP:20260421T204719
CREATED:19210409T085402Z
LAST-MODIFIED:20210504T163327Z
UID:10005131-1622851200-1622937599@www.bcmagazine.net
SUMMARY:HKIFF Cine Fan
DESCRIPTION:HKIFF Cine Fan\nDate: April- July\, 2021\nVenue: K11 Art House\nTickets: $85 from Urbtix
URL:https://www.bcmagazine.net/event/hkiff-cine-fan/2021-06-05/
LOCATION:K11 Art House Cinema\, 10 Salisbury Road\, Tsim Sha Tsui\, Hong Kong
CATEGORIES:2021,Cultural Festival,Film,Performing Arts
ATTACH;FMTTYPE=image/jpeg:https://www.bcmagazine.net/wp-content/uploads/1921/04/cinefan-2021.jpeg
END:VEVENT
BEGIN:VEVENT
DTSTART;TZID=Asia/Hong_Kong:20210605T080000
DTEND;TZID=Asia/Hong_Kong:20210606T020000
DTSTAMP:20260421T204719
CREATED:20210602T101812Z
LAST-MODIFIED:20210602T131821Z
UID:10006661-1622880000-1622944800@www.bcmagazine.net
SUMMARY:Haus of Circuit - Harness Ball
DESCRIPTION:HAUS OF CIRCUIT invites you to join us for our PRIDE month kick-off Party “HARNESS BALL”:\nDate: 8pm-2am\, 5 June 2021\nVenue: Lambda Lounge (108 Hollywood Road\, Sheung Wan\, Hong Kong)\nTheme: Harness or Pride Outfit \nEntry Fee –\nPre Sale: HK$150/- (Includes One Drink)\nAt Door: HK$150/- (No Drink Included)\nClick the link below to purchase the Pre-Sale tickets:\nhttps://wa.me/message/BXR7JJWDWSOCP1\nAll Pre-sale tickets are non refundable however they can be transferred to another guest name Incase of non attendance. \n*Enjoy 30% off ALL NIGHT LONG on all standard drinks including Prosecco. Plus 30% off for 3 or more bottles of Premium Spirits & Champagne purchased. (All prices are subject to 10% service charge.)\n*According to the current Social Distancing Rules\, All customers entering the venue MUST scan the ‘Leave Home Safe’ app and show proof that they have received at least 1st Vaccination prior to 5th June 2021. We encourage anyone who has not yet received their vaccine to get Vaccinated prior to the event. \nHaus of Circuit 邀請您加入我們的國際驕傲月啟動派對“HARNESS BALL”：\n日期：2021年6月5日\n時間：8.00pm ~ 2.00am\n地點：Lambda Lounge (香港上環荷李活道108號)\n主題：肩帶或驕傲節遊行著裝\n🎟 入場費：\n提前預購：HK$150/-（包括一杯特調雞尾酒）\n現場購票：HK$150/-（不含酒水）\n點擊以下鏈接購買預售票：\nhttps://wa.me/message/BXR7JJWDWSOCP1\n預售票一旦售出均不可退款，如果您無法參加，可以將其轉讓給其他人。\n整晚所有標準酒水，包括氣泡酒，均享有七折優惠。購買 3 瓶或更多瓶優質烈酒和香檳，也可享受七折。 （所有價格均需加收10%服務費。）\n根據現行的社交距離規定，所有進入場地的顧客必須掃描“安心出行”應用程序，並能够出示在 2021 年 6 月 5 日之前至少接種了第一次疫苗的相關證明。我們鼓勵尚未接種疫苗的顧客在活動之前接種疫苗。
URL:https://www.bcmagazine.net/event/haus-of-circuit-harness-ball/
LOCATION:Lambda Lounge\, 108 Hollywood Road\, Sheung Wan\, Hong Kong
CATEGORIES:2021,DJ,LGBT,Nightclub,Nightlife
ORGANIZER;CN="Lambda Lounge":MAILTO:info@lambda-lounge.com
END:VEVENT
BEGIN:VEVENT
DTSTART;TZID=Asia/Hong_Kong:20210605T193000
DTEND;TZID=Asia/Hong_Kong:20210605T193000
DTSTAMP:20260421T204719
CREATED:19210409T085402Z
LAST-MODIFIED:20210504T152757Z
UID:10005098-1622921400-1622921400@www.bcmagazine.net
SUMMARY:Grand Xiqu
DESCRIPTION:Cantonese Opera\nGrand Xiqu\nDate: 7:30pm\, 4-5 June\, 2021\nVenue: HK Cultural Centre\, Grand Theatre\nTickets: $420\, $360\, $300\, $240\, $200 from Urbtix
URL:https://www.bcmagazine.net/event/grand-xiqu-2/2021-06-05/
LOCATION:HK Cultural Centre\, Grand Theatre\,\, 10 Salisbury Road\, Tsim Sha Tsui\, Hong Kong
CATEGORIES:2021,Cantonese drama,Concert,Music,Performing Arts
ATTACH;FMTTYPE=image/jpeg:https://www.bcmagazine.net/wp-content/uploads/2021/04/grand-xiqu-2021-2.jpeg
GEO:22.294318;114.171708
X-APPLE-STRUCTURED-LOCATION;VALUE=URI;X-ADDRESS=HK Cultural Centre Grand Theatre 10 Salisbury Road Tsim Sha Tsui Hong Kong;X-APPLE-RADIUS=500;X-TITLE=10 Salisbury Road:geo:114.171708,22.294318
END:VEVENT
BEGIN:VEVENT
DTSTART;TZID=Asia/Hong_Kong:20210605T200000
DTEND;TZID=Asia/Hong_Kong:20210605T200000
DTSTAMP:20260421T204719
CREATED:19210409T085402Z
LAST-MODIFIED:20210504T160839Z
UID:10005002-1622923200-1622923200@www.bcmagazine.net
SUMMARY:HK Chinese Orchestra x Liza Wang
DESCRIPTION:HK Chinese Orchestra – Liza Wang & HKCO 2021\nDate: 8pm\, 4-6 June\, 2021\nVenue: HK Cultural Centre\, Concert Hall\nTickets: $680\, $480\, $280 from Urbtix
URL:https://www.bcmagazine.net/event/hk-chinese-orchestra-x-liza-wang/2021-06-05/
LOCATION:HK Cultural Centre\, Concert Hall\, 10 Salisbury Road\, Tsim Sha Tsui\, Hong Kong
CATEGORIES:2021,Chinese opera,Concert,Music,Performing Arts,Theatre
ATTACH;FMTTYPE=image/png:https://www.bcmagazine.net/wp-content/uploads/1921/04/liza-wang.png
GEO:22.294318;114.171708
X-APPLE-STRUCTURED-LOCATION;VALUE=URI;X-ADDRESS=HK Cultural Centre Concert Hall 10 Salisbury Road Tsim Sha Tsui Hong Kong;X-APPLE-RADIUS=500;X-TITLE=10 Salisbury Road:geo:114.171708,22.294318
END:VEVENT
BEGIN:VEVENT
DTSTART;VALUE=DATE:20210606
DTEND;VALUE=DATE:20210607
DTSTAMP:20260421T204719
CREATED:19210409T085402Z
LAST-MODIFIED:20210504T163327Z
UID:10005132-1622937600-1623023999@www.bcmagazine.net
SUMMARY:HKIFF Cine Fan
DESCRIPTION:HKIFF Cine Fan\nDate: April- July\, 2021\nVenue: K11 Art House\nTickets: $85 from Urbtix
URL:https://www.bcmagazine.net/event/hkiff-cine-fan/2021-06-06/
LOCATION:K11 Art House Cinema\, 10 Salisbury Road\, Tsim Sha Tsui\, Hong Kong
CATEGORIES:2021,Cultural Festival,Film,Performing Arts
ATTACH;FMTTYPE=image/jpeg:https://www.bcmagazine.net/wp-content/uploads/1921/04/cinefan-2021.jpeg
END:VEVENT
BEGIN:VEVENT
DTSTART;TZID=Asia/Hong_Kong:20210606T193000
DTEND;TZID=Asia/Hong_Kong:20210606T193000
DTSTAMP:20260421T204719
CREATED:20210409T085402Z
LAST-MODIFIED:20210504T152956Z
UID:10006655-1623007800-1623007800@www.bcmagazine.net
SUMMARY:Grand Xiqu
DESCRIPTION:Cantonese Opera\nGrand Xiqu\nDate: 7:30pm\, 6 June\, 2021\nVenue: HK Cultural Centre\, Grand Theatre\nTickets: $420\, $360\, $300\, $240\, $200 from Urbtix
URL:https://www.bcmagazine.net/event/grand-xiqu/
LOCATION:HK Cultural Centre\, Grand Theatre\,\, 10 Salisbury Road\, Tsim Sha Tsui\, Hong Kong
CATEGORIES:2021,Cantonese drama,Concert,Music,Performing Arts
ATTACH;FMTTYPE=image/jpeg:https://www.bcmagazine.net/wp-content/uploads/1921/05/grand-xiqu-2021.jpeg
GEO:22.294318;114.171708
X-APPLE-STRUCTURED-LOCATION;VALUE=URI;X-ADDRESS=HK Cultural Centre Grand Theatre 10 Salisbury Road Tsim Sha Tsui Hong Kong;X-APPLE-RADIUS=500;X-TITLE=10 Salisbury Road:geo:114.171708,22.294318
END:VEVENT
BEGIN:VEVENT
DTSTART;TZID=Asia/Hong_Kong:20210606T200000
DTEND;TZID=Asia/Hong_Kong:20210606T200000
DTSTAMP:20260421T204719
CREATED:19210409T085402Z
LAST-MODIFIED:20210504T160839Z
UID:10005003-1623009600-1623009600@www.bcmagazine.net
SUMMARY:HK Chinese Orchestra x Liza Wang
DESCRIPTION:HK Chinese Orchestra – Liza Wang & HKCO 2021\nDate: 8pm\, 4-6 June\, 2021\nVenue: HK Cultural Centre\, Concert Hall\nTickets: $680\, $480\, $280 from Urbtix
URL:https://www.bcmagazine.net/event/hk-chinese-orchestra-x-liza-wang/2021-06-06/
LOCATION:HK Cultural Centre\, Concert Hall\, 10 Salisbury Road\, Tsim Sha Tsui\, Hong Kong
CATEGORIES:2021,Chinese opera,Concert,Music,Performing Arts,Theatre
ATTACH;FMTTYPE=image/png:https://www.bcmagazine.net/wp-content/uploads/1921/04/liza-wang.png
GEO:22.294318;114.171708
X-APPLE-STRUCTURED-LOCATION;VALUE=URI;X-ADDRESS=HK Cultural Centre Concert Hall 10 Salisbury Road Tsim Sha Tsui Hong Kong;X-APPLE-RADIUS=500;X-TITLE=10 Salisbury Road:geo:114.171708,22.294318
END:VEVENT
BEGIN:VEVENT
DTSTART;TZID=Asia/Hong_Kong:20210609T193000
DTEND;TZID=Asia/Hong_Kong:20210609T193000
DTSTAMP:20260421T204719
CREATED:19180608T094055Z
LAST-MODIFIED:20210607T122023Z
UID:10004234-1623267000-1623267000@www.bcmagazine.net
SUMMARY:You're A Good Man\, Charlie Brown
DESCRIPTION:You’re A Good Man\, Charlie Brown\nDate: 7:30pm\, 9-12 June\, 2021\nVenue: HKAPA\, Drama Theatre\nTickets: $105\, $70 from HKTicketing
URL:https://www.bcmagazine.net/event/youre-a-good-man-charlie-brown/2021-06-09/
LOCATION:HKAPA: Drama Theatre\, 1 Gloucester Road\, Wanchai\, Hong Kong
CATEGORIES:2021,Music,Musical,Performing Arts,Theatre
ATTACH;FMTTYPE=image/jpeg:https://www.bcmagazine.net/wp-content/uploads/1918/06/youre-a-good-man-charlie-brown.jpg
GEO:22.2801854;114.1695054
X-APPLE-STRUCTURED-LOCATION;VALUE=URI;X-ADDRESS=HKAPA: Drama Theatre 1 Gloucester Road Wanchai Hong Kong;X-APPLE-RADIUS=500;X-TITLE=1 Gloucester Road:geo:114.1695054,22.2801854
END:VEVENT
BEGIN:VEVENT
DTSTART;TZID=Asia/Hong_Kong:20210609T200000
DTEND;TZID=Asia/Hong_Kong:20210609T200000
DTSTAMP:20260421T204719
CREATED:19210409T085402Z
LAST-MODIFIED:20210510T105515Z
UID:10005146-1623268800-1623268800@www.bcmagazine.net
SUMMARY:Chu Wing-ka
DESCRIPTION:The Modern Sense and Sensibility of Romeo and Juliet\nChu Wing-ka\nDate: 8pm\, 9-12 June\, 2021\nVenue: Fringe Club\nTickets: $200
URL:https://www.bcmagazine.net/event/chu-wing-ka/2021-06-09/
LOCATION:Fringe Club\, Studio Theatre\, 2 Lower Albert Road\, Central\, Hong Kong
CATEGORIES:2021,Dance,Performing Arts,Theatre
ATTACH;FMTTYPE=image/jpeg:https://www.bcmagazine.net/wp-content/uploads/1921/04/chu-wing-ka.jpeg
END:VEVENT
BEGIN:VEVENT
DTSTART;TZID=Asia/Hong_Kong:20210610T193000
DTEND;TZID=Asia/Hong_Kong:20210610T193000
DTSTAMP:20260421T204719
CREATED:19180608T094055Z
LAST-MODIFIED:20210607T122023Z
UID:10004235-1623353400-1623353400@www.bcmagazine.net
SUMMARY:You're A Good Man\, Charlie Brown
DESCRIPTION:You’re A Good Man\, Charlie Brown\nDate: 7:30pm\, 9-12 June\, 2021\nVenue: HKAPA\, Drama Theatre\nTickets: $105\, $70 from HKTicketing
URL:https://www.bcmagazine.net/event/youre-a-good-man-charlie-brown/2021-06-10/
LOCATION:HKAPA: Drama Theatre\, 1 Gloucester Road\, Wanchai\, Hong Kong
CATEGORIES:2021,Music,Musical,Performing Arts,Theatre
ATTACH;FMTTYPE=image/jpeg:https://www.bcmagazine.net/wp-content/uploads/1918/06/youre-a-good-man-charlie-brown.jpg
GEO:22.2801854;114.1695054
X-APPLE-STRUCTURED-LOCATION;VALUE=URI;X-ADDRESS=HKAPA: Drama Theatre 1 Gloucester Road Wanchai Hong Kong;X-APPLE-RADIUS=500;X-TITLE=1 Gloucester Road:geo:114.1695054,22.2801854
END:VEVENT
BEGIN:VEVENT
DTSTART;TZID=Asia/Hong_Kong:20210610T200000
DTEND;TZID=Asia/Hong_Kong:20210610T200000
DTSTAMP:20260421T204719
CREATED:19210409T085402Z
LAST-MODIFIED:20210510T105515Z
UID:10005147-1623355200-1623355200@www.bcmagazine.net
SUMMARY:Chu Wing-ka
DESCRIPTION:The Modern Sense and Sensibility of Romeo and Juliet\nChu Wing-ka\nDate: 8pm\, 9-12 June\, 2021\nVenue: Fringe Club\nTickets: $200
URL:https://www.bcmagazine.net/event/chu-wing-ka/2021-06-10/
LOCATION:Fringe Club\, Studio Theatre\, 2 Lower Albert Road\, Central\, Hong Kong
CATEGORIES:2021,Dance,Performing Arts,Theatre
ATTACH;FMTTYPE=image/jpeg:https://www.bcmagazine.net/wp-content/uploads/1921/04/chu-wing-ka.jpeg
END:VEVENT
BEGIN:VEVENT
DTSTART;TZID=Asia/Hong_Kong:20210611T193000
DTEND;TZID=Asia/Hong_Kong:20210611T193000
DTSTAMP:20260421T204719
CREATED:19180608T094055Z
LAST-MODIFIED:20210607T122023Z
UID:10004236-1623439800-1623439800@www.bcmagazine.net
SUMMARY:You're A Good Man\, Charlie Brown
DESCRIPTION:You’re A Good Man\, Charlie Brown\nDate: 7:30pm\, 9-12 June\, 2021\nVenue: HKAPA\, Drama Theatre\nTickets: $105\, $70 from HKTicketing
URL:https://www.bcmagazine.net/event/youre-a-good-man-charlie-brown/2021-06-11/
LOCATION:HKAPA: Drama Theatre\, 1 Gloucester Road\, Wanchai\, Hong Kong
CATEGORIES:2021,Music,Musical,Performing Arts,Theatre
ATTACH;FMTTYPE=image/jpeg:https://www.bcmagazine.net/wp-content/uploads/1918/06/youre-a-good-man-charlie-brown.jpg
GEO:22.2801854;114.1695054
X-APPLE-STRUCTURED-LOCATION;VALUE=URI;X-ADDRESS=HKAPA: Drama Theatre 1 Gloucester Road Wanchai Hong Kong;X-APPLE-RADIUS=500;X-TITLE=1 Gloucester Road:geo:114.1695054,22.2801854
END:VEVENT
BEGIN:VEVENT
DTSTART;TZID=Asia/Hong_Kong:20210611T194500
DTEND;TZID=Asia/Hong_Kong:20210611T194500
DTSTAMP:20260421T204719
CREATED:19210409T085402Z
LAST-MODIFIED:20210504T154954Z
UID:10005105-1623440700-1623440700@www.bcmagazine.net
SUMMARY:The Destined
DESCRIPTION:The Destined\nLegend Infinity\nDate: 7:45pm\, 11-13 June\, 2021\nVenue: HK Cultural Centre\, Studio Theatre\nTickets: $280 from Urbtix
URL:https://www.bcmagazine.net/event/the-destined/2021-06-11/
LOCATION:HK Cultural Centre\, Studio Theatre\, 10 Salisbury Road\, Tsim Sha Tsui\, Hong Kong
CATEGORIES:2021,Cantonese drama,Performing Arts,Theatre
ATTACH;FMTTYPE=image/jpeg:https://www.bcmagazine.net/wp-content/uploads/1921/04/the-destined.jpg
END:VEVENT
BEGIN:VEVENT
DTSTART;TZID=Asia/Hong_Kong:20210611T200000
DTEND;TZID=Asia/Hong_Kong:20210611T200000
DTSTAMP:20260421T204719
CREATED:19210409T085402Z
LAST-MODIFIED:20210510T105515Z
UID:10005148-1623441600-1623441600@www.bcmagazine.net
SUMMARY:Chu Wing-ka
DESCRIPTION:The Modern Sense and Sensibility of Romeo and Juliet\nChu Wing-ka\nDate: 8pm\, 9-12 June\, 2021\nVenue: Fringe Club\nTickets: $200
URL:https://www.bcmagazine.net/event/chu-wing-ka/2021-06-11/
LOCATION:Fringe Club\, Studio Theatre\, 2 Lower Albert Road\, Central\, Hong Kong
CATEGORIES:2021,Dance,Performing Arts,Theatre
ATTACH;FMTTYPE=image/jpeg:https://www.bcmagazine.net/wp-content/uploads/1921/04/chu-wing-ka.jpeg
END:VEVENT
BEGIN:VEVENT
DTSTART;TZID=Asia/Hong_Kong:20210611T201500
DTEND;TZID=Asia/Hong_Kong:20210611T201500
DTSTAMP:20260421T204719
CREATED:19210503T085402Z
LAST-MODIFIED:20210504T151658Z
UID:10005163-1623442500-1623442500@www.bcmagazine.net
SUMMARY:Karen Mok
DESCRIPTION:Karen Mok – The Ultimate Grand Slam Show\nDate: 8:15pm\, 11-13 June\, 2021\nVenue: HK Coliseum\nTickets: $980\, $680\, $380 from Urbtix
URL:https://www.bcmagazine.net/event/karen-mok-2021/2021-06-11/
LOCATION:HK Coliseum\, 9 Cheong Wan Road\, Hung Hom\, Hong Kong
CATEGORIES:2021,Cantopop,Concert,Music,Performing Arts
ATTACH;FMTTYPE=image/jpeg:https://www.bcmagazine.net/wp-content/uploads/2021/05/karen-mok-2021.jpeg
GEO:22.3014169;114.1820305
X-APPLE-STRUCTURED-LOCATION;VALUE=URI;X-ADDRESS=HK Coliseum 9 Cheong Wan Road Hung Hom Hong Kong;X-APPLE-RADIUS=500;X-TITLE=9 Cheong Wan Road:geo:114.1820305,22.3014169
END:VEVENT
BEGIN:VEVENT
DTSTART;VALUE=DATE:20210612
DTEND;VALUE=DATE:20210613
DTSTAMP:20260421T204719
CREATED:19210409T085402Z
LAST-MODIFIED:20210504T163327Z
UID:10005133-1623456000-1623542399@www.bcmagazine.net
SUMMARY:HKIFF Cine Fan
DESCRIPTION:HKIFF Cine Fan\nDate: April- July\, 2021\nVenue: K11 Art House\nTickets: $85 from Urbtix
URL:https://www.bcmagazine.net/event/hkiff-cine-fan/2021-06-12/
LOCATION:K11 Art House Cinema\, 10 Salisbury Road\, Tsim Sha Tsui\, Hong Kong
CATEGORIES:2021,Cultural Festival,Film,Performing Arts
ATTACH;FMTTYPE=image/jpeg:https://www.bcmagazine.net/wp-content/uploads/1921/04/cinefan-2021.jpeg
END:VEVENT
BEGIN:VEVENT
DTSTART;TZID=Asia/Hong_Kong:20210612T143000
DTEND;TZID=Asia/Hong_Kong:20210612T143000
DTSTAMP:20260421T204719
CREATED:19180608T094055Z
LAST-MODIFIED:20210607T122023Z
UID:10004237-1623508200-1623508200@www.bcmagazine.net
SUMMARY:You're A Good Man\, Charlie Brown
DESCRIPTION:You’re A Good Man\, Charlie Brown\nDate: 7:30pm\, 9-12 June\, 2021\nVenue: HKAPA\, Drama Theatre\nTickets: $105\, $70 from HKTicketing
URL:https://www.bcmagazine.net/event/youre-a-good-man-charlie-brown/2021-06-12/1/
LOCATION:HKAPA: Drama Theatre\, 1 Gloucester Road\, Wanchai\, Hong Kong
CATEGORIES:2021,Music,Musical,Performing Arts,Theatre
ATTACH;FMTTYPE=image/jpeg:https://www.bcmagazine.net/wp-content/uploads/1918/06/youre-a-good-man-charlie-brown.jpg
GEO:22.2801854;114.1695054
X-APPLE-STRUCTURED-LOCATION;VALUE=URI;X-ADDRESS=HKAPA: Drama Theatre 1 Gloucester Road Wanchai Hong Kong;X-APPLE-RADIUS=500;X-TITLE=1 Gloucester Road:geo:114.1695054,22.2801854
END:VEVENT
BEGIN:VEVENT
DTSTART;TZID=Asia/Hong_Kong:20210612T150000
DTEND;TZID=Asia/Hong_Kong:20210612T150000
DTSTAMP:20260421T204719
CREATED:19210409T085402Z
LAST-MODIFIED:20210510T105515Z
UID:10005149-1623510000-1623510000@www.bcmagazine.net
SUMMARY:Chu Wing-ka
DESCRIPTION:The Modern Sense and Sensibility of Romeo and Juliet\nChu Wing-ka\nDate: 8pm\, 9-12 June\, 2021\nVenue: Fringe Club\nTickets: $200
URL:https://www.bcmagazine.net/event/chu-wing-ka/2021-06-12/1/
LOCATION:Fringe Club\, Studio Theatre\, 2 Lower Albert Road\, Central\, Hong Kong
CATEGORIES:2021,Dance,Performing Arts,Theatre
ATTACH;FMTTYPE=image/jpeg:https://www.bcmagazine.net/wp-content/uploads/1921/04/chu-wing-ka.jpeg
END:VEVENT
BEGIN:VEVENT
DTSTART;TZID=Asia/Hong_Kong:20210612T193000
DTEND;TZID=Asia/Hong_Kong:20210612T193000
DTSTAMP:20260421T204719
CREATED:19180608T094055Z
LAST-MODIFIED:20210607T122023Z
UID:10004238-1623526200-1623526200@www.bcmagazine.net
SUMMARY:You're A Good Man\, Charlie Brown
DESCRIPTION:You’re A Good Man\, Charlie Brown\nDate: 7:30pm\, 9-12 June\, 2021\nVenue: HKAPA\, Drama Theatre\nTickets: $105\, $70 from HKTicketing
URL:https://www.bcmagazine.net/event/youre-a-good-man-charlie-brown/2021-06-12/2/
LOCATION:HKAPA: Drama Theatre\, 1 Gloucester Road\, Wanchai\, Hong Kong
CATEGORIES:2021,Music,Musical,Performing Arts,Theatre
ATTACH;FMTTYPE=image/jpeg:https://www.bcmagazine.net/wp-content/uploads/1918/06/youre-a-good-man-charlie-brown.jpg
GEO:22.2801854;114.1695054
X-APPLE-STRUCTURED-LOCATION;VALUE=URI;X-ADDRESS=HKAPA: Drama Theatre 1 Gloucester Road Wanchai Hong Kong;X-APPLE-RADIUS=500;X-TITLE=1 Gloucester Road:geo:114.1695054,22.2801854
END:VEVENT
BEGIN:VEVENT
DTSTART;TZID=Asia/Hong_Kong:20210612T193000
DTEND;TZID=Asia/Hong_Kong:20210612T193000
DTSTAMP:20260421T204719
CREATED:19180608T094055Z
LAST-MODIFIED:20210607T104251Z
UID:10004223-1623526200-1623526200@www.bcmagazine.net
SUMMARY:Baby Shark Live!
DESCRIPTION:Baby Shark Live! – The Hidden Treasure\nDate: 12-13 June\, 2021\nVenue: Kitec\, Star Hall\nTickets: $580\, $480\, $380\, $280 from HKTicketing
URL:https://www.bcmagazine.net/event/baby-shark-live/2021-06-12/
LOCATION:KITEC\, Star Hall\, KITEC\, 1 Trademart Drive\, Kowloon Bay\, Hong Kong
CATEGORIES:2021,Performing Arts,Theatre
ATTACH;FMTTYPE=image/jpeg:https://www.bcmagazine.net/wp-content/uploads/1918/06/baby-shark-live-2021.jpeg
GEO:22.3239575;114.2037608
X-APPLE-STRUCTURED-LOCATION;VALUE=URI;X-ADDRESS=KITEC Star Hall KITEC 1 Trademart Drive Kowloon Bay Hong Kong;X-APPLE-RADIUS=500;X-TITLE=KITEC\, 1 Trademart Drive:geo:114.2037608,22.3239575
END:VEVENT
BEGIN:VEVENT
DTSTART;TZID=Asia/Hong_Kong:20210612T194500
DTEND;TZID=Asia/Hong_Kong:20210612T194500
DTSTAMP:20260421T204719
CREATED:19210409T085402Z
LAST-MODIFIED:20210504T154954Z
UID:10005106-1623527100-1623527100@www.bcmagazine.net
SUMMARY:The Destined
DESCRIPTION:The Destined\nLegend Infinity\nDate: 7:45pm\, 11-13 June\, 2021\nVenue: HK Cultural Centre\, Studio Theatre\nTickets: $280 from Urbtix
URL:https://www.bcmagazine.net/event/the-destined/2021-06-12/
LOCATION:HK Cultural Centre\, Studio Theatre\, 10 Salisbury Road\, Tsim Sha Tsui\, Hong Kong
CATEGORIES:2021,Cantonese drama,Performing Arts,Theatre
ATTACH;FMTTYPE=image/jpeg:https://www.bcmagazine.net/wp-content/uploads/1921/04/the-destined.jpg
END:VEVENT
BEGIN:VEVENT
DTSTART;TZID=Asia/Hong_Kong:20210612T200000
DTEND;TZID=Asia/Hong_Kong:20210612T200000
DTSTAMP:20260421T204719
CREATED:19210409T085402Z
LAST-MODIFIED:20210510T105515Z
UID:10005150-1623528000-1623528000@www.bcmagazine.net
SUMMARY:Chu Wing-ka
DESCRIPTION:The Modern Sense and Sensibility of Romeo and Juliet\nChu Wing-ka\nDate: 8pm\, 9-12 June\, 2021\nVenue: Fringe Club\nTickets: $200
URL:https://www.bcmagazine.net/event/chu-wing-ka/2021-06-12/2/
LOCATION:Fringe Club\, Studio Theatre\, 2 Lower Albert Road\, Central\, Hong Kong
CATEGORIES:2021,Dance,Performing Arts,Theatre
ATTACH;FMTTYPE=image/jpeg:https://www.bcmagazine.net/wp-content/uploads/1921/04/chu-wing-ka.jpeg
END:VEVENT
BEGIN:VEVENT
DTSTART;TZID=Asia/Hong_Kong:20210612T200000
DTEND;TZID=Asia/Hong_Kong:20210612T200000
DTSTAMP:20260421T204719
CREATED:20210523T085402Z
LAST-MODIFIED:20210603T103917Z
UID:10006659-1623528000-1623528000@www.bcmagazine.net
SUMMARY:Sugar Club
DESCRIPTION:Sugar Club – The Future of The Past\nDate: 8pm\, 12 June\, 2021\nVenue: Ocean Park\, Applause Pavillion\nTickets: $480\, $320 from Cityline
URL:https://www.bcmagazine.net/event/sugar-club/
LOCATION:Ocean Park\, Applause Pavilion\, Hong Kong
CATEGORIES:2021,Cantopop,Concert,Music,Performing Arts
ATTACH;FMTTYPE=image/png:https://www.bcmagazine.net/wp-content/uploads/1921/05/Sugar-Club-The-Future-of-The-Past-2021.png
END:VEVENT
BEGIN:VEVENT
DTSTART;TZID=Asia/Hong_Kong:20210612T201500
DTEND;TZID=Asia/Hong_Kong:20210612T201500
DTSTAMP:20260421T204719
CREATED:19210503T085402Z
LAST-MODIFIED:20210603T075956Z
UID:10005165-1623528900-1623528900@www.bcmagazine.net
SUMMARY:Karen Mok
DESCRIPTION:Karen Mok – The Ultimate Grand Slam Show\nDate: 8:15pm\, 11-13 June\, 2021\nVenue: HK Coliseum\nTickets: $980\, $680\, $380 from Urbtix
URL:https://www.bcmagazine.net/event/karen-mok-2021-2021-06-12/
LOCATION:HK Coliseum\, 9 Cheong Wan Road\, Hung Hom\, Hong Kong
CATEGORIES:2021,Cantopop,Concert,Music,Performing Arts
ATTACH;FMTTYPE=image/jpeg:https://www.bcmagazine.net/wp-content/uploads/2021/05/karen-mok-2021.jpeg
GEO:22.3014169;114.1820305
X-APPLE-STRUCTURED-LOCATION;VALUE=URI;X-ADDRESS=HK Coliseum 9 Cheong Wan Road Hung Hom Hong Kong;X-APPLE-RADIUS=500;X-TITLE=9 Cheong Wan Road:geo:114.1820305,22.3014169
END:VEVENT
BEGIN:VEVENT
DTSTART;VALUE=DATE:20210613
DTEND;VALUE=DATE:20210614
DTSTAMP:20260421T204719
CREATED:19210409T085402Z
LAST-MODIFIED:20210504T163327Z
UID:10005134-1623542400-1623628799@www.bcmagazine.net
SUMMARY:HKIFF Cine Fan
DESCRIPTION:HKIFF Cine Fan\nDate: April- July\, 2021\nVenue: K11 Art House\nTickets: $85 from Urbtix
URL:https://www.bcmagazine.net/event/hkiff-cine-fan/2021-06-13/
LOCATION:K11 Art House Cinema\, 10 Salisbury Road\, Tsim Sha Tsui\, Hong Kong
CATEGORIES:2021,Cultural Festival,Film,Performing Arts
ATTACH;FMTTYPE=image/jpeg:https://www.bcmagazine.net/wp-content/uploads/1921/04/cinefan-2021.jpeg
END:VEVENT
BEGIN:VEVENT
DTSTART;TZID=Asia/Hong_Kong:20210613T193000
DTEND;TZID=Asia/Hong_Kong:20210613T193000
DTSTAMP:20260421T204719
CREATED:19180608T094055Z
LAST-MODIFIED:20210607T104251Z
UID:10004224-1623612600-1623612600@www.bcmagazine.net
SUMMARY:Baby Shark Live!
DESCRIPTION:Baby Shark Live! – The Hidden Treasure\nDate: 12-13 June\, 2021\nVenue: Kitec\, Star Hall\nTickets: $580\, $480\, $380\, $280 from HKTicketing
URL:https://www.bcmagazine.net/event/baby-shark-live/2021-06-13/
LOCATION:KITEC\, Star Hall\, KITEC\, 1 Trademart Drive\, Kowloon Bay\, Hong Kong
CATEGORIES:2021,Performing Arts,Theatre
ATTACH;FMTTYPE=image/jpeg:https://www.bcmagazine.net/wp-content/uploads/1918/06/baby-shark-live-2021.jpeg
GEO:22.3239575;114.2037608
X-APPLE-STRUCTURED-LOCATION;VALUE=URI;X-ADDRESS=KITEC Star Hall KITEC 1 Trademart Drive Kowloon Bay Hong Kong;X-APPLE-RADIUS=500;X-TITLE=KITEC\, 1 Trademart Drive:geo:114.2037608,22.3239575
END:VEVENT
BEGIN:VEVENT
DTSTART;TZID=Asia/Hong_Kong:20210613T194500
DTEND;TZID=Asia/Hong_Kong:20210613T194500
DTSTAMP:20260421T204719
CREATED:19210409T085402Z
LAST-MODIFIED:20210504T154954Z
UID:10005107-1623613500-1623613500@www.bcmagazine.net
SUMMARY:The Destined
DESCRIPTION:The Destined\nLegend Infinity\nDate: 7:45pm\, 11-13 June\, 2021\nVenue: HK Cultural Centre\, Studio Theatre\nTickets: $280 from Urbtix
URL:https://www.bcmagazine.net/event/the-destined/2021-06-13/
LOCATION:HK Cultural Centre\, Studio Theatre\, 10 Salisbury Road\, Tsim Sha Tsui\, Hong Kong
CATEGORIES:2021,Cantonese drama,Performing Arts,Theatre
ATTACH;FMTTYPE=image/jpeg:https://www.bcmagazine.net/wp-content/uploads/1921/04/the-destined.jpg
END:VEVENT
END:VCALENDAR