BEGIN:VCALENDAR
VERSION:2.0
PRODID:-//bc magazine - ECPv6.15.20//NONSGML v1.0//EN
CALSCALE:GREGORIAN
METHOD:PUBLISH
X-ORIGINAL-URL:https://www.bcmagazine.net
X-WR-CALDESC:Events for bc magazine
REFRESH-INTERVAL;VALUE=DURATION:PT1H
X-Robots-Tag:noindex
X-PUBLISHED-TTL:PT1H
BEGIN:VTIMEZONE
TZID:Asia/Hong_Kong
BEGIN:STANDARD
TZOFFSETFROM:+0800
TZOFFSETTO:+0800
TZNAME:HKT
DTSTART:20210101T000000
END:STANDARD
END:VTIMEZONE
BEGIN:VEVENT
DTSTART;VALUE=DATE:20220424
DTEND;VALUE=DATE:20220530
DTSTAMP:20260424T202009
CREATED:19180310T104830Z
LAST-MODIFIED:20220422T010330Z
UID:10003908-1650758400-1653868799@www.bcmagazine.net
SUMMARY:8th Hong Kong Games - Cancelled
DESCRIPTION:8th Hong Kong Games\nDate: 24 April – 29 May\, 2022\nVenue: Various\nTickets: tbc\nMore info: \nwww.hongkonggames.hk \n 
URL:https://www.bcmagazine.net/event/8th-hong-kong-games/
CATEGORIES:2022,Athletics,Badminton,Basketball,Cancelled,Fitness,Lifestyle,Sport,Swimming,Volleyball
END:VEVENT
BEGIN:VEVENT
DTSTART;VALUE=DATE:20220428
DTEND;VALUE=DATE:20220509
DTSTAMP:20260424T202009
CREATED:20211022T102000Z
LAST-MODIFIED:20211110T103821Z
UID:10006684-1651104000-1652054399@www.bcmagazine.net
SUMMARY:Turn(it) Out Festival
DESCRIPTION:2nd Turn(it) Out Festival\nHK Ballet\, American Ballet Theatre Studio Company\, The Rule Breakers\, Ballet Classics for Children\nDate: 28 April – 8 May\, 2022\nVenue: West Kowloon Cultural District\, The Box\nTickets: $300\, $200
URL:https://www.bcmagazine.net/event/turnit-out-festival-2022/
LOCATION:West Kowloon Cultural District\, Freespace\, The Box\, West Kowloon\, Hong Kong
CATEGORIES:2022,Ballet,Dance,Performing Arts
ATTACH;FMTTYPE=image/jpeg:https://www.bcmagazine.net/wp-content/uploads/1920/12/Scurry_Night_by_Annabelle_Lopez.jpeg
END:VEVENT
BEGIN:VEVENT
DTSTART;VALUE=DATE:20220501
DTEND;VALUE=DATE:20220516
DTSTAMP:20260424T202009
CREATED:20210907T100800Z
LAST-MODIFIED:20220501T101425Z
UID:10006675-1651363200-1652659199@www.bcmagazine.net
SUMMARY:FairBreak Invitational 2022
DESCRIPTION:FairBreak Invitational 2022\nDate: 1-15 May\, 2022\nVenue: Dubai\nMore info:\nOriginally planned for Hong Kong\, relocated to Dubai due to Covid travel restrictions
URL:https://www.bcmagazine.net/event/fairbreak-invitational-2022/
CATEGORIES:2022,Cricket,Lifestyle,Sport
ATTACH;FMTTYPE=image/jpeg:https://www.bcmagazine.net/wp-content/uploads/2021/05/fairbreak-2022.jpg
END:VEVENT
BEGIN:VEVENT
DTSTART;TZID=Asia/Hong_Kong:20220501T150000
DTEND;TZID=Asia/Hong_Kong:20220501T150000
DTSTAMP:20260424T202009
CREATED:20220228T000854Z
LAST-MODIFIED:20220322T102619Z
UID:10006700-1651417200-1651417200@www.bcmagazine.net
SUMMARY:The Aftermath's Battle of the Bands' Finale - Postponed
DESCRIPTION:The Aftermath’s Battle of the Bands’ Finale\nBrother Plainview\, HYBRiD STEREO\, Murphy’s Law\, Andy is Typing\, David Boring\, Nowhere Boys\nDate: tbc\nVenue: PMQ\nTickets: $380\, $280 from Ticketflap
URL:https://www.bcmagazine.net/event/the-aftermaths-battle-of-the-bands-finale-2022/
LOCATION:PMQ\, 35 Aberdeen Street\, Central\, Hong Kong
CATEGORIES:2022,Concert,Music,Performing Arts
ATTACH;FMTTYPE=image/jpeg:https://www.bcmagazine.net/wp-content/uploads/2021/09/The-Aftermaths-Battle-of-the-Bands-Finale-2022.jpg
GEO:22.2836011;114.1524554
X-APPLE-STRUCTURED-LOCATION;VALUE=URI;X-ADDRESS=PMQ 35 Aberdeen Street Central Hong Kong;X-APPLE-RADIUS=500;X-TITLE=35 Aberdeen Street:geo:114.1524554,22.2836011
END:VEVENT
BEGIN:VEVENT
DTSTART;TZID=Asia/Hong_Kong:20220501T170000
DTEND;TZID=Asia/Hong_Kong:20220501T170000
DTSTAMP:20260424T202009
CREATED:19211022T102000Z
LAST-MODIFIED:20211110T104205Z
UID:10005317-1651424400-1651424400@www.bcmagazine.net
SUMMARY:Swan Lake
DESCRIPTION:Turn(it) Out Festival – Swan Lake\nBallet Classics for Children\nDate: 28 April – 1 May\, 2022\nVenue: West Kowloon Cultural District\, The Box\nTickets: $300\, $200
URL:https://www.bcmagazine.net/event/swan-lake/2022-05-01/
LOCATION:West Kowloon Cultural District\, Freespace\, The Box\, West Kowloon\, Hong Kong
CATEGORIES:2022,Ballet,Dance,Performing Arts
ATTACH;FMTTYPE=image/jpeg:https://www.bcmagazine.net/wp-content/uploads/2021/10/Turnit-Out-Festival-Swan-Lake-2022.jpeg
END:VEVENT
BEGIN:VEVENT
DTSTART;VALUE=DATE:20220505
DTEND;VALUE=DATE:20220508
DTSTAMP:20260424T202009
CREATED:20200419T090416Z
LAST-MODIFIED:20210216T110852Z
UID:10006620-1651708800-1651967999@www.bcmagazine.net
SUMMARY:Vinexpo
DESCRIPTION:Vinexpo Hong Kong\, initially scheduled for July 2020\, will now take place from May 2022\, due to border closures and health hazards caused by Covid-19/ Wuhan virus. \nVinexpo\nDate: May 2022\nVenue: HKCEC\nTickets: tbc
URL:https://www.bcmagazine.net/event/vinexpo-2022/
LOCATION:HK Convention and Exhibition Centre\, 1 Expo Drive\, Wanchai\, Hong Kong
CATEGORIES:2022,Exhibition,Food
ATTACH;FMTTYPE=image/png:https://www.bcmagazine.net/wp-content/uploads/1916/05/vinexpo.png
END:VEVENT
BEGIN:VEVENT
DTSTART;VALUE=DATE:20220506
DTEND;VALUE=DATE:20220510
DTSTAMP:20260424T202009
CREATED:19210208T121521Z
LAST-MODIFIED:20210210T094752Z
UID:10005050-1651795200-1652140799@www.bcmagazine.net
SUMMARY:Cheung Chau Bun Festival 2022
DESCRIPTION:Cheung Chau Bun Festival\nDate: 6-9 May\, 2022\nVenue:  Cheung Chau\nTickets: Free
URL:https://www.bcmagazine.net/event/cheung-chau-bun-festival-2022/
LOCATION:Cheung Chau\, Cheung Chau\, Hong Kong
CATEGORIES:2022,Cultural Festival,Free
ATTACH;FMTTYPE=image/jpeg:https://www.bcmagazine.net/wp-content/uploads/2015/05/Bun-Festival-2021.jpg
END:VEVENT
BEGIN:VEVENT
DTSTART;TZID=Asia/Hong_Kong:20220506T200000
DTEND;TZID=Asia/Hong_Kong:20220506T200000
DTSTAMP:20260424T202009
CREATED:19211022T102000Z
LAST-MODIFIED:20211110T105007Z
UID:10005320-1651867200-1651867200@www.bcmagazine.net
SUMMARY:The Rule Breakers
DESCRIPTION:Turn(it) Out Festival – The Rule Breakers\nDate: 8pm\, 6-8 May\, 2022\nVenue: West Kowloon Cultural District\, The Box\nTickets: $300\, $200
URL:https://www.bcmagazine.net/event/the-rule-breakers/2022-05-06/
LOCATION:West Kowloon Cultural District\, Freespace\, The Box\, West Kowloon\, Hong Kong
CATEGORIES:2022,Ballet,Dance,Performing Arts
ATTACH;FMTTYPE=image/jpeg:https://www.bcmagazine.net/wp-content/uploads/1921/10/The-Rule-Breakers-2022.jpeg
END:VEVENT
BEGIN:VEVENT
DTSTART;VALUE=DATE:20220507
DTEND;VALUE=DATE:20220509
DTSTAMP:20260424T202009
CREATED:19211104T034537Z
LAST-MODIFIED:20220505T040709Z
UID:10005338-1651881600-1652054399@www.bcmagazine.net
SUMMARY:Hong Kong Athletics Series 2022 – Series 1
DESCRIPTION:Hong Kong Athletics Series 2022 – Series 1\nDate: 7-8 May\, 2022\nVenue: Tseung Kwan O Sports Ground\nTickets: Free\nMore info:\nHong Kong Association of Athletics Affiliates
URL:https://www.bcmagazine.net/event/hong-kong-athletics-series-2022-series-1/
LOCATION:Tseung Kwan O Sports Ground\, 109 Po Hong Road\, Hang Hau\, Hong Kong
CATEGORIES:2022,Athletics,Free,Sport
ATTACH;FMTTYPE=image/png:https://www.bcmagazine.net/wp-content/uploads/1921/11/Hong-Kong-Athletics-Series-2022-–-Series-1.png
END:VEVENT
BEGIN:VEVENT
DTSTART;TZID=Asia/Hong_Kong:20220507T200000
DTEND;TZID=Asia/Hong_Kong:20220507T200000
DTSTAMP:20260424T202009
CREATED:19200709T085402Z
LAST-MODIFIED:20220503T135801Z
UID:10004959-1651953600-1651953600@www.bcmagazine.net
SUMMARY:RubberBand x Hong Kong Festival Orchestra
DESCRIPTION:RubberBand x Hong Kong Festival Orchestra – Live by the Harbour\nDate: 8pm\, 7-9 May\, 2022\nVenue: West Kowloon Cultural District Art Park\, Wonderland\nTickets: $988\, $688\, $488\nMore info:\nRescheduled from January 2022
URL:https://www.bcmagazine.net/event/rubberband-x-hong-kong-festival-orchestra/2022-05-07/
LOCATION:Wonderland\, West Kowloon Cultural District Art Park\, West Kowloon\, Hong Kong
CATEGORIES:2022,Concert,Music,Performing Arts
ATTACH;FMTTYPE=image/jpeg:https://www.bcmagazine.net/wp-content/uploads/1920/07/Rubberband-live-by-the-harbour.jpeg
END:VEVENT
BEGIN:VEVENT
DTSTART;TZID=Asia/Hong_Kong:20220507T200000
DTEND;TZID=Asia/Hong_Kong:20220507T200000
DTSTAMP:20260424T202009
CREATED:19211022T102000Z
LAST-MODIFIED:20211110T105007Z
UID:10005321-1651953600-1651953600@www.bcmagazine.net
SUMMARY:The Rule Breakers
DESCRIPTION:Turn(it) Out Festival – The Rule Breakers\nDate: 8pm\, 6-8 May\, 2022\nVenue: West Kowloon Cultural District\, The Box\nTickets: $300\, $200
URL:https://www.bcmagazine.net/event/the-rule-breakers/2022-05-07/
LOCATION:West Kowloon Cultural District\, Freespace\, The Box\, West Kowloon\, Hong Kong
CATEGORIES:2022,Ballet,Dance,Performing Arts
ATTACH;FMTTYPE=image/jpeg:https://www.bcmagazine.net/wp-content/uploads/1921/10/The-Rule-Breakers-2022.jpeg
END:VEVENT
BEGIN:VEVENT
DTSTART;TZID=Asia/Hong_Kong:20220508T200000
DTEND;TZID=Asia/Hong_Kong:20220508T200000
DTSTAMP:20260424T202009
CREATED:19200709T085402Z
LAST-MODIFIED:20220503T135801Z
UID:10004960-1652040000-1652040000@www.bcmagazine.net
SUMMARY:RubberBand x Hong Kong Festival Orchestra
DESCRIPTION:RubberBand x Hong Kong Festival Orchestra – Live by the Harbour\nDate: 8pm\, 7-9 May\, 2022\nVenue: West Kowloon Cultural District Art Park\, Wonderland\nTickets: $988\, $688\, $488\nMore info:\nRescheduled from January 2022
URL:https://www.bcmagazine.net/event/rubberband-x-hong-kong-festival-orchestra/2022-05-08/
LOCATION:Wonderland\, West Kowloon Cultural District Art Park\, West Kowloon\, Hong Kong
CATEGORIES:2022,Concert,Music,Performing Arts
ATTACH;FMTTYPE=image/jpeg:https://www.bcmagazine.net/wp-content/uploads/1920/07/Rubberband-live-by-the-harbour.jpeg
END:VEVENT
BEGIN:VEVENT
DTSTART;TZID=Asia/Hong_Kong:20220508T200000
DTEND;TZID=Asia/Hong_Kong:20220508T200000
DTSTAMP:20260424T202009
CREATED:19211022T102000Z
LAST-MODIFIED:20211110T105007Z
UID:10005322-1652040000-1652040000@www.bcmagazine.net
SUMMARY:The Rule Breakers
DESCRIPTION:Turn(it) Out Festival – The Rule Breakers\nDate: 8pm\, 6-8 May\, 2022\nVenue: West Kowloon Cultural District\, The Box\nTickets: $300\, $200
URL:https://www.bcmagazine.net/event/the-rule-breakers/2022-05-08/
LOCATION:West Kowloon Cultural District\, Freespace\, The Box\, West Kowloon\, Hong Kong
CATEGORIES:2022,Ballet,Dance,Performing Arts
ATTACH;FMTTYPE=image/jpeg:https://www.bcmagazine.net/wp-content/uploads/1921/10/The-Rule-Breakers-2022.jpeg
END:VEVENT
BEGIN:VEVENT
DTSTART;TZID=Asia/Hong_Kong:20220509T200000
DTEND;TZID=Asia/Hong_Kong:20220509T200000
DTSTAMP:20260424T202009
CREATED:19200709T085402Z
LAST-MODIFIED:20220503T135801Z
UID:10004961-1652126400-1652126400@www.bcmagazine.net
SUMMARY:RubberBand x Hong Kong Festival Orchestra
DESCRIPTION:RubberBand x Hong Kong Festival Orchestra – Live by the Harbour\nDate: 8pm\, 7-9 May\, 2022\nVenue: West Kowloon Cultural District Art Park\, Wonderland\nTickets: $988\, $688\, $488\nMore info:\nRescheduled from January 2022
URL:https://www.bcmagazine.net/event/rubberband-x-hong-kong-festival-orchestra/2022-05-09/
LOCATION:Wonderland\, West Kowloon Cultural District Art Park\, West Kowloon\, Hong Kong
CATEGORIES:2022,Concert,Music,Performing Arts
ATTACH;FMTTYPE=image/jpeg:https://www.bcmagazine.net/wp-content/uploads/1920/07/Rubberband-live-by-the-harbour.jpeg
END:VEVENT
BEGIN:VEVENT
DTSTART;TZID=Asia/Hong_Kong:20220510T201500
DTEND;TZID=Asia/Hong_Kong:20220510T201500
DTSTAMP:20260424T202009
CREATED:19210930T034537Z
LAST-MODIFIED:20220501T101006Z
UID:10005277-1652213700-1652213700@www.bcmagazine.net
SUMMARY:The Next 20 Hins Live in Hong Kong
DESCRIPTION:The Next 20 Hins Live in Hong Kong – Rescheduled\nDate: 10-14\, 17-21\, 24-29 May 2022\nVenue: HK Coliseum\nTickets: $980\, $680\, $480 from Urbtix
URL:https://www.bcmagazine.net/event/the-next-20-hins-live-in-hong-kong-2/2022-05-10/
LOCATION:HK Coliseum\, 9 Cheong Wan Road\, Hung Hom\, Hong Kong
CATEGORIES:2022,Cantopop,Concert,Music,Nightlife,Performing Arts
ATTACH;FMTTYPE=image/jpeg:https://www.bcmagazine.net/wp-content/uploads/2021/09/Hins-next-20.jpg
GEO:22.3014169;114.1820305
X-APPLE-STRUCTURED-LOCATION;VALUE=URI;X-ADDRESS=HK Coliseum 9 Cheong Wan Road Hung Hom Hong Kong;X-APPLE-RADIUS=500;X-TITLE=9 Cheong Wan Road:geo:114.1820305,22.3014169
END:VEVENT
BEGIN:VEVENT
DTSTART;TZID=Asia/Hong_Kong:20220511T200000
DTEND;TZID=Asia/Hong_Kong:20220511T200000
DTSTAMP:20260424T202009
CREATED:19161023T084522Z
LAST-MODIFIED:20220426T110235Z
UID:10002296-1652299200-1652299200@www.bcmagazine.net
SUMMARY:The Open Couple
DESCRIPTION:The Open Couple\nAurora Theatre\, The Italian Cultural Institute\nDate: 8pm\, 11-14 May\, 2022\nVenue: Sheung Wan Civic Centre\, Black Box Theatre\nTickets: $250 from Urbtix
URL:https://www.bcmagazine.net/event/the-open-couple/2022-05-11/
LOCATION:HKREP Black Box Theatre\, 8/F\, Sheung Wan Civic Centre\, Sheung Wan Municipal Services Building\, 345 Queen's Road\, Sheung Wan\, Hong Kong
CATEGORIES:2022,Performing Arts,Theatre
ATTACH;FMTTYPE=image/jpeg:https://www.bcmagazine.net/wp-content/uploads/1916/10/the-open-couple.jpeg
END:VEVENT
BEGIN:VEVENT
DTSTART;TZID=Asia/Hong_Kong:20220511T201500
DTEND;TZID=Asia/Hong_Kong:20220511T201500
DTSTAMP:20260424T202010
CREATED:19210930T034537Z
LAST-MODIFIED:20220501T101006Z
UID:10005278-1652300100-1652300100@www.bcmagazine.net
SUMMARY:The Next 20 Hins Live in Hong Kong
DESCRIPTION:The Next 20 Hins Live in Hong Kong – Rescheduled\nDate: 10-14\, 17-21\, 24-29 May 2022\nVenue: HK Coliseum\nTickets: $980\, $680\, $480 from Urbtix
URL:https://www.bcmagazine.net/event/the-next-20-hins-live-in-hong-kong-2/2022-05-11/
LOCATION:HK Coliseum\, 9 Cheong Wan Road\, Hung Hom\, Hong Kong
CATEGORIES:2022,Cantopop,Concert,Music,Nightlife,Performing Arts
ATTACH;FMTTYPE=image/jpeg:https://www.bcmagazine.net/wp-content/uploads/2021/09/Hins-next-20.jpg
GEO:22.3014169;114.1820305
X-APPLE-STRUCTURED-LOCATION;VALUE=URI;X-ADDRESS=HK Coliseum 9 Cheong Wan Road Hung Hom Hong Kong;X-APPLE-RADIUS=500;X-TITLE=9 Cheong Wan Road:geo:114.1820305,22.3014169
END:VEVENT
BEGIN:VEVENT
DTSTART;TZID=Asia/Hong_Kong:20220512T200000
DTEND;TZID=Asia/Hong_Kong:20220512T200000
DTSTAMP:20260424T202010
CREATED:19161023T084522Z
LAST-MODIFIED:20220426T110235Z
UID:10002297-1652385600-1652385600@www.bcmagazine.net
SUMMARY:The Open Couple
DESCRIPTION:The Open Couple\nAurora Theatre\, The Italian Cultural Institute\nDate: 8pm\, 11-14 May\, 2022\nVenue: Sheung Wan Civic Centre\, Black Box Theatre\nTickets: $250 from Urbtix
URL:https://www.bcmagazine.net/event/the-open-couple/2022-05-12/
LOCATION:HKREP Black Box Theatre\, 8/F\, Sheung Wan Civic Centre\, Sheung Wan Municipal Services Building\, 345 Queen's Road\, Sheung Wan\, Hong Kong
CATEGORIES:2022,Performing Arts,Theatre
ATTACH;FMTTYPE=image/jpeg:https://www.bcmagazine.net/wp-content/uploads/1916/10/the-open-couple.jpeg
END:VEVENT
BEGIN:VEVENT
DTSTART;TZID=Asia/Hong_Kong:20220512T201500
DTEND;TZID=Asia/Hong_Kong:20220512T201500
DTSTAMP:20260424T202010
CREATED:19210930T034537Z
LAST-MODIFIED:20220501T101006Z
UID:10005279-1652386500-1652386500@www.bcmagazine.net
SUMMARY:The Next 20 Hins Live in Hong Kong
DESCRIPTION:The Next 20 Hins Live in Hong Kong – Rescheduled\nDate: 10-14\, 17-21\, 24-29 May 2022\nVenue: HK Coliseum\nTickets: $980\, $680\, $480 from Urbtix
URL:https://www.bcmagazine.net/event/the-next-20-hins-live-in-hong-kong-2/2022-05-12/
LOCATION:HK Coliseum\, 9 Cheong Wan Road\, Hung Hom\, Hong Kong
CATEGORIES:2022,Cantopop,Concert,Music,Nightlife,Performing Arts
ATTACH;FMTTYPE=image/jpeg:https://www.bcmagazine.net/wp-content/uploads/2021/09/Hins-next-20.jpg
GEO:22.3014169;114.1820305
X-APPLE-STRUCTURED-LOCATION;VALUE=URI;X-ADDRESS=HK Coliseum 9 Cheong Wan Road Hung Hom Hong Kong;X-APPLE-RADIUS=500;X-TITLE=9 Cheong Wan Road:geo:114.1820305,22.3014169
END:VEVENT
BEGIN:VEVENT
DTSTART;TZID=Asia/Hong_Kong:20220513T200000
DTEND;TZID=Asia/Hong_Kong:20220513T200000
DTSTAMP:20260424T202010
CREATED:19161023T084522Z
LAST-MODIFIED:20220426T110235Z
UID:10002298-1652472000-1652472000@www.bcmagazine.net
SUMMARY:The Open Couple
DESCRIPTION:The Open Couple\nAurora Theatre\, The Italian Cultural Institute\nDate: 8pm\, 11-14 May\, 2022\nVenue: Sheung Wan Civic Centre\, Black Box Theatre\nTickets: $250 from Urbtix
URL:https://www.bcmagazine.net/event/the-open-couple/2022-05-13/
LOCATION:HKREP Black Box Theatre\, 8/F\, Sheung Wan Civic Centre\, Sheung Wan Municipal Services Building\, 345 Queen's Road\, Sheung Wan\, Hong Kong
CATEGORIES:2022,Performing Arts,Theatre
ATTACH;FMTTYPE=image/jpeg:https://www.bcmagazine.net/wp-content/uploads/1916/10/the-open-couple.jpeg
END:VEVENT
BEGIN:VEVENT
DTSTART;TZID=Asia/Hong_Kong:20220513T201500
DTEND;TZID=Asia/Hong_Kong:20220513T201500
DTSTAMP:20260424T202010
CREATED:19210930T034537Z
LAST-MODIFIED:20220501T101006Z
UID:10005280-1652472900-1652472900@www.bcmagazine.net
SUMMARY:The Next 20 Hins Live in Hong Kong
DESCRIPTION:The Next 20 Hins Live in Hong Kong – Rescheduled\nDate: 10-14\, 17-21\, 24-29 May 2022\nVenue: HK Coliseum\nTickets: $980\, $680\, $480 from Urbtix
URL:https://www.bcmagazine.net/event/the-next-20-hins-live-in-hong-kong-2/2022-05-13/
LOCATION:HK Coliseum\, 9 Cheong Wan Road\, Hung Hom\, Hong Kong
CATEGORIES:2022,Cantopop,Concert,Music,Nightlife,Performing Arts
ATTACH;FMTTYPE=image/jpeg:https://www.bcmagazine.net/wp-content/uploads/2021/09/Hins-next-20.jpg
GEO:22.3014169;114.1820305
X-APPLE-STRUCTURED-LOCATION;VALUE=URI;X-ADDRESS=HK Coliseum 9 Cheong Wan Road Hung Hom Hong Kong;X-APPLE-RADIUS=500;X-TITLE=9 Cheong Wan Road:geo:114.1820305,22.3014169
END:VEVENT
BEGIN:VEVENT
DTSTART;TZID=Asia/Hong_Kong:20220514T200000
DTEND;TZID=Asia/Hong_Kong:20220514T200000
DTSTAMP:20260424T202010
CREATED:19161023T084522Z
LAST-MODIFIED:20220426T110235Z
UID:10002299-1652558400-1652558400@www.bcmagazine.net
SUMMARY:The Open Couple
DESCRIPTION:The Open Couple\nAurora Theatre\, The Italian Cultural Institute\nDate: 8pm\, 11-14 May\, 2022\nVenue: Sheung Wan Civic Centre\, Black Box Theatre\nTickets: $250 from Urbtix
URL:https://www.bcmagazine.net/event/the-open-couple/2022-05-14/
LOCATION:HKREP Black Box Theatre\, 8/F\, Sheung Wan Civic Centre\, Sheung Wan Municipal Services Building\, 345 Queen's Road\, Sheung Wan\, Hong Kong
CATEGORIES:2022,Performing Arts,Theatre
ATTACH;FMTTYPE=image/jpeg:https://www.bcmagazine.net/wp-content/uploads/1916/10/the-open-couple.jpeg
END:VEVENT
BEGIN:VEVENT
DTSTART;TZID=Asia/Hong_Kong:20220514T201500
DTEND;TZID=Asia/Hong_Kong:20220514T201500
DTSTAMP:20260424T202010
CREATED:19210930T034537Z
LAST-MODIFIED:20220501T101006Z
UID:10005281-1652559300-1652559300@www.bcmagazine.net
SUMMARY:The Next 20 Hins Live in Hong Kong
DESCRIPTION:The Next 20 Hins Live in Hong Kong – Rescheduled\nDate: 10-14\, 17-21\, 24-29 May 2022\nVenue: HK Coliseum\nTickets: $980\, $680\, $480 from Urbtix
URL:https://www.bcmagazine.net/event/the-next-20-hins-live-in-hong-kong-2/2022-05-14/
LOCATION:HK Coliseum\, 9 Cheong Wan Road\, Hung Hom\, Hong Kong
CATEGORIES:2022,Cantopop,Concert,Music,Nightlife,Performing Arts
ATTACH;FMTTYPE=image/jpeg:https://www.bcmagazine.net/wp-content/uploads/2021/09/Hins-next-20.jpg
GEO:22.3014169;114.1820305
X-APPLE-STRUCTURED-LOCATION;VALUE=URI;X-ADDRESS=HK Coliseum 9 Cheong Wan Road Hung Hom Hong Kong;X-APPLE-RADIUS=500;X-TITLE=9 Cheong Wan Road:geo:114.1820305,22.3014169
END:VEVENT
BEGIN:VEVENT
DTSTART;TZID=Asia/Hong_Kong:20220517T201500
DTEND;TZID=Asia/Hong_Kong:20220517T201500
DTSTAMP:20260424T202010
CREATED:19210930T034537Z
LAST-MODIFIED:20220501T101006Z
UID:10005282-1652818500-1652818500@www.bcmagazine.net
SUMMARY:The Next 20 Hins Live in Hong Kong
DESCRIPTION:The Next 20 Hins Live in Hong Kong – Rescheduled\nDate: 10-14\, 17-21\, 24-29 May 2022\nVenue: HK Coliseum\nTickets: $980\, $680\, $480 from Urbtix
URL:https://www.bcmagazine.net/event/the-next-20-hins-live-in-hong-kong-2/2022-05-17/
LOCATION:HK Coliseum\, 9 Cheong Wan Road\, Hung Hom\, Hong Kong
CATEGORIES:2022,Cantopop,Concert,Music,Nightlife,Performing Arts
ATTACH;FMTTYPE=image/jpeg:https://www.bcmagazine.net/wp-content/uploads/2021/09/Hins-next-20.jpg
GEO:22.3014169;114.1820305
X-APPLE-STRUCTURED-LOCATION;VALUE=URI;X-ADDRESS=HK Coliseum 9 Cheong Wan Road Hung Hom Hong Kong;X-APPLE-RADIUS=500;X-TITLE=9 Cheong Wan Road:geo:114.1820305,22.3014169
END:VEVENT
BEGIN:VEVENT
DTSTART;VALUE=DATE:20220518
DTEND;VALUE=DATE:20220521
DTSTAMP:20260424T202010
CREATED:19210903T110850Z
LAST-MODIFIED:20220518T114750Z
UID:10005210-1652832000-1653091199@www.bcmagazine.net
SUMMARY:Ride of Silence 2022
DESCRIPTION:Ride of Silence 2022\nDate: 7pm\, 18 May\, 2022\nVenue: Hong Kong\nTickets: Free
URL:https://www.bcmagazine.net/event/ride-of-silence-2022/
CATEGORIES:2022,Cycling,Exhibition,Free,Lifestyle
ATTACH;FMTTYPE=image/jpeg:https://www.bcmagazine.net/wp-content/uploads/2022/05/hk-ride-of-silence-2022.jpg
END:VEVENT
BEGIN:VEVENT
DTSTART;TZID=Asia/Hong_Kong:20220518T201500
DTEND;TZID=Asia/Hong_Kong:20220518T201500
DTSTAMP:20260424T202010
CREATED:19210930T034537Z
LAST-MODIFIED:20220501T101006Z
UID:10005283-1652904900-1652904900@www.bcmagazine.net
SUMMARY:The Next 20 Hins Live in Hong Kong
DESCRIPTION:The Next 20 Hins Live in Hong Kong – Rescheduled\nDate: 10-14\, 17-21\, 24-29 May 2022\nVenue: HK Coliseum\nTickets: $980\, $680\, $480 from Urbtix
URL:https://www.bcmagazine.net/event/the-next-20-hins-live-in-hong-kong-2/2022-05-18/
LOCATION:HK Coliseum\, 9 Cheong Wan Road\, Hung Hom\, Hong Kong
CATEGORIES:2022,Cantopop,Concert,Music,Nightlife,Performing Arts
ATTACH;FMTTYPE=image/jpeg:https://www.bcmagazine.net/wp-content/uploads/2021/09/Hins-next-20.jpg
GEO:22.3014169;114.1820305
X-APPLE-STRUCTURED-LOCATION;VALUE=URI;X-ADDRESS=HK Coliseum 9 Cheong Wan Road Hung Hom Hong Kong;X-APPLE-RADIUS=500;X-TITLE=9 Cheong Wan Road:geo:114.1820305,22.3014169
END:VEVENT
BEGIN:VEVENT
DTSTART;TZID=Asia/Hong_Kong:20220519T201500
DTEND;TZID=Asia/Hong_Kong:20220519T201500
DTSTAMP:20260424T202010
CREATED:19210930T034537Z
LAST-MODIFIED:20220501T101006Z
UID:10005284-1652991300-1652991300@www.bcmagazine.net
SUMMARY:The Next 20 Hins Live in Hong Kong
DESCRIPTION:The Next 20 Hins Live in Hong Kong – Rescheduled\nDate: 10-14\, 17-21\, 24-29 May 2022\nVenue: HK Coliseum\nTickets: $980\, $680\, $480 from Urbtix
URL:https://www.bcmagazine.net/event/the-next-20-hins-live-in-hong-kong-2/2022-05-19/
LOCATION:HK Coliseum\, 9 Cheong Wan Road\, Hung Hom\, Hong Kong
CATEGORIES:2022,Cantopop,Concert,Music,Nightlife,Performing Arts
ATTACH;FMTTYPE=image/jpeg:https://www.bcmagazine.net/wp-content/uploads/2021/09/Hins-next-20.jpg
GEO:22.3014169;114.1820305
X-APPLE-STRUCTURED-LOCATION;VALUE=URI;X-ADDRESS=HK Coliseum 9 Cheong Wan Road Hung Hom Hong Kong;X-APPLE-RADIUS=500;X-TITLE=9 Cheong Wan Road:geo:114.1820305,22.3014169
END:VEVENT
BEGIN:VEVENT
DTSTART;TZID=Asia/Hong_Kong:20220520T201500
DTEND;TZID=Asia/Hong_Kong:20220520T201500
DTSTAMP:20260424T202010
CREATED:19210930T034537Z
LAST-MODIFIED:20220501T101006Z
UID:10005285-1653077700-1653077700@www.bcmagazine.net
SUMMARY:The Next 20 Hins Live in Hong Kong
DESCRIPTION:The Next 20 Hins Live in Hong Kong – Rescheduled\nDate: 10-14\, 17-21\, 24-29 May 2022\nVenue: HK Coliseum\nTickets: $980\, $680\, $480 from Urbtix
URL:https://www.bcmagazine.net/event/the-next-20-hins-live-in-hong-kong-2/2022-05-20/
LOCATION:HK Coliseum\, 9 Cheong Wan Road\, Hung Hom\, Hong Kong
CATEGORIES:2022,Cantopop,Concert,Music,Nightlife,Performing Arts
ATTACH;FMTTYPE=image/jpeg:https://www.bcmagazine.net/wp-content/uploads/2021/09/Hins-next-20.jpg
GEO:22.3014169;114.1820305
X-APPLE-STRUCTURED-LOCATION;VALUE=URI;X-ADDRESS=HK Coliseum 9 Cheong Wan Road Hung Hom Hong Kong;X-APPLE-RADIUS=500;X-TITLE=9 Cheong Wan Road:geo:114.1820305,22.3014169
END:VEVENT
BEGIN:VEVENT
DTSTART;VALUE=DATE:20220521
DTEND;VALUE=DATE:20220523
DTSTAMP:20260424T202010
CREATED:19211104T034537Z
LAST-MODIFIED:20220505T040954Z
UID:10005339-1653091200-1653263999@www.bcmagazine.net
SUMMARY:Hong Kong Athletics Series 2022 – Series 2
DESCRIPTION:Hong Kong Athletics Series 2022 – Series 2\nDate: 21-22 May\, 2022\nVenue: Tseung Kwan O Sports Ground\nTickets: Free\nMore info:\nHong Kong Association of Athletics Affiliates
URL:https://www.bcmagazine.net/event/hong-kong-athletics-series-2022-series-2/
LOCATION:Tseung Kwan O Sports Ground\, 109 Po Hong Road\, Hang Hau\, Hong Kong
CATEGORIES:2022,Athletics,Free,Sport
END:VEVENT
BEGIN:VEVENT
DTSTART;TZID=Asia/Hong_Kong:20220521T200000
DTEND;TZID=Asia/Hong_Kong:20220521T200000
DTSTAMP:20260424T202010
CREATED:20220503T085402Z
LAST-MODIFIED:20220503T140526Z
UID:10006704-1653163200-1653163200@www.bcmagazine.net
SUMMARY:Panther Chan x ToNick
DESCRIPTION:Harbour the Sonic – Panther Chan x ToNick\nDate: 8pm\, 21 May\, 2022\nVenue: West Kowloon Cultural District\, Wonderland\nTickets: $888\, $688\, $488\nMore info:\nRescheduled from January 2022
URL:https://www.bcmagazine.net/event/panther-chan-x-tonick/
LOCATION:Wonderland\, West Kowloon Cultural District Art Park\, West Kowloon\, Hong Kong
CATEGORIES:2022,Concert,Music,Performing Arts
ATTACH;FMTTYPE=image/jpeg:https://www.bcmagazine.net/wp-content/uploads/1920/07/harbour-the-sonic-2022.jpeg
END:VEVENT
END:VCALENDAR