BEGIN:VCALENDAR
VERSION:2.0
PRODID:-//bc magazine - ECPv6.15.20//NONSGML v1.0//EN
CALSCALE:GREGORIAN
METHOD:PUBLISH
X-WR-CALNAME:bc magazine
X-ORIGINAL-URL:https://www.bcmagazine.net
X-WR-CALDESC:Events for bc magazine
REFRESH-INTERVAL;VALUE=DURATION:PT1H
X-Robots-Tag:noindex
X-PUBLISHED-TTL:PT1H
BEGIN:VTIMEZONE
TZID:Asia/Hong_Kong
BEGIN:STANDARD
TZOFFSETFROM:+0800
TZOFFSETTO:+0800
TZNAME:HKT
DTSTART:20220101T000000
END:STANDARD
END:VTIMEZONE
BEGIN:VEVENT
DTSTART;TZID=Asia/Hong_Kong:20230901T200000
DTEND;TZID=Asia/Hong_Kong:20230901T200000
DTSTAMP:20260423T204825
CREATED:20220619T085402Z
LAST-MODIFIED:20230701T005030Z
UID:10007957-1693598400-1693598400@www.bcmagazine.net
SUMMARY:Surl
DESCRIPTION:Surl\nDate: 8pm\, 1 September\, 2023\nVenue: KITEC\, Music Zone@E-Max\nTickets: $480
URL:https://www.bcmagazine.net/event/surl-2023/
LOCATION:KITEC\, Music Zone@E-Max\, KITEC\,‎ 1 Trademart Drive\, Kowloon Bay\, Hong Kong
CATEGORIES:2023,Concert,Music,Performing Arts
ATTACH;FMTTYPE=image/jpeg:https://www.bcmagazine.net/wp-content/uploads/2022/06/Surl-Hong-Kong-2023.jpeg
GEO:22.3239575;114.2037608
X-APPLE-STRUCTURED-LOCATION;VALUE=URI;X-ADDRESS=KITEC Music Zone@E-Max KITEC‎ 1 Trademart Drive Kowloon Bay Hong Kong;X-APPLE-RADIUS=500;X-TITLE=KITEC\,‎ 1 Trademart Drive:geo:114.2037608,22.3239575
END:VEVENT
BEGIN:VEVENT
DTSTART;TZID=Asia/Hong_Kong:20230901T200000
DTEND;TZID=Asia/Hong_Kong:20230901T200000
DTSTAMP:20260423T204825
CREATED:20230629T004237Z
LAST-MODIFIED:20230804T010623Z
UID:10007966-1693598400-1693598400@www.bcmagazine.net
SUMMARY:Surl
DESCRIPTION:Surl\nDate: 8pm\, 1 September 2023\nVenue: KITEC\, Music Zone@E-Max\nTickets: $480 from Ticketflap
URL:https://www.bcmagazine.net/event/surl-2023-2/
LOCATION:KITEC\, Music Zone@E-Max\, KITEC\,‎ 1 Trademart Drive\, Kowloon Bay\, Hong Kong
CATEGORIES:2023,Concert,Music,Nightlife,Performing Arts
ATTACH;FMTTYPE=image/jpeg:https://www.bcmagazine.net/wp-content/uploads/2023/06/Surl-2023.jpeg
GEO:22.3239575;114.2037608
X-APPLE-STRUCTURED-LOCATION;VALUE=URI;X-ADDRESS=KITEC Music Zone@E-Max KITEC‎ 1 Trademart Drive Kowloon Bay Hong Kong;X-APPLE-RADIUS=500;X-TITLE=KITEC\,‎ 1 Trademart Drive:geo:114.2037608,22.3239575
END:VEVENT
BEGIN:VEVENT
DTSTART;VALUE=DATE:20230905
DTEND;VALUE=DATE:20230908
DTSTAMP:20260423T204825
CREATED:20230614T044512Z
LAST-MODIFIED:20230617T091101Z
UID:10007951-1693872000-1694131199@www.bcmagazine.net
SUMMARY:Restaurant & Bar Hong Kong
DESCRIPTION:Restaurant & Bar Hong Kong + Gourmet Asia\nDate: 5-7 September\, 2023\nVenue: HK Convention & Exhibition Centre\nTickets: tbc
URL:https://www.bcmagazine.net/event/restaurant-bar-hong-kong-2023/
LOCATION:HK Convention and Exhibition Centre\, 1 Expo Drive\, Wanchai\, Hong Kong
CATEGORIES:2023,Food,Lifestyle,Nightlife
ATTACH;FMTTYPE=image/png:https://www.bcmagazine.net/wp-content/uploads/1919/04/RBHK2023.png
END:VEVENT
BEGIN:VEVENT
DTSTART;TZID=Asia/Hong_Kong:20230909T220000
DTEND;TZID=Asia/Hong_Kong:20230909T220000
DTSTAMP:20260423T204825
CREATED:19230708T004237Z
LAST-MODIFIED:20230804T014426Z
UID:10007976-1694296800-1694296800@www.bcmagazine.net
SUMMARY:Nicole Moudaber
DESCRIPTION:Nicole Moudaber\nDate: 10pm\, 9 September 2023\nVenue: H Code\nTickets: $580\, $480 from Ticketflap
URL:https://www.bcmagazine.net/event/nicole-moudaber-2023/
LOCATION:H Code\, 26/F\, 45 Pottinger Street\, Central\, Hong Kong
CATEGORIES:2023,DJ,Music,Nightlife,Performing Arts
ATTACH;FMTTYPE=image/jpeg:https://www.bcmagazine.net/wp-content/uploads/2023/07/Nicole-Moudaber-2023.jpeg
END:VEVENT
BEGIN:VEVENT
DTSTART;VALUE=DATE:20230912
DTEND;VALUE=DATE:20230918
DTSTAMP:20260423T204825
CREATED:19231110T071408Z
LAST-MODIFIED:20230516T025944Z
UID:10006810-1694476800-1694995199@www.bcmagazine.net
SUMMARY:Hong Kong Open Badminton Championships
DESCRIPTION:Hong Kong Open Badminton Championships\nDate: 12-17\, September 2023\nVenue: HK Coliseum\nTickets: tbc from Urbtix
URL:https://www.bcmagazine.net/event/hong-kong-open-badminton-championships-2023/
LOCATION:HK Coliseum\, 9 Cheong Wan Road\, Hung Hom\, Hong Kong
CATEGORIES:2023,Badminton,Sport
ATTACH;FMTTYPE=image/jpeg:https://www.bcmagazine.net/wp-content/uploads/1917/11/HK-badminton.jpeg
GEO:22.3014169;114.1820305
X-APPLE-STRUCTURED-LOCATION;VALUE=URI;X-ADDRESS=HK Coliseum 9 Cheong Wan Road Hung Hom Hong Kong;X-APPLE-RADIUS=500;X-TITLE=9 Cheong Wan Road:geo:114.1820305,22.3014169
END:VEVENT
BEGIN:VEVENT
DTSTART;VALUE=DATE:20230915
DTEND;VALUE=DATE:20230917
DTSTAMP:20260423T204825
CREATED:20230708T004237Z
LAST-MODIFIED:20230804T013826Z
UID:10007975-1694736000-1694908799@www.bcmagazine.net
SUMMARY:Better With Beer
DESCRIPTION:Better With Beer\nDate: 15-16 September 2023\nVenue: Central Harbourfront\nTickets: $1\,450\, $900\, $580\, $450 from Ticketflap
URL:https://www.bcmagazine.net/event/better-with-beer-2023/
LOCATION:Central Harbourfront\,  9 Lung Wo Road\, Central\, Hong Kong
CATEGORIES:2023,Concert,Food,Music,Nightlife,Performing Arts
ATTACH;FMTTYPE=image/png:https://www.bcmagazine.net/wp-content/uploads/2023/07/Better-with-Beer-2023.png
GEO:22.2826223;114.164346
X-APPLE-STRUCTURED-LOCATION;VALUE=URI;X-ADDRESS=Central Harbourfront  9 Lung Wo Road Central Hong Kong;X-APPLE-RADIUS=500;X-TITLE=9 Lung Wo Road:geo:114.164346,22.2826223
END:VEVENT
BEGIN:VEVENT
DTSTART;VALUE=DATE:20230916
DTEND;VALUE=DATE:20230918
DTSTAMP:20260423T204825
CREATED:19230708T004237Z
LAST-MODIFIED:20230804T013251Z
UID:10007974-1694822400-1694995199@www.bcmagazine.net
SUMMARY:Oh! My Rock Macau Music Festival
DESCRIPTION:OH! MY ROCK Macau Music Festival\nDate: 16-17 September\, 2023\nVenue: Venetian Macau\nTickets: $543\, $400 from Ticketflap
URL:https://www.bcmagazine.net/event/oh-my-rock-macau-music-festival-2023/
LOCATION:Venetian Macau\, Cotai Pavilion\, Macau\, Macau
CATEGORIES:2023,Concert,Macau,Music,Nightlife,Performing Arts
ATTACH;FMTTYPE=image/jpeg:https://www.bcmagazine.net/wp-content/uploads/2023/07/Oh-my-rock-Macau-2023.jpeg
END:VEVENT
BEGIN:VEVENT
DTSTART;TZID=Asia/Hong_Kong:20230920T200000
DTEND;TZID=Asia/Hong_Kong:20230920T200000
DTSTAMP:20260423T204825
CREATED:19220619T085402Z
LAST-MODIFIED:20230701T005257Z
UID:10007959-1695240000-1695240000@www.bcmagazine.net
SUMMARY:Laufey
DESCRIPTION:Laufey\nDate: 8pm\, 20\,21 September\, 2023\nVenue: KITEC\, Music Zone@E-Max\nTickets: $490
URL:https://www.bcmagazine.net/event/laufey-2023/2023-09-20/
LOCATION:KITEC\, Music Zone@E-Max\, KITEC\,‎ 1 Trademart Drive\, Kowloon Bay\, Hong Kong
CATEGORIES:2023,Concert,Music,Performing Arts
ATTACH;FMTTYPE=image/jpeg:https://www.bcmagazine.net/wp-content/uploads/2022/06/Laufey-Hong-Kong-2023.jpeg
GEO:22.3239575;114.2037608
X-APPLE-STRUCTURED-LOCATION;VALUE=URI;X-ADDRESS=KITEC Music Zone@E-Max KITEC‎ 1 Trademart Drive Kowloon Bay Hong Kong;X-APPLE-RADIUS=500;X-TITLE=KITEC\,‎ 1 Trademart Drive:geo:114.2037608,22.3239575
END:VEVENT
BEGIN:VEVENT
DTSTART;TZID=Asia/Hong_Kong:20230921T200000
DTEND;TZID=Asia/Hong_Kong:20230921T200000
DTSTAMP:20260423T204825
CREATED:19220619T085402Z
LAST-MODIFIED:20230701T005257Z
UID:10007960-1695326400-1695326400@www.bcmagazine.net
SUMMARY:Laufey
DESCRIPTION:Laufey\nDate: 8pm\, 20\,21 September\, 2023\nVenue: KITEC\, Music Zone@E-Max\nTickets: $490
URL:https://www.bcmagazine.net/event/laufey-2023/2023-09-21/
LOCATION:KITEC\, Music Zone@E-Max\, KITEC\,‎ 1 Trademart Drive\, Kowloon Bay\, Hong Kong
CATEGORIES:2023,Concert,Music,Performing Arts
ATTACH;FMTTYPE=image/jpeg:https://www.bcmagazine.net/wp-content/uploads/2022/06/Laufey-Hong-Kong-2023.jpeg
GEO:22.3239575;114.2037608
X-APPLE-STRUCTURED-LOCATION;VALUE=URI;X-ADDRESS=KITEC Music Zone@E-Max KITEC‎ 1 Trademart Drive Kowloon Bay Hong Kong;X-APPLE-RADIUS=500;X-TITLE=KITEC\,‎ 1 Trademart Drive:geo:114.2037608,22.3239575
END:VEVENT
BEGIN:VEVENT
DTSTART;TZID=Asia/Hong_Kong:20230925T200000
DTEND;TZID=Asia/Hong_Kong:20230925T200000
DTSTAMP:20260423T204825
CREATED:19180823T145036Z
LAST-MODIFIED:20231031T154353Z
UID:10009363-1695672000-1695672000@www.bcmagazine.net
SUMMARY:
DESCRIPTION:Post Malone – If Y’all Weren’t Here\, I’d Be Crying Tour\nDate: 8pm\, 25 September\, 2023\nVenue: AsiaWorld Expo\, Arena\nTickets: $2\,399\, $1\,799\, $1\,099
URL:https://www.bcmagazine.net/event/101746/
LOCATION:AsiaWorld Expo\, Arena\, Hong Kong
CATEGORIES:2023,Concert,Music,Performing Arts
ATTACH;FMTTYPE=image/jpeg:https://www.bcmagazine.net/wp-content/uploads/1918/10/Post-Malone-2023.jpeg
END:VEVENT
BEGIN:VEVENT
DTSTART;TZID=Asia/Hong_Kong:20230925T200000
DTEND;TZID=Asia/Hong_Kong:20230925T200000
DTSTAMP:20260423T204825
CREATED:19181023T145036Z
LAST-MODIFIED:20230804T020826Z
UID:10008356-1695672000-1695672000@www.bcmagazine.net
SUMMARY:Post Malone
DESCRIPTION:Post Malone – If Y’all Weren’t Here\, I’d Be Crying Tour\nDate: 8pm\, 25 September\, 2023\nVenue: AsiaWorld Expo\, Arena\nTickets: $2\,399\, $1\,799\, $1\,099
URL:https://www.bcmagazine.net/event/post-malone-2023/2023-09-25/
LOCATION:AsiaWorld Expo\, Arena\, Hong Kong
CATEGORIES:2023,Concert,Music,Performing Arts
ATTACH;FMTTYPE=image/jpeg:https://www.bcmagazine.net/wp-content/uploads/1918/10/Post-Malone-2023.jpeg
END:VEVENT
BEGIN:VEVENT
DTSTART;TZID=Asia/Hong_Kong:20230930T200000
DTEND;TZID=Asia/Hong_Kong:20230930T200000
DTSTAMP:20260423T204825
CREATED:20230604T021150Z
LAST-MODIFIED:20230804T022842Z
UID:10008362-1696104000-1696104000@www.bcmagazine.net
SUMMARY:Le Sserafim
DESCRIPTION:Le Sserafim – Flame Rises\nDate: 8pm\, 30 September\, 2023\nVenue: AsiaWorld Expo\, Hall 10\nTickets: $1\,799\, $1\,199\, $699\, $499
URL:https://www.bcmagazine.net/event/le-sserafim-2023/
LOCATION:AsiaWorld-Expo\, Hall 10\, Cheong Wing Road\, Chek Lap Kok\, Lantau\, Hong Kong
CATEGORIES:2023,Concert,Kpop,Music,Performing Arts
ATTACH;FMTTYPE=image/jpeg:https://www.bcmagazine.net/wp-content/uploads/2023/06/LE-SSERAFIM-2023.jpeg
GEO:22.3217383;113.9402012
X-APPLE-STRUCTURED-LOCATION;VALUE=URI;X-ADDRESS=AsiaWorld-Expo Hall 10 Cheong Wing Road Chek Lap Kok Lantau Hong Kong;X-APPLE-RADIUS=500;X-TITLE=Cheong Wing Road\, Chek Lap Kok:geo:113.9402012,22.3217383
END:VEVENT
END:VCALENDAR