BEGIN:VCALENDAR
VERSION:2.0
PRODID:-//bc magazine - ECPv6.15.20//NONSGML v1.0//EN
CALSCALE:GREGORIAN
METHOD:PUBLISH
X-ORIGINAL-URL:https://www.bcmagazine.net
X-WR-CALDESC:Events for bc magazine
REFRESH-INTERVAL;VALUE=DURATION:PT1H
X-Robots-Tag:noindex
X-PUBLISHED-TTL:PT1H
BEGIN:VTIMEZONE
TZID:Asia/Hong_Kong
BEGIN:STANDARD
TZOFFSETFROM:+0800
TZOFFSETTO:+0800
TZNAME:HKT
DTSTART:20220101T000000
END:STANDARD
END:VTIMEZONE
BEGIN:VEVENT
DTSTART;VALUE=DATE:20231221
DTEND;VALUE=DATE:20240227
DTSTAMP:20260424T185614
CREATED:20230505T072433Z
LAST-MODIFIED:20230625T015407Z
UID:10007954-1703116800-1708991999@www.bcmagazine.net
SUMMARY:AIA Carnival
DESCRIPTION:AIA Carnival\nDate: 21 December\, 2023 – February\, 2024\nVenue: Central Harbourfront\nTickets: $400\, $300\, $130\, $50
URL:https://www.bcmagazine.net/event/aia-carnival-2023/
LOCATION:Central Harbourfront\,  9 Lung Wo Road\, Central\, Hong Kong
CATEGORIES:2023,2024,Music,Nightlife,Other,Performing Arts
ATTACH;FMTTYPE=image/jpeg:https://www.bcmagazine.net/wp-content/uploads/1918/11/carnival-2019.jpg
GEO:22.2826223;114.164346
X-APPLE-STRUCTURED-LOCATION;VALUE=URI;X-ADDRESS=Central Harbourfront  9 Lung Wo Road Central Hong Kong;X-APPLE-RADIUS=500;X-TITLE=9 Lung Wo Road:geo:114.164346,22.2826223
END:VEVENT
BEGIN:VEVENT
DTSTART;VALUE=DATE:20231221
DTEND;VALUE=DATE:20240227
DTSTAMP:20260424T185614
CREATED:20241113T072433Z
LAST-MODIFIED:20241120T101914Z
UID:10010195-1703116800-1708991999@www.bcmagazine.net
SUMMARY:AIA Carnival
DESCRIPTION:AIA Carnival\nDate: 18 December\, 2024 – 16 February\, 2025\nVenue: Central Harbourfront\nTickets: $110\, $100\, $95
URL:https://www.bcmagazine.net/event/aia-carnival-2024/
LOCATION:Central Harbourfront\,  9 Lung Wo Road\, Central\, Hong Kong
CATEGORIES:2024,2025,Music,Nightlife,Other,Performing Arts
ATTACH;FMTTYPE=image/jpeg:https://www.bcmagazine.net/wp-content/uploads/1918/11/carnival-2019.jpg
GEO:22.2826223;114.164346
X-APPLE-STRUCTURED-LOCATION;VALUE=URI;X-ADDRESS=Central Harbourfront  9 Lung Wo Road Central Hong Kong;X-APPLE-RADIUS=500;X-TITLE=9 Lung Wo Road:geo:114.164346,22.2826223
END:VEVENT
BEGIN:VEVENT
DTSTART;TZID=Asia/Hong_Kong:20240101T170000
DTEND;TZID=Asia/Hong_Kong:20240101T170000
DTSTAMP:20260424T185614
CREATED:19221020T085402Z
LAST-MODIFIED:20231031T152033Z
UID:10009359-1704128400-1704128400@www.bcmagazine.net
SUMMARY:Rubberband
DESCRIPTION:Rubberband – Juntos\nDate: 24 December\, 2023 – 1 January 2024\nVenue: KITEC\, Star Hall\nTickets: $880\, $680\, $480 from HK Ticketing\nMore info:\n8:15pm – 24\, 25\, 26\, 30 December 2023\n9:30pm – 31 December 2023\n5pm – 1 January 2024
URL:https://www.bcmagazine.net/event/rubberband-2023/2024-01-01/
LOCATION:KITEC\, Star Hall\, KITEC\, 1 Trademart Drive\, Kowloon Bay\, Hong Kong
CATEGORIES:2023,Concert,Music,Nightlife,Performing Arts
ATTACH;FMTTYPE=image/jpeg:https://www.bcmagazine.net/wp-content/uploads/2022/10/rubberband-2023.jpeg
GEO:22.3239575;114.2037608
X-APPLE-STRUCTURED-LOCATION;VALUE=URI;X-ADDRESS=KITEC Star Hall KITEC 1 Trademart Drive Kowloon Bay Hong Kong;X-APPLE-RADIUS=500;X-TITLE=KITEC\, 1 Trademart Drive:geo:114.2037608,22.3239575
END:VEVENT
BEGIN:VEVENT
DTSTART;TZID=Asia/Hong_Kong:20240108T200000
DTEND;TZID=Asia/Hong_Kong:20240108T200000
DTSTAMP:20260424T185614
CREATED:19231108T004219Z
LAST-MODIFIED:20231118T190913Z
UID:10009414-1704744000-1704744000@www.bcmagazine.net
SUMMARY:Tom Segura
DESCRIPTION:Tom Segura\nDate: 8pm\, 8 January 2024\nVenue: KITEC\, Rotunda 3\nTickets: $799\, $599
URL:https://www.bcmagazine.net/event/tom-segura-hong-kong-2024/
LOCATION:KITEC\, Rotunda 3\, 1 Trademart Drive\, Kowloon Bay\, Hong Kong
CATEGORIES:2024,Comedy,Concert,Music,Nightlife,Performing Arts
ATTACH;FMTTYPE=image/jpeg:https://www.bcmagazine.net/wp-content/uploads/2023/11/Tom-Segura-Hong-Kong-2024.jpeg
GEO:22.3239575;114.2037608
X-APPLE-STRUCTURED-LOCATION;VALUE=URI;X-ADDRESS=KITEC Rotunda 3 1 Trademart Drive Kowloon Bay Hong Kong;X-APPLE-RADIUS=500;X-TITLE=1 Trademart Drive:geo:114.2037608,22.3239575
END:VEVENT
BEGIN:VEVENT
DTSTART;TZID=Asia/Hong_Kong:20240117T190000
DTEND;TZID=Asia/Hong_Kong:20240117T190000
DTSTAMP:20260424T185614
CREATED:20231228T045612Z
LAST-MODIFIED:20240119T030231Z
UID:10009440-1705518000-1705518000@www.bcmagazine.net
SUMMARY:Jimmy Carr
DESCRIPTION:Jimmy Carr\nDate: 7pm\, 9:45pm\, 17 January 2024\nVenue: Kitec\, Rotunda 2\nTickets: $880\, $680\, $480
URL:https://www.bcmagazine.net/event/jimmy-carr-2024/
LOCATION:KITEC\, Rotunda 2\, Hong Kong
CATEGORIES:2024,Comedy,Performing Arts
ATTACH;FMTTYPE=image/jpeg:https://www.bcmagazine.net/wp-content/uploads/1919/01/Jimmy-Carr-2024.jpeg
GEO:22.396428;114.109497
END:VEVENT
BEGIN:VEVENT
DTSTART;TZID=Asia/Hong_Kong:20240119T130000
DTEND;TZID=Asia/Hong_Kong:20240119T130000
DTSTAMP:20260424T185614
CREATED:20240116T105617Z
LAST-MODIFIED:20240117T111904Z
UID:10009433-1705669200-1705669200@www.bcmagazine.net
SUMMARY:Musica del Cuore - Piano Four Hands
DESCRIPTION:Musica del Cuore – Piano Four Hands\nHelen Cha\, Pak-yu Kwok\nDate: 1pm\, 19 January\, 2024\nVenue: Eaton Club Central\nTickets: Free\nMore info:\nThe new season of Musica del Cuore takes place every third Friday of the month from 1pm to 1:45pm at Eaton Club\, 5th floor\, Champion Tower\, Three Garden Road. Admission is free.
URL:https://www.bcmagazine.net/event/musica-del-cuore-piano-four-hands/
LOCATION:Eaton Club Central\, 5/F\, Champion Tower\, 3 Garden Road\, Central\, Hong Kong
CATEGORIES:2024,Concert,Free,Music,Performing Arts
END:VEVENT
BEGIN:VEVENT
DTSTART;TZID=Asia/Hong_Kong:20240120T200000
DTEND;TZID=Asia/Hong_Kong:20240120T200000
DTSTAMP:20260424T185614
CREATED:20231118T054205Z
LAST-MODIFIED:20240301T090653Z
UID:10009411-1705780800-1705780800@www.bcmagazine.net
SUMMARY:Bagdad Cafe The Trench Town
DESCRIPTION:Hong Kong International Reggae Ska Festival\nBagdad Cafe The Trench Town\, MouseFX\, The Red Stripes\nDate: 8pm\, 20 January\, 2024\nVenue: Grappa’s Cellar Causeway Bay\nTickets: $280 from Ticketflap
URL:https://www.bcmagazine.net/event/hong-kong-international-reggae-ska-festival-2024/
LOCATION:Grappas Cellar Causeway Bay\, LG08\, LG/F Lee Garden Two\, Causeway Bay\, Hong Kong
CATEGORIES:2024,Concert,Music,Performing Arts
ATTACH;FMTTYPE=image/jpeg:https://www.bcmagazine.net/wp-content/uploads/2019/01/hk-reggae-fest-bagdad-cafe-2024.jpeg
END:VEVENT
BEGIN:VEVENT
DTSTART;TZID=Asia/Hong_Kong:20240129T200000
DTEND;TZID=Asia/Hong_Kong:20240129T200000
DTSTAMP:20260424T185614
CREATED:20240104T120802Z
LAST-MODIFIED:20240119T025718Z
UID:10009439-1706558400-1706558400@www.bcmagazine.net
SUMMARY:Domi and JD Beck
DESCRIPTION:Domi and JD Beck\nDate: 8pm\, 29 January 2024\nVenue: Kitec\, Music Zone@E-Max\nTickets: $480
URL:https://www.bcmagazine.net/event/domi-and-jd-beck-2024/
LOCATION:KITEC\, Music Zone@E-Max\, KITEC\,‎ 1 Trademart Drive\, Kowloon Bay\, Hong Kong
CATEGORIES:2024,Concert,Music,Performing Arts
ATTACH;FMTTYPE=image/jpeg:https://www.bcmagazine.net/wp-content/uploads/2023/12/Domi-and-JD-Beck-2024.jpeg
GEO:22.3239575;114.2037608
X-APPLE-STRUCTURED-LOCATION;VALUE=URI;X-ADDRESS=KITEC Music Zone@E-Max KITEC‎ 1 Trademart Drive Kowloon Bay Hong Kong;X-APPLE-RADIUS=500;X-TITLE=KITEC\,‎ 1 Trademart Drive:geo:114.2037608,22.3239575
END:VEVENT
BEGIN:VEVENT
DTSTART;TZID=Asia/Hong_Kong:20240130T200000
DTEND;TZID=Asia/Hong_Kong:20240130T200000
DTSTAMP:20260424T185614
CREATED:20231025T004219Z
LAST-MODIFIED:20231118T192858Z
UID:10009419-1706644800-1706644800@www.bcmagazine.net
SUMMARY:Brent Faiyaz
DESCRIPTION:Brent Faiyaz: It’s A Wasteland Tour⁠\nDate: 8pm\, 30 January 2024\nVenue: KITEC\, Rotunda 2\nTickets: $850
URL:https://www.bcmagazine.net/event/brent-faiyaz/
LOCATION:KITEC\, Rotunda 2\, Hong Kong
CATEGORIES:2024,Concert,Music,Nightlife,Performing Arts
ATTACH;FMTTYPE=image/jpeg:https://www.bcmagazine.net/wp-content/uploads/1923/11/FTW-2024-hong-kong.jpeg
GEO:22.396428;114.109497
END:VEVENT
BEGIN:VEVENT
DTSTART;VALUE=DATE:20240131
DTEND;VALUE=DATE:20240205
DTSTAMP:20260424T185614
CREATED:19230114T103119Z
LAST-MODIFIED:20240119T035142Z
UID:10009447-1706659200-1707091199@www.bcmagazine.net
SUMMARY:The Wonderful World of Disney on Ice
DESCRIPTION:The Wonderful World of Disney on Ice\nDate: 31 January – 4 February 2024\nVenue: HKCEC\, Hall 5BC\nTickets: $1\,180\, $980\, $780\, $680\, $480\, $398\, $280 from HKTicketing\nMore info:\n31 Jan -4 Feb – 7:30pm\n3-4 Feb – 11am\n2-4 Feb – 3:30pm
URL:https://www.bcmagazine.net/event/the-wonderful-world-of-disney-on-ice/
LOCATION:HK Convention and Exhibition Centre\, 1 Expo Drive\, Wanchai\, Hong Kong
CATEGORIES:2024,Musical,Other,Performing Arts,Theatre
ATTACH;FMTTYPE=image/jpeg:https://www.bcmagazine.net/wp-content/uploads/2023/01/Disney-on-Ice-2024.jpeg
END:VEVENT
END:VCALENDAR