BEGIN:VCALENDAR
VERSION:2.0
PRODID:-//bc magazine - ECPv6.15.20//NONSGML v1.0//EN
CALSCALE:GREGORIAN
METHOD:PUBLISH
X-WR-CALNAME:bc magazine
X-ORIGINAL-URL:https://www.bcmagazine.net
X-WR-CALDESC:Events for bc magazine
REFRESH-INTERVAL;VALUE=DURATION:PT1H
X-Robots-Tag:noindex
X-PUBLISHED-TTL:PT1H
BEGIN:VTIMEZONE
TZID:Asia/Hong_Kong
BEGIN:STANDARD
TZOFFSETFROM:+0800
TZOFFSETTO:+0800
TZNAME:HKT
DTSTART:20230101T000000
END:STANDARD
END:VTIMEZONE
BEGIN:VEVENT
DTSTART;VALUE=DATE:20240601
DTEND;VALUE=DATE:20240602
DTSTAMP:20260421T042521
CREATED:19240315T024537Z
LAST-MODIFIED:20240408T110426Z
UID:10009763-1717200000-1717286399@www.bcmagazine.net
SUMMARY:The Sound of Music
DESCRIPTION:The Sound of Music\nDate: 16 April – 9 June 2024\nVenue: Xiqu Centre\, Grand Theatre\nTickets: $1\,188\, $1\,088\, $988\, $888\, $828\, $688\, $588\nMore info:\nTuesday to Friday: 7:30pm\nSaturday: 2:30pm\, 7:45pm\nSunday: 1:30pm\, 6:30pm
URL:https://www.bcmagazine.net/event/the-sound-of-music/2024-06-01/
LOCATION:Xiqu Centre\, Grand Theatre\, 88 Austin Road West\, Tsim Sha Tsui\, Hong Kong
CATEGORIES:2024,Music,Musical,Nightlife,Performing Arts
ATTACH;FMTTYPE=image/png:https://www.bcmagazine.net/wp-content/uploads/2024/03/sound-of-musuc-hk-2024.png
END:VEVENT
BEGIN:VEVENT
DTSTART;VALUE=DATE:20240602
DTEND;VALUE=DATE:20240603
DTSTAMP:20260421T042521
CREATED:19240315T024537Z
LAST-MODIFIED:20240408T110426Z
UID:10009764-1717286400-1717372799@www.bcmagazine.net
SUMMARY:The Sound of Music
DESCRIPTION:The Sound of Music\nDate: 16 April – 9 June 2024\nVenue: Xiqu Centre\, Grand Theatre\nTickets: $1\,188\, $1\,088\, $988\, $888\, $828\, $688\, $588\nMore info:\nTuesday to Friday: 7:30pm\nSaturday: 2:30pm\, 7:45pm\nSunday: 1:30pm\, 6:30pm
URL:https://www.bcmagazine.net/event/the-sound-of-music/2024-06-02/
LOCATION:Xiqu Centre\, Grand Theatre\, 88 Austin Road West\, Tsim Sha Tsui\, Hong Kong
CATEGORIES:2024,Music,Musical,Nightlife,Performing Arts
ATTACH;FMTTYPE=image/png:https://www.bcmagazine.net/wp-content/uploads/2024/03/sound-of-musuc-hk-2024.png
END:VEVENT
BEGIN:VEVENT
DTSTART;VALUE=DATE:20240604
DTEND;VALUE=DATE:20240605
DTSTAMP:20260421T042521
CREATED:19240315T024537Z
LAST-MODIFIED:20240408T110426Z
UID:10009765-1717459200-1717545599@www.bcmagazine.net
SUMMARY:The Sound of Music
DESCRIPTION:The Sound of Music\nDate: 16 April – 9 June 2024\nVenue: Xiqu Centre\, Grand Theatre\nTickets: $1\,188\, $1\,088\, $988\, $888\, $828\, $688\, $588\nMore info:\nTuesday to Friday: 7:30pm\nSaturday: 2:30pm\, 7:45pm\nSunday: 1:30pm\, 6:30pm
URL:https://www.bcmagazine.net/event/the-sound-of-music/2024-06-04/
LOCATION:Xiqu Centre\, Grand Theatre\, 88 Austin Road West\, Tsim Sha Tsui\, Hong Kong
CATEGORIES:2024,Music,Musical,Nightlife,Performing Arts
ATTACH;FMTTYPE=image/png:https://www.bcmagazine.net/wp-content/uploads/2024/03/sound-of-musuc-hk-2024.png
END:VEVENT
BEGIN:VEVENT
DTSTART;VALUE=DATE:20240605
DTEND;VALUE=DATE:20240606
DTSTAMP:20260421T042521
CREATED:19240315T024537Z
LAST-MODIFIED:20240408T110426Z
UID:10009766-1717545600-1717631999@www.bcmagazine.net
SUMMARY:The Sound of Music
DESCRIPTION:The Sound of Music\nDate: 16 April – 9 June 2024\nVenue: Xiqu Centre\, Grand Theatre\nTickets: $1\,188\, $1\,088\, $988\, $888\, $828\, $688\, $588\nMore info:\nTuesday to Friday: 7:30pm\nSaturday: 2:30pm\, 7:45pm\nSunday: 1:30pm\, 6:30pm
URL:https://www.bcmagazine.net/event/the-sound-of-music/2024-06-05/
LOCATION:Xiqu Centre\, Grand Theatre\, 88 Austin Road West\, Tsim Sha Tsui\, Hong Kong
CATEGORIES:2024,Music,Musical,Nightlife,Performing Arts
ATTACH;FMTTYPE=image/png:https://www.bcmagazine.net/wp-content/uploads/2024/03/sound-of-musuc-hk-2024.png
END:VEVENT
BEGIN:VEVENT
DTSTART;VALUE=DATE:20240606
DTEND;VALUE=DATE:20240607
DTSTAMP:20260421T042521
CREATED:19240315T024537Z
LAST-MODIFIED:20240408T110426Z
UID:10009767-1717632000-1717718399@www.bcmagazine.net
SUMMARY:The Sound of Music
DESCRIPTION:The Sound of Music\nDate: 16 April – 9 June 2024\nVenue: Xiqu Centre\, Grand Theatre\nTickets: $1\,188\, $1\,088\, $988\, $888\, $828\, $688\, $588\nMore info:\nTuesday to Friday: 7:30pm\nSaturday: 2:30pm\, 7:45pm\nSunday: 1:30pm\, 6:30pm
URL:https://www.bcmagazine.net/event/the-sound-of-music/2024-06-06/
LOCATION:Xiqu Centre\, Grand Theatre\, 88 Austin Road West\, Tsim Sha Tsui\, Hong Kong
CATEGORIES:2024,Music,Musical,Nightlife,Performing Arts
ATTACH;FMTTYPE=image/png:https://www.bcmagazine.net/wp-content/uploads/2024/03/sound-of-musuc-hk-2024.png
END:VEVENT
BEGIN:VEVENT
DTSTART;VALUE=DATE:20240607
DTEND;VALUE=DATE:20240608
DTSTAMP:20260421T042521
CREATED:19240315T024537Z
LAST-MODIFIED:20240408T110426Z
UID:10009768-1717718400-1717804799@www.bcmagazine.net
SUMMARY:The Sound of Music
DESCRIPTION:The Sound of Music\nDate: 16 April – 9 June 2024\nVenue: Xiqu Centre\, Grand Theatre\nTickets: $1\,188\, $1\,088\, $988\, $888\, $828\, $688\, $588\nMore info:\nTuesday to Friday: 7:30pm\nSaturday: 2:30pm\, 7:45pm\nSunday: 1:30pm\, 6:30pm
URL:https://www.bcmagazine.net/event/the-sound-of-music/2024-06-07/
LOCATION:Xiqu Centre\, Grand Theatre\, 88 Austin Road West\, Tsim Sha Tsui\, Hong Kong
CATEGORIES:2024,Music,Musical,Nightlife,Performing Arts
ATTACH;FMTTYPE=image/png:https://www.bcmagazine.net/wp-content/uploads/2024/03/sound-of-musuc-hk-2024.png
END:VEVENT
BEGIN:VEVENT
DTSTART;VALUE=DATE:20240608
DTEND;VALUE=DATE:20240609
DTSTAMP:20260421T042521
CREATED:19240315T024537Z
LAST-MODIFIED:20240408T110426Z
UID:10009769-1717804800-1717891199@www.bcmagazine.net
SUMMARY:The Sound of Music
DESCRIPTION:The Sound of Music\nDate: 16 April – 9 June 2024\nVenue: Xiqu Centre\, Grand Theatre\nTickets: $1\,188\, $1\,088\, $988\, $888\, $828\, $688\, $588\nMore info:\nTuesday to Friday: 7:30pm\nSaturday: 2:30pm\, 7:45pm\nSunday: 1:30pm\, 6:30pm
URL:https://www.bcmagazine.net/event/the-sound-of-music/2024-06-08/
LOCATION:Xiqu Centre\, Grand Theatre\, 88 Austin Road West\, Tsim Sha Tsui\, Hong Kong
CATEGORIES:2024,Music,Musical,Nightlife,Performing Arts
ATTACH;FMTTYPE=image/png:https://www.bcmagazine.net/wp-content/uploads/2024/03/sound-of-musuc-hk-2024.png
END:VEVENT
BEGIN:VEVENT
DTSTART;VALUE=DATE:20240609
DTEND;VALUE=DATE:20240610
DTSTAMP:20260421T042521
CREATED:19240315T024537Z
LAST-MODIFIED:20240408T110426Z
UID:10009770-1717891200-1717977599@www.bcmagazine.net
SUMMARY:The Sound of Music
DESCRIPTION:The Sound of Music\nDate: 16 April – 9 June 2024\nVenue: Xiqu Centre\, Grand Theatre\nTickets: $1\,188\, $1\,088\, $988\, $888\, $828\, $688\, $588\nMore info:\nTuesday to Friday: 7:30pm\nSaturday: 2:30pm\, 7:45pm\nSunday: 1:30pm\, 6:30pm
URL:https://www.bcmagazine.net/event/the-sound-of-music/2024-06-09/
LOCATION:Xiqu Centre\, Grand Theatre\, 88 Austin Road West\, Tsim Sha Tsui\, Hong Kong
CATEGORIES:2024,Music,Musical,Nightlife,Performing Arts
ATTACH;FMTTYPE=image/png:https://www.bcmagazine.net/wp-content/uploads/2024/03/sound-of-musuc-hk-2024.png
END:VEVENT
BEGIN:VEVENT
DTSTART;TZID=Asia/Hong_Kong:20240610T200000
DTEND;TZID=Asia/Hong_Kong:20240610T200000
DTSTAMP:20260421T042521
CREATED:19240508T064205Z
LAST-MODIFIED:20240516T093530Z
UID:10009823-1718049600-1718049600@www.bcmagazine.net
SUMMARY:Dragon Boat Festival Drone Show
DESCRIPTION:Dragon Boat Festival Drone Show\nDate: 8pm\, 10 June\, 2024\nVenue: Victoria Harbour\nTickets: Free
URL:https://www.bcmagazine.net/event/dragon-boat-festival-drone-show-2024/
LOCATION:Victoria Harbour\, Hong Kong
CATEGORIES:2024,Cultural Festival,Free,Other
ATTACH;FMTTYPE=image/jpeg:https://www.bcmagazine.net/wp-content/uploads/1924/05/HKTB-Drone-Show-2024_5.jpg
END:VEVENT
BEGIN:VEVENT
DTSTART;VALUE=DATE:20240615
DTEND;VALUE=DATE:20240617
DTSTAMP:20260421T042521
CREATED:20240416T094231Z
LAST-MODIFIED:20240516T092653Z
UID:10009822-1718409600-1718582399@www.bcmagazine.net
SUMMARY:Hong Kong International Dragon Boat Races
DESCRIPTION:Hong Kong International Dragon Boat Races\nDate: 15-16 June\, 2024\nVenue: Central Harbourfront\nTickets: Free
URL:https://www.bcmagazine.net/event/hong-kong-international-dragon-boat-races-2024/
LOCATION:Central Harbourfront\,  9 Lung Wo Road\, Central\, Hong Kong
CATEGORIES:2024,Cultural Festival,Dragon Boat,Free,Lifestyle,Sport
ATTACH;FMTTYPE=image/jpeg:https://www.bcmagazine.net/wp-content/uploads/1917/05/2024-Hong-Kong-International-Dragon-Boat-Races.jpg
GEO:22.2826223;114.164346
X-APPLE-STRUCTURED-LOCATION;VALUE=URI;X-ADDRESS=Central Harbourfront  9 Lung Wo Road Central Hong Kong;X-APPLE-RADIUS=500;X-TITLE=9 Lung Wo Road:geo:114.164346,22.2826223
END:VEVENT
BEGIN:VEVENT
DTSTART;TZID=Asia/Hong_Kong:20240615T200000
DTEND;TZID=Asia/Hong_Kong:20240615T200000
DTSTAMP:20260421T042521
CREATED:19240508T064805Z
LAST-MODIFIED:20240516T093734Z
UID:10009824-1718481600-1718481600@www.bcmagazine.net
SUMMARY:Hong Kong International Dragon Boat Races Drone Show
DESCRIPTION:Hong Kong International Dragon Boat Races Drone Show\nDate: 8pm\, 15 June\, 2024\nVenue: Victoria Harbour\nTickets: Free
URL:https://www.bcmagazine.net/event/hong-kong-international-dragon-boat-races-drone-show-2024/
LOCATION:Victoria Harbour\, Hong Kong
CATEGORIES:2024,Cultural Festival,Free,Other
ATTACH;FMTTYPE=image/jpeg:https://www.bcmagazine.net/wp-content/uploads/1924/05/HKTB-Drone-Show-2024_3.jpg
END:VEVENT
BEGIN:VEVENT
DTSTART;VALUE=DATE:20240621
DTEND;VALUE=DATE:20240624
DTSTAMP:20260421T042521
CREATED:20240420T124202Z
LAST-MODIFIED:20240502T125915Z
UID:10009820-1718928000-1719187199@www.bcmagazine.net
SUMMARY:One Love Asia Festival - Hong Kong
DESCRIPTION:One Love Asia Festival – Hong Kong 2024\nDate: 21-23 June\, 2024\nVenue: Central Harbourfront\nTickets: $2\,580\, $1\,980\, $1\,280\, $990
URL:https://www.bcmagazine.net/event/one-love-asia-festival-hong-kong-2024/
LOCATION:Central Harbourfront\,  9 Lung Wo Road\, Central\, Hong Kong
CATEGORIES:2024,Comedy,Concert,Lifestyle,Music,Performing Arts
ATTACH;FMTTYPE=image/jpeg:https://www.bcmagazine.net/wp-content/uploads/2024/04/one-love-asia-festival-hong-kong-2024.jpg
GEO:22.2826223;114.164346
X-APPLE-STRUCTURED-LOCATION;VALUE=URI;X-ADDRESS=Central Harbourfront  9 Lung Wo Road Central Hong Kong;X-APPLE-RADIUS=500;X-TITLE=9 Lung Wo Road:geo:114.164346,22.2826223
END:VEVENT
END:VCALENDAR