BEGIN:VCALENDAR
VERSION:2.0
PRODID:-//bc magazine - ECPv6.15.20//NONSGML v1.0//EN
CALSCALE:GREGORIAN
METHOD:PUBLISH
X-WR-CALNAME:bc magazine
X-ORIGINAL-URL:https://www.bcmagazine.net
X-WR-CALDESC:Events for bc magazine
REFRESH-INTERVAL;VALUE=DURATION:PT1H
X-Robots-Tag:noindex
X-PUBLISHED-TTL:PT1H
BEGIN:VTIMEZONE
TZID:Asia/Hong_Kong
BEGIN:STANDARD
TZOFFSETFROM:+0800
TZOFFSETTO:+0800
TZNAME:HKT
DTSTART:20230101T000000
END:STANDARD
END:VTIMEZONE
BEGIN:VEVENT
DTSTART;VALUE=DATE:20241026
DTEND;VALUE=DATE:20241104
DTSTAMP:20260421T101631
CREATED:20240822T041457Z
LAST-MODIFIED:20240923T142312Z
UID:10009996-1729900800-1730678399@www.bcmagazine.net
SUMMARY:Hong Kong WTA Tennis Open 2024
DESCRIPTION:Hong Kong Tennis Open – WTA 250\nDate: 26 October – 3 November\, 2024\nVenue: Victoria Park\nTickets: $765\, $605\, $395\, $305
URL:https://www.bcmagazine.net/event/hong-kong-tennis-open-2024-wta/
LOCATION:Victoria Park\, Causeway Bay\, Hong Kong
CATEGORIES:2024,Sport,Tennis
ATTACH;FMTTYPE=image/webp:https://www.bcmagazine.net/wp-content/uploads/1924/08/Hong-Kong-Tennis-Open-2024.webp
END:VEVENT
BEGIN:VEVENT
DTSTART;VALUE=DATE:20241101
DTEND;VALUE=DATE:20241104
DTSTAMP:20260421T101631
CREATED:20240928T084823Z
LAST-MODIFIED:20241006T162406Z
UID:10010165-1730419200-1730678399@www.bcmagazine.net
SUMMARY:HK Cricket Sixes
DESCRIPTION:HK Cricket Sixes\nDate: 1-3 November\, 2024\nVenue: Kowloon Cricket Club\nTickets: $1\,200\, $700\, $600\, $350
URL:https://www.bcmagazine.net/event/hk-cricket-sixes-2024/
LOCATION:Tin Kwong Road Recreation Ground\, Tin Kwong Road\, Mong Kok\, Hong Kong
CATEGORIES:2024,Cricket,Sport
ATTACH;FMTTYPE=image/webp:https://www.bcmagazine.net/wp-content/uploads/1917/06/HK-cricket-6s-2024.webp
GEO:22.3219997;114.1847986
X-APPLE-STRUCTURED-LOCATION;VALUE=URI;X-ADDRESS=Tin Kwong Road Recreation Ground Tin Kwong Road Mong Kok Hong Kong;X-APPLE-RADIUS=500;X-TITLE=Tin Kwong Road:geo:114.1847986,22.3219997
END:VEVENT
BEGIN:VEVENT
DTSTART;VALUE=DATE:20241102
DTEND;VALUE=DATE:20241104
DTSTAMP:20260421T101631
CREATED:20241101T120855Z
LAST-MODIFIED:20241101T143550Z
UID:10010190-1730505600-1730678399@www.bcmagazine.net
SUMMARY:Indonesia Week
DESCRIPTION:Indonesia Week Hong Kong 2024\nDate: 2-3 November\, 2024\nVenue: Wan Chai Harbourfront Event Space\nTickets: Free
URL:https://www.bcmagazine.net/event/indonesia-week-hong-kong-2024/
LOCATION:Wan Chai Harbourfront Event Space\, 3 Hung Hing Road\, Wanchai\, Hong Kong
CATEGORIES:2024,Cantopop,Concert,Cultural Festival,Dance,Exhibition,Fashion,Food,Free,LGBT,Lifestyle,Music,Performing Arts
ATTACH;FMTTYPE=image/jpeg:https://www.bcmagazine.net/wp-content/uploads/2024/10/Indonesia-Week-Hong-Kong-2024.jpeg
END:VEVENT
BEGIN:VEVENT
DTSTART;TZID=Asia/Hong_Kong:20241107T200000
DTEND;TZID=Asia/Hong_Kong:20241107T200000
DTSTAMP:20260421T101631
CREATED:20241029T094055Z
LAST-MODIFIED:20241101T140313Z
UID:10010180-1731009600-1731009600@www.bcmagazine.net
SUMMARY:Hyde
DESCRIPTION:Hyde – Inside\nDate: 8pm\, 7 November\, 2024\nVenue: MacPherson Stadium\nTickets: $1\,488\,  $1\,188\, $988
URL:https://www.bcmagazine.net/event/hyde-2024-hong-kong/
LOCATION:MacPherson Stadium\, 38 Nelson Street\, Mongkok\, Hong Kong
CATEGORIES:2024,Cantopop,Concert,Music,Performing Arts
ATTACH;FMTTYPE=image/png:https://www.bcmagazine.net/wp-content/uploads/2024/10/hyde-inside-hong-kong-2024.png
GEO:22.3188457;114.1728403
X-APPLE-STRUCTURED-LOCATION;VALUE=URI;X-ADDRESS=MacPherson Stadium 38 Nelson Street Mongkok Hong Kong;X-APPLE-RADIUS=500;X-TITLE=38 Nelson Street:geo:114.1728403,22.3188457
END:VEVENT
BEGIN:VEVENT
DTSTART;VALUE=DATE:20241108
DTEND;VALUE=DATE:20241111
DTSTAMP:20260421T101631
CREATED:20240803T124202Z
LAST-MODIFIED:20240821T094541Z
UID:10009462-1731024000-1731283199@www.bcmagazine.net
SUMMARY:Shi Fu Miz Festival 2024
DESCRIPTION:Shi Fu Miz Festival 2024\nDate: 8-10 November\, 2024\nVenue: Sai Yuen Camping & Adventure Park\nTickets: $1\,080\, $880 from Shi Fu Miz
URL:https://www.bcmagazine.net/event/shi-fu-miz-festival-2024/
LOCATION:Saiyuen Camping & Adventure Park\, Sai Yuen\, Sai Wan\, Hong Kong
CATEGORIES:2024,Comedy,Concert,Lifestyle,Music,Performing Arts
ATTACH;FMTTYPE=image/jpeg:https://www.bcmagazine.net/wp-content/uploads/2024/04/Shi-Fu-Miz-2024.jpg
END:VEVENT
BEGIN:VEVENT
DTSTART;VALUE=DATE:20241108
DTEND;VALUE=DATE:20241111
DTSTAMP:20260421T101631
CREATED:20260208T124202Z
LAST-MODIFIED:20260211T100141Z
UID:10012619-1731024000-1731283199@www.bcmagazine.net
SUMMARY:Shi Fu Miz Festival 2026
DESCRIPTION:Shi Fu Miz Festival 2026\nDate: 21 March 2026\nVenue: Tai Tong Organic EcoPark\nTickets: $688\, $588 from Shi Fu Miz
URL:https://www.bcmagazine.net/event/shi-fu-miz-festival-2026/
LOCATION:Tai Tong Organic EcoPark\, Tai Tong Shan Road\, Yuen Long\, Hong Kong
CATEGORIES:2026,Comedy,Concert,Lifestyle,Music,Performing Arts
ATTACH;FMTTYPE=image/jpeg:https://www.bcmagazine.net/wp-content/uploads/2024/08/shi-fu-miz-2026.jpg
END:VEVENT
BEGIN:VEVENT
DTSTART;TZID=Asia/Hong_Kong:20241108T200000
DTEND;TZID=Asia/Hong_Kong:20241108T200000
DTSTAMP:20260421T101631
CREATED:20241031T094055Z
LAST-MODIFIED:20241101T135837Z
UID:10010179-1731096000-1731096000@www.bcmagazine.net
SUMMARY:10CM - Closer to You
DESCRIPTION:10CM – Closer to You\nDate: 8pm\, 8 November\, 2024\nVenue: MacPherson Stadium\nTickets: $1\,180\,  $980\, $880\, $580\, $480
URL:https://www.bcmagazine.net/event/10cm-closer-to-you/
LOCATION:MacPherson Stadium\, 38 Nelson Street\, Mongkok\, Hong Kong
CATEGORIES:2024,Cantopop,Concert,Music,Performing Arts
ATTACH;FMTTYPE=image/jpeg:https://www.bcmagazine.net/wp-content/uploads/2021/10/Closer-to-you-2024.jpeg
GEO:22.3188457;114.1728403
X-APPLE-STRUCTURED-LOCATION;VALUE=URI;X-ADDRESS=MacPherson Stadium 38 Nelson Street Mongkok Hong Kong;X-APPLE-RADIUS=500;X-TITLE=38 Nelson Street:geo:114.1728403,22.3188457
END:VEVENT
BEGIN:VEVENT
DTSTART;VALUE=DATE:20241109
DTEND;VALUE=DATE:20241111
DTSTAMP:20260421T101631
CREATED:20231222T080806Z
LAST-MODIFIED:20240117T104318Z
UID:10009434-1731110400-1731283199@www.bcmagazine.net
SUMMARY:E1 World Championship
DESCRIPTION:E1 World Championship – Hong Kong Grand Prix\nDate: 9-10 November\, 2024\nVenue: Victoria Harbour\nTickets: Free
URL:https://www.bcmagazine.net/event/e1-world-championship-2024/
LOCATION:Victoria Harbour\, Hong Kong
CATEGORIES:2024,Free,Sport
ATTACH;FMTTYPE=image/jpeg:https://www.bcmagazine.net/wp-content/uploads/2021/12/Electirc-Boat-Race-e1.jpeg
END:VEVENT
BEGIN:VEVENT
DTSTART;VALUE=DATE:20241109
DTEND;VALUE=DATE:20241118
DTSTAMP:20260421T101631
CREATED:20241029T084226Z
LAST-MODIFIED:20241030T141412Z
UID:10010177-1731110400-1731887999@www.bcmagazine.net
SUMMARY:Belgian Days
DESCRIPTION:Belgian Days\nDate: 9-17 November\, 2024 HKnightlife\, HKfood\, HKlivemusic\, HKart\, BelgiumHK\nVenue: Various\nTickets: tbc\nMore info:\nhttps://belgiandays.odoo.com
URL:https://www.bcmagazine.net/event/belgian-days-2024/
CATEGORIES:2024,Cultural Festival,Exhibition,Lifestyle,Macau,Music,Nightlife,Performing Arts
ATTACH;FMTTYPE=image/jpeg:https://www.bcmagazine.net/wp-content/uploads/2024/10/Belgian-Days-2024.jpg
END:VEVENT
BEGIN:VEVENT
DTSTART;VALUE=DATE:20241110
DTEND;VALUE=DATE:20241111
DTSTAMP:20260421T101631
CREATED:20241103T120614Z
LAST-MODIFIED:20241101T144911Z
UID:10010191-1731196800-1731283199@www.bcmagazine.net
SUMMARY:Cross Harbour Race
DESCRIPTION:Cross Harbour Race 2024\nDate: 10 November\, 2024\nVenue: Victoria Harbour\nTickets:  Free 
URL:https://www.bcmagazine.net/event/cross-harbour-race-2024/
LOCATION:Victoria Harbour\, Hong Kong
CATEGORIES:2024,Sport,Swimming
ATTACH;FMTTYPE=image/jpeg:https://www.bcmagazine.net/wp-content/uploads/1917/06/harbour-race-2024-2.jpg
END:VEVENT
BEGIN:VEVENT
DTSTART;TZID=Asia/Hong_Kong:20241110T200000
DTEND;TZID=Asia/Hong_Kong:20241110T200000
DTSTAMP:20260421T101631
CREATED:20241028T044055Z
LAST-MODIFIED:20241101T140711Z
UID:10010181-1731268800-1731268800@www.bcmagazine.net
SUMMARY:Bestart
DESCRIPTION:Bestart\nDate: 8pm\, 10 November\, 2024\nVenue: MacPherson Stadium\nTickets: $780\, $480
URL:https://www.bcmagazine.net/event/bestart-2024-hong-kong/
LOCATION:MacPherson Stadium\, 38 Nelson Street\, Mongkok\, Hong Kong
CATEGORIES:2024,Cantopop,Concert,Music,Performing Arts
ATTACH;FMTTYPE=image/jpeg:https://www.bcmagazine.net/wp-content/uploads/2024/10/Bestart.jpg
GEO:22.3188457;114.1728403
X-APPLE-STRUCTURED-LOCATION;VALUE=URI;X-ADDRESS=MacPherson Stadium 38 Nelson Street Mongkok Hong Kong;X-APPLE-RADIUS=500;X-TITLE=38 Nelson Street:geo:114.1728403,22.3188457
END:VEVENT
BEGIN:VEVENT
DTSTART;TZID=Asia/Hong_Kong:20241111T200000
DTEND;TZID=Asia/Hong_Kong:20241111T200000
DTSTAMP:20260421T101631
CREATED:19230812T120802Z
LAST-MODIFIED:20240923T141553Z
UID:10010000-1731355200-1731355200@www.bcmagazine.net
SUMMARY:Buzzcocks
DESCRIPTION:Buzzcocks\nSupport: The Side Burns\nDate: 8pm\, 11\, 12 November\, 2024\nVenue: The Wanch\nTickets: $488
URL:https://www.bcmagazine.net/event/buzzcocks-hong-kong-2024/2024-11-11/
LOCATION:The Wanch\, 1/F\, Henan Building\, 90 Jaffe Road\, Wanchai\, Hong Kong
CATEGORIES:2024,Concert,Music,Performing Arts
ATTACH;FMTTYPE=image/jpeg:https://www.bcmagazine.net/wp-content/uploads/2023/12/buzzcocks-hong-kong-2024.jpg
END:VEVENT
BEGIN:VEVENT
DTSTART;TZID=Asia/Hong_Kong:20241112T200000
DTEND;TZID=Asia/Hong_Kong:20241112T200000
DTSTAMP:20260421T101631
CREATED:19230812T120802Z
LAST-MODIFIED:20240923T141553Z
UID:10010001-1731441600-1731441600@www.bcmagazine.net
SUMMARY:Buzzcocks
DESCRIPTION:Buzzcocks\nSupport: The Side Burns\nDate: 8pm\, 11\, 12 November\, 2024\nVenue: The Wanch\nTickets: $488
URL:https://www.bcmagazine.net/event/buzzcocks-hong-kong-2024/2024-11-12/
LOCATION:The Wanch\, 1/F\, Henan Building\, 90 Jaffe Road\, Wanchai\, Hong Kong
CATEGORIES:2024,Concert,Music,Performing Arts
ATTACH;FMTTYPE=image/jpeg:https://www.bcmagazine.net/wp-content/uploads/2023/12/buzzcocks-hong-kong-2024.jpg
END:VEVENT
BEGIN:VEVENT
DTSTART;VALUE=DATE:20241113
DTEND;VALUE=DATE:20250113
DTSTAMP:20260421T101631
CREATED:20241011T100841Z
LAST-MODIFIED:20241014T153459Z
UID:10010171-1731456000-1736726399@www.bcmagazine.net
SUMMARY:Sai Kung Hoi Arts Festival
DESCRIPTION:Sai Kung Hoi Arts Festival\nDate: 13 November 2024 – 12 January 2025\nVenue: Various\nTickets: online\nNote: https://skhartsfestival.hk/en/
URL:https://www.bcmagazine.net/event/sai-kung-hoi-arts-festival-2024/
LOCATION:Sai Kung\, Sai Kung\, Hong Kong
CATEGORIES:2024,2025,Cultural Festival,Free,Performing Arts
ATTACH;FMTTYPE=image/jpeg:https://www.bcmagazine.net/wp-content/uploads/1921/02/sai-hung-koi-arts-festival-2024.jpg
GEO:22.396428;114.109497
END:VEVENT
BEGIN:VEVENT
DTSTART;VALUE=DATE:20241114
DTEND;VALUE=DATE:20241118
DTSTAMP:20260421T101631
CREATED:20241007T084247Z
LAST-MODIFIED:20241007T134549Z
UID:10010167-1731542400-1731887999@www.bcmagazine.net
SUMMARY:Macau Grand Prix
DESCRIPTION:71st Macau Grand Prix\nDate: 14-17 November\, 2024\nVenue: Guia Circuit\, Macau\nTickets: tbc
URL:https://www.bcmagazine.net/event/macau-grand-prix-2024/
LOCATION:Macau\, Macau
CATEGORIES:2024,Macau,Motorsports,Sport
ATTACH;FMTTYPE=image/webp:https://www.bcmagazine.net/wp-content/uploads/2020/11/macau-grandprix-2024.webp
GEO:22.198745;113.543873
END:VEVENT
BEGIN:VEVENT
DTSTART;VALUE=DATE:20241116
DTEND;VALUE=DATE:20241117
DTSTAMP:20260421T101631
CREATED:20231107T061819Z
LAST-MODIFIED:20241107T181054Z
UID:10010193-1731715200-1731801599@www.bcmagazine.net
SUMMARY:Lamma Fun Day Beach Music Festival
DESCRIPTION:21st Lamma Fun Day Beach Music Festival\nDate: 11am-11pm\, 16 November\, 2024\nVenue: Tai Wan To Beach (Power Station Beach)\, Lamma Island\nTickets: Free\nMore info: www.facebook.com/LammaFunDay
URL:https://www.bcmagazine.net/event/lamma-fun-day-beach-music-festival-2024/
LOCATION:Tai Wan To Beach\, Lamma Island\, Hong Kong
CATEGORIES:2024,Concert,Food,Free,Lifestyle,Music,Performing Arts,Sport
ATTACH;FMTTYPE=image/jpeg:https://www.bcmagazine.net/wp-content/uploads/2023/11/Lamma-Fun-Day-Beach-Music-Festival-2024-music.jpg
END:VEVENT
BEGIN:VEVENT
DTSTART;TZID=Asia/Hong_Kong:20241117T200000
DTEND;TZID=Asia/Hong_Kong:20241117T200000
DTSTAMP:20260421T101631
CREATED:20241101T004255Z
LAST-MODIFIED:20241101T142038Z
UID:10010189-1731873600-1731873600@www.bcmagazine.net
SUMMARY:Icyball
DESCRIPTION:Icyball – Day by Day\nDate: 8pm\, 17 November\, 2024\nVenue: MacPherson Stadium\nTickets: $680\, $480
URL:https://www.bcmagazine.net/event/icyball-hong-kong-2024/
LOCATION:MacPherson Stadium\, 38 Nelson Street\, Mongkok\, Hong Kong
CATEGORIES:2024,Cantopop,Concert,Music,Performing Arts
ATTACH;FMTTYPE=image/png:https://www.bcmagazine.net/wp-content/uploads/2024/10/icyball-Hongkong-2024.png
GEO:22.3188457;114.1728403
X-APPLE-STRUCTURED-LOCATION;VALUE=URI;X-ADDRESS=MacPherson Stadium 38 Nelson Street Mongkok Hong Kong;X-APPLE-RADIUS=500;X-TITLE=38 Nelson Street:geo:114.1728403,22.3188457
END:VEVENT
BEGIN:VEVENT
DTSTART;TZID=Asia/Hong_Kong:20241127T201500
DTEND;TZID=Asia/Hong_Kong:20241127T201500
DTSTAMP:20260421T101631
CREATED:20241101T104255Z
LAST-MODIFIED:20241101T141244Z
UID:10010183-1732738500-1732738500@www.bcmagazine.net
SUMMARY:Endy Chow
DESCRIPTION:Endy Chow – Tailor Mate\nDate: 8:15pm\, 27-28 November\, 2024\nVenue: MacPherson Stadium\nTickets: $880\, $680\, $580
URL:https://www.bcmagazine.net/event/endy-chow-hong-kong-2024/2024-11-27/
LOCATION:MacPherson Stadium\, 38 Nelson Street\, Mongkok\, Hong Kong
CATEGORIES:2024,Cantopop,Concert,Music,Performing Arts
ATTACH;FMTTYPE=image/jpeg:https://www.bcmagazine.net/wp-content/uploads/2024/10/Endy-Chow-Tailor-mate-2024.jpg
GEO:22.3188457;114.1728403
X-APPLE-STRUCTURED-LOCATION;VALUE=URI;X-ADDRESS=MacPherson Stadium 38 Nelson Street Mongkok Hong Kong;X-APPLE-RADIUS=500;X-TITLE=38 Nelson Street:geo:114.1728403,22.3188457
END:VEVENT
BEGIN:VEVENT
DTSTART;TZID=Asia/Hong_Kong:20241128T201500
DTEND;TZID=Asia/Hong_Kong:20241128T201500
DTSTAMP:20260421T101631
CREATED:20241101T104255Z
LAST-MODIFIED:20241101T141244Z
UID:10010184-1732824900-1732824900@www.bcmagazine.net
SUMMARY:Endy Chow
DESCRIPTION:Endy Chow – Tailor Mate\nDate: 8:15pm\, 27-28 November\, 2024\nVenue: MacPherson Stadium\nTickets: $880\, $680\, $580
URL:https://www.bcmagazine.net/event/endy-chow-hong-kong-2024/2024-11-28/
LOCATION:MacPherson Stadium\, 38 Nelson Street\, Mongkok\, Hong Kong
CATEGORIES:2024,Cantopop,Concert,Music,Performing Arts
ATTACH;FMTTYPE=image/jpeg:https://www.bcmagazine.net/wp-content/uploads/2024/10/Endy-Chow-Tailor-mate-2024.jpg
GEO:22.3188457;114.1728403
X-APPLE-STRUCTURED-LOCATION;VALUE=URI;X-ADDRESS=MacPherson Stadium 38 Nelson Street Mongkok Hong Kong;X-APPLE-RADIUS=500;X-TITLE=38 Nelson Street:geo:114.1728403,22.3188457
END:VEVENT
BEGIN:VEVENT
DTSTART;VALUE=DATE:20241129
DTEND;VALUE=DATE:20241202
DTSTAMP:20260421T101631
CREATED:19240806T085402Z
LAST-MODIFIED:20240923T144213Z
UID:10010003-1732838400-1733097599@www.bcmagazine.net
SUMMARY:Clockenflap
DESCRIPTION:Clockenflap\nDate: 29 November – 1 December\, 2024\nVenue: Central Harbourfront\nTickets: $1\,990\, $1\,280
URL:https://www.bcmagazine.net/event/clockenflap-2024/
LOCATION:Central Harbourfront\,  9 Lung Wo Road\, Central\, Hong Kong
CATEGORIES:2024,Concert,Music,Performing Arts
ATTACH;FMTTYPE=image/jpeg:https://www.bcmagazine.net/wp-content/uploads/2022/03/Clockenflap-2024.jpeg
GEO:22.2826223;114.164346
X-APPLE-STRUCTURED-LOCATION;VALUE=URI;X-ADDRESS=Central Harbourfront  9 Lung Wo Road Central Hong Kong;X-APPLE-RADIUS=500;X-TITLE=9 Lung Wo Road:geo:114.164346,22.2826223
END:VEVENT
END:VCALENDAR