BEGIN:VCALENDAR
VERSION:2.0
PRODID:-//bc magazine - ECPv6.15.20//NONSGML v1.0//EN
CALSCALE:GREGORIAN
METHOD:PUBLISH
X-ORIGINAL-URL:https://www.bcmagazine.net
X-WR-CALDESC:Events for bc magazine
REFRESH-INTERVAL;VALUE=DURATION:PT1H
X-Robots-Tag:noindex
X-PUBLISHED-TTL:PT1H
BEGIN:VTIMEZONE
TZID:Asia/Hong_Kong
BEGIN:STANDARD
TZOFFSETFROM:+0800
TZOFFSETTO:+0800
TZNAME:HKT
DTSTART:20240101T000000
END:STANDARD
END:VTIMEZONE
BEGIN:VEVENT
DTSTART;VALUE=DATE:20250315
DTEND;VALUE=DATE:20250714
DTSTAMP:20260423T004216
CREATED:20250306T000803Z
LAST-MODIFIED:20250430T144051Z
UID:10011337-1741996800-1752451199@www.bcmagazine.net
SUMMARY:Le French May
DESCRIPTION:Le French May\nDate: 15 March – 13 July 2025\nVenue: Various\nTickets: Various\nMore info:\nwww.FrenchMay.com
URL:https://www.bcmagazine.net/event/le-french-may-2025/
CATEGORIES:2025,Art Gallery,Concert,Cultural Festival,Exhibition,Fashion,Film,Food,Lifestyle,Multimedia,Music,Performing Arts
ATTACH;FMTTYPE=image/png:https://www.bcmagazine.net/wp-content/uploads/1916/04/le-french-may-2025.png
END:VEVENT
BEGIN:VEVENT
DTSTART;VALUE=DATE:20250531
DTEND;VALUE=DATE:20250609
DTSTAMP:20260423T004216
CREATED:20250508T094231Z
LAST-MODIFIED:20250514T131133Z
UID:10011341-1748649600-1749427199@www.bcmagazine.net
SUMMARY:Hong Kong International Dragon Boat Races
DESCRIPTION:Hong Kong International Dragon Boat Races\nDate: 31 May – 8 June\, 2025\nVenue: Central Harbourfront\nTickets: Free
URL:https://www.bcmagazine.net/event/hong-kong-international-dragon-boat-races-2025/
LOCATION:Central Harbourfront\,  9 Lung Wo Road\, Central\, Hong Kong
CATEGORIES:2025,Cultural Festival,Dragon Boat,Free,Lifestyle,Sport
ATTACH;FMTTYPE=image/jpeg:https://www.bcmagazine.net/wp-content/uploads/2025/05/dragon-boat-races-2025.jpg
GEO:22.2826223;114.164346
X-APPLE-STRUCTURED-LOCATION;VALUE=URI;X-ADDRESS=Central Harbourfront  9 Lung Wo Road Central Hong Kong;X-APPLE-RADIUS=500;X-TITLE=9 Lung Wo Road:geo:114.164346,22.2826223
END:VEVENT
BEGIN:VEVENT
DTSTART;TZID=Asia/Hong_Kong:20250601T193000
DTEND;TZID=Asia/Hong_Kong:20250601T193000
DTSTAMP:20260423T004216
CREATED:20250208T084237Z
LAST-MODIFIED:20250526T142521Z
UID:10011314-1748806200-1748806200@www.bcmagazine.net
SUMMARY:Cirque du Soleil: Kooza
DESCRIPTION:Cirque du Soleil’s Kooza\n Date: 21 May – 13 July 2025\nVenue: Central Harbourfront\nTickets: $1\,988\, $1\,698\, $1\,298\, $998\, $758\, $600\, $450\nMore info:\nWednesdays: 7:30pm\nThursdays: 7:30pm\nFridays: 7:30pm\nSaturdays: 1pm\, 4:30pm\, 8pm\nSundays: 1pm & 4:30pm \n 
URL:https://www.bcmagazine.net/event/kooza-hk-2025/2025-06-01/
LOCATION:Central Harbourfront\,  9 Lung Wo Road\, Central\, Hong Kong
CATEGORIES:2025,Performing Arts
ATTACH;FMTTYPE=image/webp:https://www.bcmagazine.net/wp-content/uploads/2018/02/Kooza-2025.webp
GEO:22.2826223;114.164346
X-APPLE-STRUCTURED-LOCATION;VALUE=URI;X-ADDRESS=Central Harbourfront  9 Lung Wo Road Central Hong Kong;X-APPLE-RADIUS=500;X-TITLE=9 Lung Wo Road:geo:114.164346,22.2826223
END:VEVENT
BEGIN:VEVENT
DTSTART;TZID=Asia/Hong_Kong:20250604T193000
DTEND;TZID=Asia/Hong_Kong:20250604T193000
DTSTAMP:20260423T004216
CREATED:20250208T084237Z
LAST-MODIFIED:20250526T142521Z
UID:10011315-1749065400-1749065400@www.bcmagazine.net
SUMMARY:Cirque du Soleil: Kooza
DESCRIPTION:Cirque du Soleil’s Kooza\n Date: 21 May – 13 July 2025\nVenue: Central Harbourfront\nTickets: $1\,988\, $1\,698\, $1\,298\, $998\, $758\, $600\, $450\nMore info:\nWednesdays: 7:30pm\nThursdays: 7:30pm\nFridays: 7:30pm\nSaturdays: 1pm\, 4:30pm\, 8pm\nSundays: 1pm & 4:30pm \n 
URL:https://www.bcmagazine.net/event/kooza-hk-2025/2025-06-04/
LOCATION:Central Harbourfront\,  9 Lung Wo Road\, Central\, Hong Kong
CATEGORIES:2025,Performing Arts
ATTACH;FMTTYPE=image/webp:https://www.bcmagazine.net/wp-content/uploads/2018/02/Kooza-2025.webp
GEO:22.2826223;114.164346
X-APPLE-STRUCTURED-LOCATION;VALUE=URI;X-ADDRESS=Central Harbourfront  9 Lung Wo Road Central Hong Kong;X-APPLE-RADIUS=500;X-TITLE=9 Lung Wo Road:geo:114.164346,22.2826223
END:VEVENT
BEGIN:VEVENT
DTSTART;TZID=Asia/Hong_Kong:20250605T193000
DTEND;TZID=Asia/Hong_Kong:20250605T193000
DTSTAMP:20260423T004216
CREATED:20250208T084237Z
LAST-MODIFIED:20250526T142521Z
UID:10011316-1749151800-1749151800@www.bcmagazine.net
SUMMARY:Cirque du Soleil: Kooza
DESCRIPTION:Cirque du Soleil’s Kooza\n Date: 21 May – 13 July 2025\nVenue: Central Harbourfront\nTickets: $1\,988\, $1\,698\, $1\,298\, $998\, $758\, $600\, $450\nMore info:\nWednesdays: 7:30pm\nThursdays: 7:30pm\nFridays: 7:30pm\nSaturdays: 1pm\, 4:30pm\, 8pm\nSundays: 1pm & 4:30pm \n 
URL:https://www.bcmagazine.net/event/kooza-hk-2025/2025-06-05/
LOCATION:Central Harbourfront\,  9 Lung Wo Road\, Central\, Hong Kong
CATEGORIES:2025,Performing Arts
ATTACH;FMTTYPE=image/webp:https://www.bcmagazine.net/wp-content/uploads/2018/02/Kooza-2025.webp
GEO:22.2826223;114.164346
X-APPLE-STRUCTURED-LOCATION;VALUE=URI;X-ADDRESS=Central Harbourfront  9 Lung Wo Road Central Hong Kong;X-APPLE-RADIUS=500;X-TITLE=9 Lung Wo Road:geo:114.164346,22.2826223
END:VEVENT
BEGIN:VEVENT
DTSTART;TZID=Asia/Hong_Kong:20250605T200000
DTEND;TZID=Asia/Hong_Kong:20250605T200000
DTSTAMP:20260423T004216
CREATED:20250527T063827Z
LAST-MODIFIED:20250527T080642Z
UID:10011358-1749153600-1749153600@www.bcmagazine.net
SUMMARY:Hong Kong v Nepal
DESCRIPTION:Hong Kong v Nepal\nDate: 8pm\, 5 June\, 2025\nVenue: HK Stadium\nTickets: tbc
URL:https://www.bcmagazine.net/event/hong-kong-v-nepal-2025/
LOCATION:HK Stadium\, 55 Eastern Hospital Road\, So Kon Po\, Hong Kong
CATEGORIES:2025,Football,Sport
ATTACH;FMTTYPE=image/jpeg:https://www.bcmagazine.net/wp-content/uploads/1918/04/Hong-Kong-v-Nepal-2025.jpeg
GEO:22.2730073;114.1885121
X-APPLE-STRUCTURED-LOCATION;VALUE=URI;X-ADDRESS=HK Stadium 55 Eastern Hospital Road So Kon Po Hong Kong;X-APPLE-RADIUS=500;X-TITLE=55 Eastern Hospital Road:geo:114.1885121,22.2730073
END:VEVENT
BEGIN:VEVENT
DTSTART;TZID=Asia/Hong_Kong:20250606T193000
DTEND;TZID=Asia/Hong_Kong:20250606T193000
DTSTAMP:20260423T004216
CREATED:20250208T084237Z
LAST-MODIFIED:20250526T142521Z
UID:10011317-1749238200-1749238200@www.bcmagazine.net
SUMMARY:Cirque du Soleil: Kooza
DESCRIPTION:Cirque du Soleil’s Kooza\n Date: 21 May – 13 July 2025\nVenue: Central Harbourfront\nTickets: $1\,988\, $1\,698\, $1\,298\, $998\, $758\, $600\, $450\nMore info:\nWednesdays: 7:30pm\nThursdays: 7:30pm\nFridays: 7:30pm\nSaturdays: 1pm\, 4:30pm\, 8pm\nSundays: 1pm & 4:30pm \n 
URL:https://www.bcmagazine.net/event/kooza-hk-2025/2025-06-06/
LOCATION:Central Harbourfront\,  9 Lung Wo Road\, Central\, Hong Kong
CATEGORIES:2025,Performing Arts
ATTACH;FMTTYPE=image/webp:https://www.bcmagazine.net/wp-content/uploads/2018/02/Kooza-2025.webp
GEO:22.2826223;114.164346
X-APPLE-STRUCTURED-LOCATION;VALUE=URI;X-ADDRESS=Central Harbourfront  9 Lung Wo Road Central Hong Kong;X-APPLE-RADIUS=500;X-TITLE=9 Lung Wo Road:geo:114.164346,22.2826223
END:VEVENT
BEGIN:VEVENT
DTSTART;TZID=Asia/Hong_Kong:20250607T193000
DTEND;TZID=Asia/Hong_Kong:20250607T193000
DTSTAMP:20260423T004216
CREATED:20250208T084237Z
LAST-MODIFIED:20250526T142521Z
UID:10011318-1749324600-1749324600@www.bcmagazine.net
SUMMARY:Cirque du Soleil: Kooza
DESCRIPTION:Cirque du Soleil’s Kooza\n Date: 21 May – 13 July 2025\nVenue: Central Harbourfront\nTickets: $1\,988\, $1\,698\, $1\,298\, $998\, $758\, $600\, $450\nMore info:\nWednesdays: 7:30pm\nThursdays: 7:30pm\nFridays: 7:30pm\nSaturdays: 1pm\, 4:30pm\, 8pm\nSundays: 1pm & 4:30pm \n 
URL:https://www.bcmagazine.net/event/kooza-hk-2025/2025-06-07/
LOCATION:Central Harbourfront\,  9 Lung Wo Road\, Central\, Hong Kong
CATEGORIES:2025,Performing Arts
ATTACH;FMTTYPE=image/webp:https://www.bcmagazine.net/wp-content/uploads/2018/02/Kooza-2025.webp
GEO:22.2826223;114.164346
X-APPLE-STRUCTURED-LOCATION;VALUE=URI;X-ADDRESS=Central Harbourfront  9 Lung Wo Road Central Hong Kong;X-APPLE-RADIUS=500;X-TITLE=9 Lung Wo Road:geo:114.164346,22.2826223
END:VEVENT
BEGIN:VEVENT
DTSTART;TZID=Asia/Hong_Kong:20250608T193000
DTEND;TZID=Asia/Hong_Kong:20250608T193000
DTSTAMP:20260423T004216
CREATED:20250208T084237Z
LAST-MODIFIED:20250526T142521Z
UID:10011319-1749411000-1749411000@www.bcmagazine.net
SUMMARY:Cirque du Soleil: Kooza
DESCRIPTION:Cirque du Soleil’s Kooza\n Date: 21 May – 13 July 2025\nVenue: Central Harbourfront\nTickets: $1\,988\, $1\,698\, $1\,298\, $998\, $758\, $600\, $450\nMore info:\nWednesdays: 7:30pm\nThursdays: 7:30pm\nFridays: 7:30pm\nSaturdays: 1pm\, 4:30pm\, 8pm\nSundays: 1pm & 4:30pm \n 
URL:https://www.bcmagazine.net/event/kooza-hk-2025/2025-06-08/
LOCATION:Central Harbourfront\,  9 Lung Wo Road\, Central\, Hong Kong
CATEGORIES:2025,Performing Arts
ATTACH;FMTTYPE=image/webp:https://www.bcmagazine.net/wp-content/uploads/2018/02/Kooza-2025.webp
GEO:22.2826223;114.164346
X-APPLE-STRUCTURED-LOCATION;VALUE=URI;X-ADDRESS=Central Harbourfront  9 Lung Wo Road Central Hong Kong;X-APPLE-RADIUS=500;X-TITLE=9 Lung Wo Road:geo:114.164346,22.2826223
END:VEVENT
BEGIN:VEVENT
DTSTART;TZID=Asia/Hong_Kong:20250610T200000
DTEND;TZID=Asia/Hong_Kong:20250610T200000
DTSTAMP:20260423T004216
CREATED:20250511T134230Z
LAST-MODIFIED:20250611T132356Z
UID:10011368-1749585600-1749585600@www.bcmagazine.net
SUMMARY:Hong Kong v India
DESCRIPTION:Hong Kong v India – AFC Asian Cup\nDate: 8pm\, 10 June\, 2025\nVenue: Kai Tak Stadium\nTickets: $200\, $80
URL:https://www.bcmagazine.net/event/hong-kong-v-india-june-2025/
LOCATION:Kai Tak Stadium\, 38-39 Shing Kai Road\, Kowloon City\, Hong Kong
CATEGORIES:2025,Football,Lifestyle,Nightlife,Sport
ATTACH;FMTTYPE=image/jpeg:https://www.bcmagazine.net/wp-content/uploads/2025/06/Hong-Kong-HKFA-2025.jpg
END:VEVENT
BEGIN:VEVENT
DTSTART;TZID=Asia/Hong_Kong:20250611T193000
DTEND;TZID=Asia/Hong_Kong:20250611T193000
DTSTAMP:20260423T004216
CREATED:20250208T084237Z
LAST-MODIFIED:20250526T142521Z
UID:10011320-1749670200-1749670200@www.bcmagazine.net
SUMMARY:Cirque du Soleil: Kooza
DESCRIPTION:Cirque du Soleil’s Kooza\n Date: 21 May – 13 July 2025\nVenue: Central Harbourfront\nTickets: $1\,988\, $1\,698\, $1\,298\, $998\, $758\, $600\, $450\nMore info:\nWednesdays: 7:30pm\nThursdays: 7:30pm\nFridays: 7:30pm\nSaturdays: 1pm\, 4:30pm\, 8pm\nSundays: 1pm & 4:30pm \n 
URL:https://www.bcmagazine.net/event/kooza-hk-2025/2025-06-11/
LOCATION:Central Harbourfront\,  9 Lung Wo Road\, Central\, Hong Kong
CATEGORIES:2025,Performing Arts
ATTACH;FMTTYPE=image/webp:https://www.bcmagazine.net/wp-content/uploads/2018/02/Kooza-2025.webp
GEO:22.2826223;114.164346
X-APPLE-STRUCTURED-LOCATION;VALUE=URI;X-ADDRESS=Central Harbourfront  9 Lung Wo Road Central Hong Kong;X-APPLE-RADIUS=500;X-TITLE=9 Lung Wo Road:geo:114.164346,22.2826223
END:VEVENT
BEGIN:VEVENT
DTSTART;TZID=Asia/Hong_Kong:20250612T193000
DTEND;TZID=Asia/Hong_Kong:20250612T193000
DTSTAMP:20260423T004216
CREATED:20250208T084237Z
LAST-MODIFIED:20250526T142521Z
UID:10011321-1749756600-1749756600@www.bcmagazine.net
SUMMARY:Cirque du Soleil: Kooza
DESCRIPTION:Cirque du Soleil’s Kooza\n Date: 21 May – 13 July 2025\nVenue: Central Harbourfront\nTickets: $1\,988\, $1\,698\, $1\,298\, $998\, $758\, $600\, $450\nMore info:\nWednesdays: 7:30pm\nThursdays: 7:30pm\nFridays: 7:30pm\nSaturdays: 1pm\, 4:30pm\, 8pm\nSundays: 1pm & 4:30pm \n 
URL:https://www.bcmagazine.net/event/kooza-hk-2025/2025-06-12/
LOCATION:Central Harbourfront\,  9 Lung Wo Road\, Central\, Hong Kong
CATEGORIES:2025,Performing Arts
ATTACH;FMTTYPE=image/webp:https://www.bcmagazine.net/wp-content/uploads/2018/02/Kooza-2025.webp
GEO:22.2826223;114.164346
X-APPLE-STRUCTURED-LOCATION;VALUE=URI;X-ADDRESS=Central Harbourfront  9 Lung Wo Road Central Hong Kong;X-APPLE-RADIUS=500;X-TITLE=9 Lung Wo Road:geo:114.164346,22.2826223
END:VEVENT
BEGIN:VEVENT
DTSTART;TZID=Asia/Hong_Kong:20250613T193000
DTEND;TZID=Asia/Hong_Kong:20250613T193000
DTSTAMP:20260423T004216
CREATED:20250208T084237Z
LAST-MODIFIED:20250526T142521Z
UID:10011322-1749843000-1749843000@www.bcmagazine.net
SUMMARY:Cirque du Soleil: Kooza
DESCRIPTION:Cirque du Soleil’s Kooza\n Date: 21 May – 13 July 2025\nVenue: Central Harbourfront\nTickets: $1\,988\, $1\,698\, $1\,298\, $998\, $758\, $600\, $450\nMore info:\nWednesdays: 7:30pm\nThursdays: 7:30pm\nFridays: 7:30pm\nSaturdays: 1pm\, 4:30pm\, 8pm\nSundays: 1pm & 4:30pm \n 
URL:https://www.bcmagazine.net/event/kooza-hk-2025/2025-06-13/
LOCATION:Central Harbourfront\,  9 Lung Wo Road\, Central\, Hong Kong
CATEGORIES:2025,Performing Arts
ATTACH;FMTTYPE=image/webp:https://www.bcmagazine.net/wp-content/uploads/2018/02/Kooza-2025.webp
GEO:22.2826223;114.164346
X-APPLE-STRUCTURED-LOCATION;VALUE=URI;X-ADDRESS=Central Harbourfront  9 Lung Wo Road Central Hong Kong;X-APPLE-RADIUS=500;X-TITLE=9 Lung Wo Road:geo:114.164346,22.2826223
END:VEVENT
BEGIN:VEVENT
DTSTART;TZID=Asia/Hong_Kong:20250614T193000
DTEND;TZID=Asia/Hong_Kong:20250614T193000
DTSTAMP:20260423T004216
CREATED:20250208T084237Z
LAST-MODIFIED:20250526T142521Z
UID:10011323-1749929400-1749929400@www.bcmagazine.net
SUMMARY:Cirque du Soleil: Kooza
DESCRIPTION:Cirque du Soleil’s Kooza\n Date: 21 May – 13 July 2025\nVenue: Central Harbourfront\nTickets: $1\,988\, $1\,698\, $1\,298\, $998\, $758\, $600\, $450\nMore info:\nWednesdays: 7:30pm\nThursdays: 7:30pm\nFridays: 7:30pm\nSaturdays: 1pm\, 4:30pm\, 8pm\nSundays: 1pm & 4:30pm \n 
URL:https://www.bcmagazine.net/event/kooza-hk-2025/2025-06-14/
LOCATION:Central Harbourfront\,  9 Lung Wo Road\, Central\, Hong Kong
CATEGORIES:2025,Performing Arts
ATTACH;FMTTYPE=image/webp:https://www.bcmagazine.net/wp-content/uploads/2018/02/Kooza-2025.webp
GEO:22.2826223;114.164346
X-APPLE-STRUCTURED-LOCATION;VALUE=URI;X-ADDRESS=Central Harbourfront  9 Lung Wo Road Central Hong Kong;X-APPLE-RADIUS=500;X-TITLE=9 Lung Wo Road:geo:114.164346,22.2826223
END:VEVENT
BEGIN:VEVENT
DTSTART;TZID=Asia/Hong_Kong:20250615T193000
DTEND;TZID=Asia/Hong_Kong:20250615T193000
DTSTAMP:20260423T004216
CREATED:20250208T084237Z
LAST-MODIFIED:20250526T142521Z
UID:10011324-1750015800-1750015800@www.bcmagazine.net
SUMMARY:Cirque du Soleil: Kooza
DESCRIPTION:Cirque du Soleil’s Kooza\n Date: 21 May – 13 July 2025\nVenue: Central Harbourfront\nTickets: $1\,988\, $1\,698\, $1\,298\, $998\, $758\, $600\, $450\nMore info:\nWednesdays: 7:30pm\nThursdays: 7:30pm\nFridays: 7:30pm\nSaturdays: 1pm\, 4:30pm\, 8pm\nSundays: 1pm & 4:30pm \n 
URL:https://www.bcmagazine.net/event/kooza-hk-2025/2025-06-15/
LOCATION:Central Harbourfront\,  9 Lung Wo Road\, Central\, Hong Kong
CATEGORIES:2025,Performing Arts
ATTACH;FMTTYPE=image/webp:https://www.bcmagazine.net/wp-content/uploads/2018/02/Kooza-2025.webp
GEO:22.2826223;114.164346
X-APPLE-STRUCTURED-LOCATION;VALUE=URI;X-ADDRESS=Central Harbourfront  9 Lung Wo Road Central Hong Kong;X-APPLE-RADIUS=500;X-TITLE=9 Lung Wo Road:geo:114.164346,22.2826223
END:VEVENT
BEGIN:VEVENT
DTSTART;VALUE=DATE:20250618
DTEND;VALUE=DATE:20250623
DTSTAMP:20260423T004216
CREATED:20250503T051029Z
LAST-MODIFIED:20250510T101111Z
UID:10011339-1750204800-1750636799@www.bcmagazine.net
SUMMARY:FIVB Volleyball Nations League Hong Kong 2025
DESCRIPTION:FIVB Volleyball Nations League Hong Kong 2023\nDate: 18-22 June\, 2025\nVenue: Kai Tak Arena\nTickets: $1\,800\, $980\, $550\, $250 from HKTicketing
URL:https://www.bcmagazine.net/event/fivb-volleyball-nations-league-hong-kong-2023-2/
LOCATION:Kai Tak Arena\, Kai Tak Sports Park\, Hong Kong
CATEGORIES:2025,Sport,Volleyball
ATTACH;FMTTYPE=image/jpeg:https://www.bcmagazine.net/wp-content/uploads/2023/04/FIVB-Volleyball-Nations-League-Hong-Kong-2025.jpg
END:VEVENT
BEGIN:VEVENT
DTSTART;TZID=Asia/Hong_Kong:20250618T193000
DTEND;TZID=Asia/Hong_Kong:20250618T193000
DTSTAMP:20260423T004216
CREATED:20250208T084237Z
LAST-MODIFIED:20250526T142521Z
UID:10011325-1750275000-1750275000@www.bcmagazine.net
SUMMARY:Cirque du Soleil: Kooza
DESCRIPTION:Cirque du Soleil’s Kooza\n Date: 21 May – 13 July 2025\nVenue: Central Harbourfront\nTickets: $1\,988\, $1\,698\, $1\,298\, $998\, $758\, $600\, $450\nMore info:\nWednesdays: 7:30pm\nThursdays: 7:30pm\nFridays: 7:30pm\nSaturdays: 1pm\, 4:30pm\, 8pm\nSundays: 1pm & 4:30pm \n 
URL:https://www.bcmagazine.net/event/kooza-hk-2025/2025-06-18/
LOCATION:Central Harbourfront\,  9 Lung Wo Road\, Central\, Hong Kong
CATEGORIES:2025,Performing Arts
ATTACH;FMTTYPE=image/webp:https://www.bcmagazine.net/wp-content/uploads/2018/02/Kooza-2025.webp
GEO:22.2826223;114.164346
X-APPLE-STRUCTURED-LOCATION;VALUE=URI;X-ADDRESS=Central Harbourfront  9 Lung Wo Road Central Hong Kong;X-APPLE-RADIUS=500;X-TITLE=9 Lung Wo Road:geo:114.164346,22.2826223
END:VEVENT
BEGIN:VEVENT
DTSTART;TZID=Asia/Hong_Kong:20250619T193000
DTEND;TZID=Asia/Hong_Kong:20250619T193000
DTSTAMP:20260423T004216
CREATED:20250208T084237Z
LAST-MODIFIED:20250526T142521Z
UID:10011326-1750361400-1750361400@www.bcmagazine.net
SUMMARY:Cirque du Soleil: Kooza
DESCRIPTION:Cirque du Soleil’s Kooza\n Date: 21 May – 13 July 2025\nVenue: Central Harbourfront\nTickets: $1\,988\, $1\,698\, $1\,298\, $998\, $758\, $600\, $450\nMore info:\nWednesdays: 7:30pm\nThursdays: 7:30pm\nFridays: 7:30pm\nSaturdays: 1pm\, 4:30pm\, 8pm\nSundays: 1pm & 4:30pm \n 
URL:https://www.bcmagazine.net/event/kooza-hk-2025/2025-06-19/
LOCATION:Central Harbourfront\,  9 Lung Wo Road\, Central\, Hong Kong
CATEGORIES:2025,Performing Arts
ATTACH;FMTTYPE=image/webp:https://www.bcmagazine.net/wp-content/uploads/2018/02/Kooza-2025.webp
GEO:22.2826223;114.164346
X-APPLE-STRUCTURED-LOCATION;VALUE=URI;X-ADDRESS=Central Harbourfront  9 Lung Wo Road Central Hong Kong;X-APPLE-RADIUS=500;X-TITLE=9 Lung Wo Road:geo:114.164346,22.2826223
END:VEVENT
BEGIN:VEVENT
DTSTART;VALUE=DATE:20250620
DTEND;VALUE=DATE:20250630
DTSTAMP:20260423T004216
CREATED:20250602T084202Z
LAST-MODIFIED:20250604T122311Z
UID:10011359-1750377600-1751241599@www.bcmagazine.net
SUMMARY:Extravaganza!
DESCRIPTION:Extravaganza!\nDate: 20-29 June 2025\nVenue: Central Harbourfront\nTickets: Free
URL:https://www.bcmagazine.net/event/extravaganza-hong-kong-2025/
LOCATION:Central Harbourfront\,  9 Lung Wo Road\, Central\, Hong Kong
CATEGORIES:2025,Concert,Cultural Festival,Dance,Food,Free,Lifestyle,Music,Performing Arts
ATTACH;FMTTYPE=image/jpeg:https://www.bcmagazine.net/wp-content/uploads/2024/12/Extravaganza-hong-kong-2025.jpg
GEO:22.2826223;114.164346
X-APPLE-STRUCTURED-LOCATION;VALUE=URI;X-ADDRESS=Central Harbourfront  9 Lung Wo Road Central Hong Kong;X-APPLE-RADIUS=500;X-TITLE=9 Lung Wo Road:geo:114.164346,22.2826223
END:VEVENT
BEGIN:VEVENT
DTSTART;TZID=Asia/Hong_Kong:20250620T193000
DTEND;TZID=Asia/Hong_Kong:20250620T193000
DTSTAMP:20260423T004216
CREATED:20250208T084237Z
LAST-MODIFIED:20250526T142521Z
UID:10011327-1750447800-1750447800@www.bcmagazine.net
SUMMARY:Cirque du Soleil: Kooza
DESCRIPTION:Cirque du Soleil’s Kooza\n Date: 21 May – 13 July 2025\nVenue: Central Harbourfront\nTickets: $1\,988\, $1\,698\, $1\,298\, $998\, $758\, $600\, $450\nMore info:\nWednesdays: 7:30pm\nThursdays: 7:30pm\nFridays: 7:30pm\nSaturdays: 1pm\, 4:30pm\, 8pm\nSundays: 1pm & 4:30pm \n 
URL:https://www.bcmagazine.net/event/kooza-hk-2025/2025-06-20/
LOCATION:Central Harbourfront\,  9 Lung Wo Road\, Central\, Hong Kong
CATEGORIES:2025,Performing Arts
ATTACH;FMTTYPE=image/webp:https://www.bcmagazine.net/wp-content/uploads/2018/02/Kooza-2025.webp
GEO:22.2826223;114.164346
X-APPLE-STRUCTURED-LOCATION;VALUE=URI;X-ADDRESS=Central Harbourfront  9 Lung Wo Road Central Hong Kong;X-APPLE-RADIUS=500;X-TITLE=9 Lung Wo Road:geo:114.164346,22.2826223
END:VEVENT
BEGIN:VEVENT
DTSTART;TZID=Asia/Hong_Kong:20250621T193000
DTEND;TZID=Asia/Hong_Kong:20250621T193000
DTSTAMP:20260423T004216
CREATED:20250208T084237Z
LAST-MODIFIED:20250526T142521Z
UID:10011328-1750534200-1750534200@www.bcmagazine.net
SUMMARY:Cirque du Soleil: Kooza
DESCRIPTION:Cirque du Soleil’s Kooza\n Date: 21 May – 13 July 2025\nVenue: Central Harbourfront\nTickets: $1\,988\, $1\,698\, $1\,298\, $998\, $758\, $600\, $450\nMore info:\nWednesdays: 7:30pm\nThursdays: 7:30pm\nFridays: 7:30pm\nSaturdays: 1pm\, 4:30pm\, 8pm\nSundays: 1pm & 4:30pm \n 
URL:https://www.bcmagazine.net/event/kooza-hk-2025/2025-06-21/
LOCATION:Central Harbourfront\,  9 Lung Wo Road\, Central\, Hong Kong
CATEGORIES:2025,Performing Arts
ATTACH;FMTTYPE=image/webp:https://www.bcmagazine.net/wp-content/uploads/2018/02/Kooza-2025.webp
GEO:22.2826223;114.164346
X-APPLE-STRUCTURED-LOCATION;VALUE=URI;X-ADDRESS=Central Harbourfront  9 Lung Wo Road Central Hong Kong;X-APPLE-RADIUS=500;X-TITLE=9 Lung Wo Road:geo:114.164346,22.2826223
END:VEVENT
BEGIN:VEVENT
DTSTART;TZID=Asia/Hong_Kong:20250622T170000
DTEND;TZID=Asia/Hong_Kong:20250622T170000
DTSTAMP:20260423T004216
CREATED:20250411T094227Z
LAST-MODIFIED:20250625T124242Z
UID:10011373-1750611600-1750611600@www.bcmagazine.net
SUMMARY:Hong Kong v Sri Lanka
DESCRIPTION:Hong Kong v Sri Lanka\nAsia Rugby Championship 2025\nDate: 22 June\, 2025\nVenue: Kai Tak Youth Sports Park\nTickets: tbc
URL:https://www.bcmagazine.net/event/hong-kong-v-sri-lanka-2025/
LOCATION:Kai Tak Youth Sports Park\, Kai Tak\, Hong Kong
CATEGORIES:2025,Rugby,Sport
ATTACH;FMTTYPE=image/jpeg:https://www.bcmagazine.net/wp-content/uploads/2023/05/ARMC-Hong-Kong-China-South-Korea-Men-XV-2023.jpg
END:VEVENT
BEGIN:VEVENT
DTSTART;TZID=Asia/Hong_Kong:20250622T193000
DTEND;TZID=Asia/Hong_Kong:20250622T193000
DTSTAMP:20260423T004216
CREATED:20250208T084237Z
LAST-MODIFIED:20250526T142521Z
UID:10011329-1750620600-1750620600@www.bcmagazine.net
SUMMARY:Cirque du Soleil: Kooza
DESCRIPTION:Cirque du Soleil’s Kooza\n Date: 21 May – 13 July 2025\nVenue: Central Harbourfront\nTickets: $1\,988\, $1\,698\, $1\,298\, $998\, $758\, $600\, $450\nMore info:\nWednesdays: 7:30pm\nThursdays: 7:30pm\nFridays: 7:30pm\nSaturdays: 1pm\, 4:30pm\, 8pm\nSundays: 1pm & 4:30pm \n 
URL:https://www.bcmagazine.net/event/kooza-hk-2025/2025-06-22/
LOCATION:Central Harbourfront\,  9 Lung Wo Road\, Central\, Hong Kong
CATEGORIES:2025,Performing Arts
ATTACH;FMTTYPE=image/webp:https://www.bcmagazine.net/wp-content/uploads/2018/02/Kooza-2025.webp
GEO:22.2826223;114.164346
X-APPLE-STRUCTURED-LOCATION;VALUE=URI;X-ADDRESS=Central Harbourfront  9 Lung Wo Road Central Hong Kong;X-APPLE-RADIUS=500;X-TITLE=9 Lung Wo Road:geo:114.164346,22.2826223
END:VEVENT
BEGIN:VEVENT
DTSTART;TZID=Asia/Hong_Kong:20250625T193000
DTEND;TZID=Asia/Hong_Kong:20250625T193000
DTSTAMP:20260423T004216
CREATED:20250208T084237Z
LAST-MODIFIED:20250526T142521Z
UID:10011343-1750879800-1750879800@www.bcmagazine.net
SUMMARY:Cirque du Soleil: Kooza
DESCRIPTION:Cirque du Soleil’s Kooza\n Date: 21 May – 13 July 2025\nVenue: Central Harbourfront\nTickets: $1\,988\, $1\,698\, $1\,298\, $998\, $758\, $600\, $450\nMore info:\nWednesdays: 7:30pm\nThursdays: 7:30pm\nFridays: 7:30pm\nSaturdays: 1pm\, 4:30pm\, 8pm\nSundays: 1pm & 4:30pm \n 
URL:https://www.bcmagazine.net/event/kooza-hk-2025/2025-06-25/
LOCATION:Central Harbourfront\,  9 Lung Wo Road\, Central\, Hong Kong
CATEGORIES:2025,Performing Arts
ATTACH;FMTTYPE=image/webp:https://www.bcmagazine.net/wp-content/uploads/2018/02/Kooza-2025.webp
GEO:22.2826223;114.164346
X-APPLE-STRUCTURED-LOCATION;VALUE=URI;X-ADDRESS=Central Harbourfront  9 Lung Wo Road Central Hong Kong;X-APPLE-RADIUS=500;X-TITLE=9 Lung Wo Road:geo:114.164346,22.2826223
END:VEVENT
BEGIN:VEVENT
DTSTART;TZID=Asia/Hong_Kong:20250626T193000
DTEND;TZID=Asia/Hong_Kong:20250626T193000
DTSTAMP:20260423T004216
CREATED:20250208T084237Z
LAST-MODIFIED:20250526T142521Z
UID:10011344-1750966200-1750966200@www.bcmagazine.net
SUMMARY:Cirque du Soleil: Kooza
DESCRIPTION:Cirque du Soleil’s Kooza\n Date: 21 May – 13 July 2025\nVenue: Central Harbourfront\nTickets: $1\,988\, $1\,698\, $1\,298\, $998\, $758\, $600\, $450\nMore info:\nWednesdays: 7:30pm\nThursdays: 7:30pm\nFridays: 7:30pm\nSaturdays: 1pm\, 4:30pm\, 8pm\nSundays: 1pm & 4:30pm \n 
URL:https://www.bcmagazine.net/event/kooza-hk-2025/2025-06-26/
LOCATION:Central Harbourfront\,  9 Lung Wo Road\, Central\, Hong Kong
CATEGORIES:2025,Performing Arts
ATTACH;FMTTYPE=image/webp:https://www.bcmagazine.net/wp-content/uploads/2018/02/Kooza-2025.webp
GEO:22.2826223;114.164346
X-APPLE-STRUCTURED-LOCATION;VALUE=URI;X-ADDRESS=Central Harbourfront  9 Lung Wo Road Central Hong Kong;X-APPLE-RADIUS=500;X-TITLE=9 Lung Wo Road:geo:114.164346,22.2826223
END:VEVENT
BEGIN:VEVENT
DTSTART;TZID=Asia/Hong_Kong:20250627T190000
DTEND;TZID=Asia/Hong_Kong:20250627T190000
DTSTAMP:20260423T004216
CREATED:20250119T053805Z
LAST-MODIFIED:20250510T101149Z
UID:10010215-1751050800-1751050800@www.bcmagazine.net
SUMMARY:Jay Chou Carnival World Tour 2025
DESCRIPTION:Jay Chou Carnival World Tour 2025\nDate: 27-29 June 2025\nVenue: Kai Tak Stadium\, Kai Tak Sports Park\nTickets: $1\,880\, $1\,680\, $1\,380\, $980\, $680 from Cityline
URL:https://www.bcmagazine.net/event/jay-chou-carnival-world-tour-2025/2025-06-27/
LOCATION:Kai Tak Stadium\, 38-39 Shing Kai Road\, Kowloon City\, Hong Kong
CATEGORIES:2025,Cantopop,Concert,Music,Performing Arts
ATTACH;FMTTYPE=image/jpeg:https://www.bcmagazine.net/wp-content/uploads/2025/02/jay-chou-2025.jpg
END:VEVENT
BEGIN:VEVENT
DTSTART;TZID=Asia/Hong_Kong:20250627T193000
DTEND;TZID=Asia/Hong_Kong:20250627T193000
DTSTAMP:20260423T004216
CREATED:20250208T084237Z
LAST-MODIFIED:20250526T142521Z
UID:10011345-1751052600-1751052600@www.bcmagazine.net
SUMMARY:Cirque du Soleil: Kooza
DESCRIPTION:Cirque du Soleil’s Kooza\n Date: 21 May – 13 July 2025\nVenue: Central Harbourfront\nTickets: $1\,988\, $1\,698\, $1\,298\, $998\, $758\, $600\, $450\nMore info:\nWednesdays: 7:30pm\nThursdays: 7:30pm\nFridays: 7:30pm\nSaturdays: 1pm\, 4:30pm\, 8pm\nSundays: 1pm & 4:30pm \n 
URL:https://www.bcmagazine.net/event/kooza-hk-2025/2025-06-27/
LOCATION:Central Harbourfront\,  9 Lung Wo Road\, Central\, Hong Kong
CATEGORIES:2025,Performing Arts
ATTACH;FMTTYPE=image/webp:https://www.bcmagazine.net/wp-content/uploads/2018/02/Kooza-2025.webp
GEO:22.2826223;114.164346
X-APPLE-STRUCTURED-LOCATION;VALUE=URI;X-ADDRESS=Central Harbourfront  9 Lung Wo Road Central Hong Kong;X-APPLE-RADIUS=500;X-TITLE=9 Lung Wo Road:geo:114.164346,22.2826223
END:VEVENT
BEGIN:VEVENT
DTSTART;TZID=Asia/Hong_Kong:20250628T190000
DTEND;TZID=Asia/Hong_Kong:20250628T190000
DTSTAMP:20260423T004216
CREATED:20250119T053805Z
LAST-MODIFIED:20250510T101149Z
UID:10010216-1751137200-1751137200@www.bcmagazine.net
SUMMARY:Jay Chou Carnival World Tour 2025
DESCRIPTION:Jay Chou Carnival World Tour 2025\nDate: 27-29 June 2025\nVenue: Kai Tak Stadium\, Kai Tak Sports Park\nTickets: $1\,880\, $1\,680\, $1\,380\, $980\, $680 from Cityline
URL:https://www.bcmagazine.net/event/jay-chou-carnival-world-tour-2025/2025-06-28/
LOCATION:Kai Tak Stadium\, 38-39 Shing Kai Road\, Kowloon City\, Hong Kong
CATEGORIES:2025,Cantopop,Concert,Music,Performing Arts
ATTACH;FMTTYPE=image/jpeg:https://www.bcmagazine.net/wp-content/uploads/2025/02/jay-chou-2025.jpg
END:VEVENT
BEGIN:VEVENT
DTSTART;TZID=Asia/Hong_Kong:20250628T193000
DTEND;TZID=Asia/Hong_Kong:20250628T193000
DTSTAMP:20260423T004216
CREATED:20250208T084237Z
LAST-MODIFIED:20250526T142521Z
UID:10011346-1751139000-1751139000@www.bcmagazine.net
SUMMARY:Cirque du Soleil: Kooza
DESCRIPTION:Cirque du Soleil’s Kooza\n Date: 21 May – 13 July 2025\nVenue: Central Harbourfront\nTickets: $1\,988\, $1\,698\, $1\,298\, $998\, $758\, $600\, $450\nMore info:\nWednesdays: 7:30pm\nThursdays: 7:30pm\nFridays: 7:30pm\nSaturdays: 1pm\, 4:30pm\, 8pm\nSundays: 1pm & 4:30pm \n 
URL:https://www.bcmagazine.net/event/kooza-hk-2025/2025-06-28/
LOCATION:Central Harbourfront\,  9 Lung Wo Road\, Central\, Hong Kong
CATEGORIES:2025,Performing Arts
ATTACH;FMTTYPE=image/webp:https://www.bcmagazine.net/wp-content/uploads/2018/02/Kooza-2025.webp
GEO:22.2826223;114.164346
X-APPLE-STRUCTURED-LOCATION;VALUE=URI;X-ADDRESS=Central Harbourfront  9 Lung Wo Road Central Hong Kong;X-APPLE-RADIUS=500;X-TITLE=9 Lung Wo Road:geo:114.164346,22.2826223
END:VEVENT
BEGIN:VEVENT
DTSTART;TZID=Asia/Hong_Kong:20250629T190000
DTEND;TZID=Asia/Hong_Kong:20250629T190000
DTSTAMP:20260423T004216
CREATED:20250119T053805Z
LAST-MODIFIED:20250510T101149Z
UID:10010217-1751223600-1751223600@www.bcmagazine.net
SUMMARY:Jay Chou Carnival World Tour 2025
DESCRIPTION:Jay Chou Carnival World Tour 2025\nDate: 27-29 June 2025\nVenue: Kai Tak Stadium\, Kai Tak Sports Park\nTickets: $1\,880\, $1\,680\, $1\,380\, $980\, $680 from Cityline
URL:https://www.bcmagazine.net/event/jay-chou-carnival-world-tour-2025/2025-06-29/
LOCATION:Kai Tak Stadium\, 38-39 Shing Kai Road\, Kowloon City\, Hong Kong
CATEGORIES:2025,Cantopop,Concert,Music,Performing Arts
ATTACH;FMTTYPE=image/jpeg:https://www.bcmagazine.net/wp-content/uploads/2025/02/jay-chou-2025.jpg
END:VEVENT
END:VCALENDAR