BEGIN:VCALENDAR
VERSION:2.0
PRODID:-//bc magazine - ECPv6.15.20//NONSGML v1.0//EN
CALSCALE:GREGORIAN
METHOD:PUBLISH
X-ORIGINAL-URL:https://www.bcmagazine.net
X-WR-CALDESC:Events for bc magazine
REFRESH-INTERVAL;VALUE=DURATION:PT1H
X-Robots-Tag:noindex
X-PUBLISHED-TTL:PT1H
BEGIN:VTIMEZONE
TZID:Asia/Hong_Kong
BEGIN:STANDARD
TZOFFSETFROM:+0800
TZOFFSETTO:+0800
TZNAME:HKT
DTSTART:20240101T000000
END:STANDARD
END:VTIMEZONE
BEGIN:VEVENT
DTSTART;VALUE=DATE:20250315
DTEND;VALUE=DATE:20250714
DTSTAMP:20260422T015811
CREATED:20250306T000803Z
LAST-MODIFIED:20250430T144051Z
UID:10011337-1741996800-1752451199@www.bcmagazine.net
SUMMARY:Le French May
DESCRIPTION:Le French May\nDate: 15 March – 13 July 2025\nVenue: Various\nTickets: Various\nMore info:\nwww.FrenchMay.com
URL:https://www.bcmagazine.net/event/le-french-may-2025/
CATEGORIES:2025,Art Gallery,Concert,Cultural Festival,Exhibition,Fashion,Film,Food,Lifestyle,Multimedia,Music,Performing Arts
ATTACH;FMTTYPE=image/png:https://www.bcmagazine.net/wp-content/uploads/1916/04/le-french-may-2025.png
END:VEVENT
BEGIN:VEVENT
DTSTART;TZID=Asia/Hong_Kong:20250702T193000
DTEND;TZID=Asia/Hong_Kong:20250702T193000
DTSTAMP:20260422T015811
CREATED:20250208T084237Z
LAST-MODIFIED:20250526T142521Z
UID:10011348-1751484600-1751484600@www.bcmagazine.net
SUMMARY:Cirque du Soleil: Kooza
DESCRIPTION:Cirque du Soleil’s Kooza\n Date: 21 May – 13 July 2025\nVenue: Central Harbourfront\nTickets: $1\,988\, $1\,698\, $1\,298\, $998\, $758\, $600\, $450\nMore info:\nWednesdays: 7:30pm\nThursdays: 7:30pm\nFridays: 7:30pm\nSaturdays: 1pm\, 4:30pm\, 8pm\nSundays: 1pm & 4:30pm \n 
URL:https://www.bcmagazine.net/event/kooza-hk-2025/2025-07-02/
LOCATION:Central Harbourfront\,  9 Lung Wo Road\, Central\, Hong Kong
CATEGORIES:2025,Performing Arts
ATTACH;FMTTYPE=image/webp:https://www.bcmagazine.net/wp-content/uploads/2018/02/Kooza-2025.webp
GEO:22.2826223;114.164346
X-APPLE-STRUCTURED-LOCATION;VALUE=URI;X-ADDRESS=Central Harbourfront  9 Lung Wo Road Central Hong Kong;X-APPLE-RADIUS=500;X-TITLE=9 Lung Wo Road:geo:114.164346,22.2826223
END:VEVENT
BEGIN:VEVENT
DTSTART;TZID=Asia/Hong_Kong:20250703T193000
DTEND;TZID=Asia/Hong_Kong:20250703T193000
DTSTAMP:20260422T015811
CREATED:20250208T084237Z
LAST-MODIFIED:20250526T142521Z
UID:10011349-1751571000-1751571000@www.bcmagazine.net
SUMMARY:Cirque du Soleil: Kooza
DESCRIPTION:Cirque du Soleil’s Kooza\n Date: 21 May – 13 July 2025\nVenue: Central Harbourfront\nTickets: $1\,988\, $1\,698\, $1\,298\, $998\, $758\, $600\, $450\nMore info:\nWednesdays: 7:30pm\nThursdays: 7:30pm\nFridays: 7:30pm\nSaturdays: 1pm\, 4:30pm\, 8pm\nSundays: 1pm & 4:30pm \n 
URL:https://www.bcmagazine.net/event/kooza-hk-2025/2025-07-03/
LOCATION:Central Harbourfront\,  9 Lung Wo Road\, Central\, Hong Kong
CATEGORIES:2025,Performing Arts
ATTACH;FMTTYPE=image/webp:https://www.bcmagazine.net/wp-content/uploads/2018/02/Kooza-2025.webp
GEO:22.2826223;114.164346
X-APPLE-STRUCTURED-LOCATION;VALUE=URI;X-ADDRESS=Central Harbourfront  9 Lung Wo Road Central Hong Kong;X-APPLE-RADIUS=500;X-TITLE=9 Lung Wo Road:geo:114.164346,22.2826223
END:VEVENT
BEGIN:VEVENT
DTSTART;TZID=Asia/Hong_Kong:20250704T193000
DTEND;TZID=Asia/Hong_Kong:20250704T193000
DTSTAMP:20260422T015811
CREATED:20250208T084237Z
LAST-MODIFIED:20250526T142521Z
UID:10011350-1751657400-1751657400@www.bcmagazine.net
SUMMARY:Cirque du Soleil: Kooza
DESCRIPTION:Cirque du Soleil’s Kooza\n Date: 21 May – 13 July 2025\nVenue: Central Harbourfront\nTickets: $1\,988\, $1\,698\, $1\,298\, $998\, $758\, $600\, $450\nMore info:\nWednesdays: 7:30pm\nThursdays: 7:30pm\nFridays: 7:30pm\nSaturdays: 1pm\, 4:30pm\, 8pm\nSundays: 1pm & 4:30pm \n 
URL:https://www.bcmagazine.net/event/kooza-hk-2025/2025-07-04/
LOCATION:Central Harbourfront\,  9 Lung Wo Road\, Central\, Hong Kong
CATEGORIES:2025,Performing Arts
ATTACH;FMTTYPE=image/webp:https://www.bcmagazine.net/wp-content/uploads/2018/02/Kooza-2025.webp
GEO:22.2826223;114.164346
X-APPLE-STRUCTURED-LOCATION;VALUE=URI;X-ADDRESS=Central Harbourfront  9 Lung Wo Road Central Hong Kong;X-APPLE-RADIUS=500;X-TITLE=9 Lung Wo Road:geo:114.164346,22.2826223
END:VEVENT
BEGIN:VEVENT
DTSTART;TZID=Asia/Hong_Kong:20250705T193000
DTEND;TZID=Asia/Hong_Kong:20250705T193000
DTSTAMP:20260422T015811
CREATED:20250208T084237Z
LAST-MODIFIED:20250526T142521Z
UID:10011351-1751743800-1751743800@www.bcmagazine.net
SUMMARY:Cirque du Soleil: Kooza
DESCRIPTION:Cirque du Soleil’s Kooza\n Date: 21 May – 13 July 2025\nVenue: Central Harbourfront\nTickets: $1\,988\, $1\,698\, $1\,298\, $998\, $758\, $600\, $450\nMore info:\nWednesdays: 7:30pm\nThursdays: 7:30pm\nFridays: 7:30pm\nSaturdays: 1pm\, 4:30pm\, 8pm\nSundays: 1pm & 4:30pm \n 
URL:https://www.bcmagazine.net/event/kooza-hk-2025/2025-07-05/
LOCATION:Central Harbourfront\,  9 Lung Wo Road\, Central\, Hong Kong
CATEGORIES:2025,Performing Arts
ATTACH;FMTTYPE=image/webp:https://www.bcmagazine.net/wp-content/uploads/2018/02/Kooza-2025.webp
GEO:22.2826223;114.164346
X-APPLE-STRUCTURED-LOCATION;VALUE=URI;X-ADDRESS=Central Harbourfront  9 Lung Wo Road Central Hong Kong;X-APPLE-RADIUS=500;X-TITLE=9 Lung Wo Road:geo:114.164346,22.2826223
END:VEVENT
BEGIN:VEVENT
DTSTART;TZID=Asia/Hong_Kong:20250705T200000
DTEND;TZID=Asia/Hong_Kong:20250705T200000
DTSTAMP:20260422T015811
CREATED:20250519T040802Z
LAST-MODIFIED:20250604T134455Z
UID:10011366-1751745600-1751745600@www.bcmagazine.net
SUMMARY:Tyson Yoshi
DESCRIPTION:Tyson Yoshi – The Villain Live in Hong Kong\nDate: 5-6\, July 2025\nVenue: Kai Tak Arena\nTickets: $1\,180\, $980\, $680
URL:https://www.bcmagazine.net/event/tyson-yoshi-2/2025-07-05/
LOCATION:Kai Tak Arena\, Kai Tak Sports Park\, Hong Kong
CATEGORIES:2025,Concert,Music,Performing Arts
ATTACH;FMTTYPE=image/jpeg:https://www.bcmagazine.net/wp-content/uploads/2024/09/Tyson-Yoshi-HK-2025.jpg
END:VEVENT
BEGIN:VEVENT
DTSTART;TZID=Asia/Hong_Kong:20250706T193000
DTEND;TZID=Asia/Hong_Kong:20250706T193000
DTSTAMP:20260422T015811
CREATED:20250208T084237Z
LAST-MODIFIED:20250526T142521Z
UID:10011352-1751830200-1751830200@www.bcmagazine.net
SUMMARY:Cirque du Soleil: Kooza
DESCRIPTION:Cirque du Soleil’s Kooza\n Date: 21 May – 13 July 2025\nVenue: Central Harbourfront\nTickets: $1\,988\, $1\,698\, $1\,298\, $998\, $758\, $600\, $450\nMore info:\nWednesdays: 7:30pm\nThursdays: 7:30pm\nFridays: 7:30pm\nSaturdays: 1pm\, 4:30pm\, 8pm\nSundays: 1pm & 4:30pm \n 
URL:https://www.bcmagazine.net/event/kooza-hk-2025/2025-07-06/
LOCATION:Central Harbourfront\,  9 Lung Wo Road\, Central\, Hong Kong
CATEGORIES:2025,Performing Arts
ATTACH;FMTTYPE=image/webp:https://www.bcmagazine.net/wp-content/uploads/2018/02/Kooza-2025.webp
GEO:22.2826223;114.164346
X-APPLE-STRUCTURED-LOCATION;VALUE=URI;X-ADDRESS=Central Harbourfront  9 Lung Wo Road Central Hong Kong;X-APPLE-RADIUS=500;X-TITLE=9 Lung Wo Road:geo:114.164346,22.2826223
END:VEVENT
BEGIN:VEVENT
DTSTART;TZID=Asia/Hong_Kong:20250706T200000
DTEND;TZID=Asia/Hong_Kong:20250706T200000
DTSTAMP:20260422T015811
CREATED:20250519T040802Z
LAST-MODIFIED:20250604T134455Z
UID:10011367-1751832000-1751832000@www.bcmagazine.net
SUMMARY:Tyson Yoshi
DESCRIPTION:Tyson Yoshi – The Villain Live in Hong Kong\nDate: 5-6\, July 2025\nVenue: Kai Tak Arena\nTickets: $1\,180\, $980\, $680
URL:https://www.bcmagazine.net/event/tyson-yoshi-2/2025-07-06/
LOCATION:Kai Tak Arena\, Kai Tak Sports Park\, Hong Kong
CATEGORIES:2025,Concert,Music,Performing Arts
ATTACH;FMTTYPE=image/jpeg:https://www.bcmagazine.net/wp-content/uploads/2024/09/Tyson-Yoshi-HK-2025.jpg
END:VEVENT
BEGIN:VEVENT
DTSTART;TZID=Asia/Hong_Kong:20250709T193000
DTEND;TZID=Asia/Hong_Kong:20250709T193000
DTSTAMP:20260422T015811
CREATED:20250208T084237Z
LAST-MODIFIED:20250526T142521Z
UID:10011353-1752089400-1752089400@www.bcmagazine.net
SUMMARY:Cirque du Soleil: Kooza
DESCRIPTION:Cirque du Soleil’s Kooza\n Date: 21 May – 13 July 2025\nVenue: Central Harbourfront\nTickets: $1\,988\, $1\,698\, $1\,298\, $998\, $758\, $600\, $450\nMore info:\nWednesdays: 7:30pm\nThursdays: 7:30pm\nFridays: 7:30pm\nSaturdays: 1pm\, 4:30pm\, 8pm\nSundays: 1pm & 4:30pm \n 
URL:https://www.bcmagazine.net/event/kooza-hk-2025/2025-07-09/
LOCATION:Central Harbourfront\,  9 Lung Wo Road\, Central\, Hong Kong
CATEGORIES:2025,Performing Arts
ATTACH;FMTTYPE=image/webp:https://www.bcmagazine.net/wp-content/uploads/2018/02/Kooza-2025.webp
GEO:22.2826223;114.164346
X-APPLE-STRUCTURED-LOCATION;VALUE=URI;X-ADDRESS=Central Harbourfront  9 Lung Wo Road Central Hong Kong;X-APPLE-RADIUS=500;X-TITLE=9 Lung Wo Road:geo:114.164346,22.2826223
END:VEVENT
BEGIN:VEVENT
DTSTART;TZID=Asia/Hong_Kong:20250710T193000
DTEND;TZID=Asia/Hong_Kong:20250710T193000
DTSTAMP:20260422T015811
CREATED:20250208T084237Z
LAST-MODIFIED:20250526T142521Z
UID:10011354-1752175800-1752175800@www.bcmagazine.net
SUMMARY:Cirque du Soleil: Kooza
DESCRIPTION:Cirque du Soleil’s Kooza\n Date: 21 May – 13 July 2025\nVenue: Central Harbourfront\nTickets: $1\,988\, $1\,698\, $1\,298\, $998\, $758\, $600\, $450\nMore info:\nWednesdays: 7:30pm\nThursdays: 7:30pm\nFridays: 7:30pm\nSaturdays: 1pm\, 4:30pm\, 8pm\nSundays: 1pm & 4:30pm \n 
URL:https://www.bcmagazine.net/event/kooza-hk-2025/2025-07-10/
LOCATION:Central Harbourfront\,  9 Lung Wo Road\, Central\, Hong Kong
CATEGORIES:2025,Performing Arts
ATTACH;FMTTYPE=image/webp:https://www.bcmagazine.net/wp-content/uploads/2018/02/Kooza-2025.webp
GEO:22.2826223;114.164346
X-APPLE-STRUCTURED-LOCATION;VALUE=URI;X-ADDRESS=Central Harbourfront  9 Lung Wo Road Central Hong Kong;X-APPLE-RADIUS=500;X-TITLE=9 Lung Wo Road:geo:114.164346,22.2826223
END:VEVENT
BEGIN:VEVENT
DTSTART;TZID=Asia/Hong_Kong:20250711T193000
DTEND;TZID=Asia/Hong_Kong:20250711T193000
DTSTAMP:20260422T015811
CREATED:20250208T084237Z
LAST-MODIFIED:20250526T142521Z
UID:10011355-1752262200-1752262200@www.bcmagazine.net
SUMMARY:Cirque du Soleil: Kooza
DESCRIPTION:Cirque du Soleil’s Kooza\n Date: 21 May – 13 July 2025\nVenue: Central Harbourfront\nTickets: $1\,988\, $1\,698\, $1\,298\, $998\, $758\, $600\, $450\nMore info:\nWednesdays: 7:30pm\nThursdays: 7:30pm\nFridays: 7:30pm\nSaturdays: 1pm\, 4:30pm\, 8pm\nSundays: 1pm & 4:30pm \n 
URL:https://www.bcmagazine.net/event/kooza-hk-2025/2025-07-11/
LOCATION:Central Harbourfront\,  9 Lung Wo Road\, Central\, Hong Kong
CATEGORIES:2025,Performing Arts
ATTACH;FMTTYPE=image/webp:https://www.bcmagazine.net/wp-content/uploads/2018/02/Kooza-2025.webp
GEO:22.2826223;114.164346
X-APPLE-STRUCTURED-LOCATION;VALUE=URI;X-ADDRESS=Central Harbourfront  9 Lung Wo Road Central Hong Kong;X-APPLE-RADIUS=500;X-TITLE=9 Lung Wo Road:geo:114.164346,22.2826223
END:VEVENT
BEGIN:VEVENT
DTSTART;TZID=Asia/Hong_Kong:20250712T193000
DTEND;TZID=Asia/Hong_Kong:20250712T193000
DTSTAMP:20260422T015811
CREATED:20250208T084237Z
LAST-MODIFIED:20250526T142521Z
UID:10011356-1752348600-1752348600@www.bcmagazine.net
SUMMARY:Cirque du Soleil: Kooza
DESCRIPTION:Cirque du Soleil’s Kooza\n Date: 21 May – 13 July 2025\nVenue: Central Harbourfront\nTickets: $1\,988\, $1\,698\, $1\,298\, $998\, $758\, $600\, $450\nMore info:\nWednesdays: 7:30pm\nThursdays: 7:30pm\nFridays: 7:30pm\nSaturdays: 1pm\, 4:30pm\, 8pm\nSundays: 1pm & 4:30pm \n 
URL:https://www.bcmagazine.net/event/kooza-hk-2025/2025-07-12/
LOCATION:Central Harbourfront\,  9 Lung Wo Road\, Central\, Hong Kong
CATEGORIES:2025,Performing Arts
ATTACH;FMTTYPE=image/webp:https://www.bcmagazine.net/wp-content/uploads/2018/02/Kooza-2025.webp
GEO:22.2826223;114.164346
X-APPLE-STRUCTURED-LOCATION;VALUE=URI;X-ADDRESS=Central Harbourfront  9 Lung Wo Road Central Hong Kong;X-APPLE-RADIUS=500;X-TITLE=9 Lung Wo Road:geo:114.164346,22.2826223
END:VEVENT
BEGIN:VEVENT
DTSTART;TZID=Asia/Hong_Kong:20250713T193000
DTEND;TZID=Asia/Hong_Kong:20250713T193000
DTSTAMP:20260422T015811
CREATED:20250208T084237Z
LAST-MODIFIED:20250526T142521Z
UID:10011357-1752435000-1752435000@www.bcmagazine.net
SUMMARY:Cirque du Soleil: Kooza
DESCRIPTION:Cirque du Soleil’s Kooza\n Date: 21 May – 13 July 2025\nVenue: Central Harbourfront\nTickets: $1\,988\, $1\,698\, $1\,298\, $998\, $758\, $600\, $450\nMore info:\nWednesdays: 7:30pm\nThursdays: 7:30pm\nFridays: 7:30pm\nSaturdays: 1pm\, 4:30pm\, 8pm\nSundays: 1pm & 4:30pm \n 
URL:https://www.bcmagazine.net/event/kooza-hk-2025/2025-07-13/
LOCATION:Central Harbourfront\,  9 Lung Wo Road\, Central\, Hong Kong
CATEGORIES:2025,Performing Arts
ATTACH;FMTTYPE=image/webp:https://www.bcmagazine.net/wp-content/uploads/2018/02/Kooza-2025.webp
GEO:22.2826223;114.164346
X-APPLE-STRUCTURED-LOCATION;VALUE=URI;X-ADDRESS=Central Harbourfront  9 Lung Wo Road Central Hong Kong;X-APPLE-RADIUS=500;X-TITLE=9 Lung Wo Road:geo:114.164346,22.2826223
END:VEVENT
BEGIN:VEVENT
DTSTART;TZID=Asia/Hong_Kong:20250724T193000
DTEND;TZID=Asia/Hong_Kong:20250724T193000
DTSTAMP:20260422T015811
CREATED:20250402T084226Z
LAST-MODIFIED:20250510T095910Z
UID:10010984-1753385400-1753385400@www.bcmagazine.net
SUMMARY:Hong Kong Football Festival 2025
DESCRIPTION:Hong Kong Football Festival 2025\nTottenham Hotspurs\, Arsenal\, Liverpool\, AC Milan\nDate: 24-31 July\, 2025\nVenue: Kai Tak Stadium\nTickets: tbc
URL:https://www.bcmagazine.net/event/hong-kong-football-festival-2025/2025-07-24/
LOCATION:Kai Tak Stadium\, 38-39 Shing Kai Road\, Kowloon City\, Hong Kong
CATEGORIES:2025,Football,Sport
ATTACH;FMTTYPE=image/png:https://www.bcmagazine.net/wp-content/uploads/2025/03/Hong-Kong-Football-Festival-2025.png
END:VEVENT
BEGIN:VEVENT
DTSTART;TZID=Asia/Hong_Kong:20250726T120000
DTEND;TZID=Asia/Hong_Kong:20250726T200000
DTSTAMP:20260422T015811
CREATED:20250710T084226Z
LAST-MODIFIED:20250723T135442Z
UID:10011380-1753531200-1753560000@www.bcmagazine.net
SUMMARY:Spurs Fan Park @ Central Harbourfront
DESCRIPTION:Spurs Fan Park @ Central Harbourfront\nDate: Noon-8pm\, 26-31 July\, 2025\nVenue: Central Harbourfront\nTickets: Free
URL:https://www.bcmagazine.net/event/spurs-fan-park-central-harbourfront/2025-07-26/
LOCATION:Central Harbourfront\,  9 Lung Wo Road\, Central\, Hong Kong
CATEGORIES:2025,Football,Sport
ATTACH;FMTTYPE=image/jpeg:https://www.bcmagazine.net/wp-content/uploads/2025/03/Spurs-fan-park-Hong-Kong-2025.jpg
GEO:22.2826223;114.164346
X-APPLE-STRUCTURED-LOCATION;VALUE=URI;X-ADDRESS=Central Harbourfront  9 Lung Wo Road Central Hong Kong;X-APPLE-RADIUS=500;X-TITLE=9 Lung Wo Road:geo:114.164346,22.2826223
END:VEVENT
BEGIN:VEVENT
DTSTART;TZID=Asia/Hong_Kong:20250726T193000
DTEND;TZID=Asia/Hong_Kong:20250726T193000
DTSTAMP:20260422T015811
CREATED:20250402T084226Z
LAST-MODIFIED:20250510T095910Z
UID:10010985-1753558200-1753558200@www.bcmagazine.net
SUMMARY:Hong Kong Football Festival 2025
DESCRIPTION:Hong Kong Football Festival 2025\nTottenham Hotspurs\, Arsenal\, Liverpool\, AC Milan\nDate: 24-31 July\, 2025\nVenue: Kai Tak Stadium\nTickets: tbc
URL:https://www.bcmagazine.net/event/hong-kong-football-festival-2025/2025-07-26/
LOCATION:Kai Tak Stadium\, 38-39 Shing Kai Road\, Kowloon City\, Hong Kong
CATEGORIES:2025,Football,Sport
ATTACH;FMTTYPE=image/png:https://www.bcmagazine.net/wp-content/uploads/2025/03/Hong-Kong-Football-Festival-2025.png
END:VEVENT
BEGIN:VEVENT
DTSTART;TZID=Asia/Hong_Kong:20250727T120000
DTEND;TZID=Asia/Hong_Kong:20250727T200000
DTSTAMP:20260422T015811
CREATED:20250710T084226Z
LAST-MODIFIED:20250723T135442Z
UID:10011381-1753617600-1753646400@www.bcmagazine.net
SUMMARY:Spurs Fan Park @ Central Harbourfront
DESCRIPTION:Spurs Fan Park @ Central Harbourfront\nDate: Noon-8pm\, 26-31 July\, 2025\nVenue: Central Harbourfront\nTickets: Free
URL:https://www.bcmagazine.net/event/spurs-fan-park-central-harbourfront/2025-07-27/
LOCATION:Central Harbourfront\,  9 Lung Wo Road\, Central\, Hong Kong
CATEGORIES:2025,Football,Sport
ATTACH;FMTTYPE=image/jpeg:https://www.bcmagazine.net/wp-content/uploads/2025/03/Spurs-fan-park-Hong-Kong-2025.jpg
GEO:22.2826223;114.164346
X-APPLE-STRUCTURED-LOCATION;VALUE=URI;X-ADDRESS=Central Harbourfront  9 Lung Wo Road Central Hong Kong;X-APPLE-RADIUS=500;X-TITLE=9 Lung Wo Road:geo:114.164346,22.2826223
END:VEVENT
BEGIN:VEVENT
DTSTART;TZID=Asia/Hong_Kong:20250728T120000
DTEND;TZID=Asia/Hong_Kong:20250728T200000
DTSTAMP:20260422T015812
CREATED:20250710T084226Z
LAST-MODIFIED:20250723T135442Z
UID:10011382-1753704000-1753732800@www.bcmagazine.net
SUMMARY:Spurs Fan Park @ Central Harbourfront
DESCRIPTION:Spurs Fan Park @ Central Harbourfront\nDate: Noon-8pm\, 26-31 July\, 2025\nVenue: Central Harbourfront\nTickets: Free
URL:https://www.bcmagazine.net/event/spurs-fan-park-central-harbourfront/2025-07-28/
LOCATION:Central Harbourfront\,  9 Lung Wo Road\, Central\, Hong Kong
CATEGORIES:2025,Football,Sport
ATTACH;FMTTYPE=image/jpeg:https://www.bcmagazine.net/wp-content/uploads/2025/03/Spurs-fan-park-Hong-Kong-2025.jpg
GEO:22.2826223;114.164346
X-APPLE-STRUCTURED-LOCATION;VALUE=URI;X-ADDRESS=Central Harbourfront  9 Lung Wo Road Central Hong Kong;X-APPLE-RADIUS=500;X-TITLE=9 Lung Wo Road:geo:114.164346,22.2826223
END:VEVENT
BEGIN:VEVENT
DTSTART;TZID=Asia/Hong_Kong:20250729T120000
DTEND;TZID=Asia/Hong_Kong:20250729T200000
DTSTAMP:20260422T015812
CREATED:20250710T084226Z
LAST-MODIFIED:20250723T135442Z
UID:10011383-1753790400-1753819200@www.bcmagazine.net
SUMMARY:Spurs Fan Park @ Central Harbourfront
DESCRIPTION:Spurs Fan Park @ Central Harbourfront\nDate: Noon-8pm\, 26-31 July\, 2025\nVenue: Central Harbourfront\nTickets: Free
URL:https://www.bcmagazine.net/event/spurs-fan-park-central-harbourfront/2025-07-29/
LOCATION:Central Harbourfront\,  9 Lung Wo Road\, Central\, Hong Kong
CATEGORIES:2025,Football,Sport
ATTACH;FMTTYPE=image/jpeg:https://www.bcmagazine.net/wp-content/uploads/2025/03/Spurs-fan-park-Hong-Kong-2025.jpg
GEO:22.2826223;114.164346
X-APPLE-STRUCTURED-LOCATION;VALUE=URI;X-ADDRESS=Central Harbourfront  9 Lung Wo Road Central Hong Kong;X-APPLE-RADIUS=500;X-TITLE=9 Lung Wo Road:geo:114.164346,22.2826223
END:VEVENT
BEGIN:VEVENT
DTSTART;TZID=Asia/Hong_Kong:20250729T193000
DTEND;TZID=Asia/Hong_Kong:20250729T193000
DTSTAMP:20260422T015812
CREATED:20250402T084226Z
LAST-MODIFIED:20250510T095910Z
UID:10010986-1753817400-1753817400@www.bcmagazine.net
SUMMARY:Hong Kong Football Festival 2025
DESCRIPTION:Hong Kong Football Festival 2025\nTottenham Hotspurs\, Arsenal\, Liverpool\, AC Milan\nDate: 24-31 July\, 2025\nVenue: Kai Tak Stadium\nTickets: tbc
URL:https://www.bcmagazine.net/event/hong-kong-football-festival-2025/2025-07-29/
LOCATION:Kai Tak Stadium\, 38-39 Shing Kai Road\, Kowloon City\, Hong Kong
CATEGORIES:2025,Football,Sport
ATTACH;FMTTYPE=image/png:https://www.bcmagazine.net/wp-content/uploads/2025/03/Hong-Kong-Football-Festival-2025.png
END:VEVENT
BEGIN:VEVENT
DTSTART;TZID=Asia/Hong_Kong:20250730T120000
DTEND;TZID=Asia/Hong_Kong:20250730T200000
DTSTAMP:20260422T015812
CREATED:20250710T084226Z
LAST-MODIFIED:20250723T135442Z
UID:10011384-1753876800-1753905600@www.bcmagazine.net
SUMMARY:Spurs Fan Park @ Central Harbourfront
DESCRIPTION:Spurs Fan Park @ Central Harbourfront\nDate: Noon-8pm\, 26-31 July\, 2025\nVenue: Central Harbourfront\nTickets: Free
URL:https://www.bcmagazine.net/event/spurs-fan-park-central-harbourfront/2025-07-30/
LOCATION:Central Harbourfront\,  9 Lung Wo Road\, Central\, Hong Kong
CATEGORIES:2025,Football,Sport
ATTACH;FMTTYPE=image/jpeg:https://www.bcmagazine.net/wp-content/uploads/2025/03/Spurs-fan-park-Hong-Kong-2025.jpg
GEO:22.2826223;114.164346
X-APPLE-STRUCTURED-LOCATION;VALUE=URI;X-ADDRESS=Central Harbourfront  9 Lung Wo Road Central Hong Kong;X-APPLE-RADIUS=500;X-TITLE=9 Lung Wo Road:geo:114.164346,22.2826223
END:VEVENT
BEGIN:VEVENT
DTSTART;TZID=Asia/Hong_Kong:20250731T120000
DTEND;TZID=Asia/Hong_Kong:20250731T200000
DTSTAMP:20260422T015812
CREATED:20250710T084226Z
LAST-MODIFIED:20250723T135442Z
UID:10011385-1753963200-1753992000@www.bcmagazine.net
SUMMARY:Spurs Fan Park @ Central Harbourfront
DESCRIPTION:Spurs Fan Park @ Central Harbourfront\nDate: Noon-8pm\, 26-31 July\, 2025\nVenue: Central Harbourfront\nTickets: Free
URL:https://www.bcmagazine.net/event/spurs-fan-park-central-harbourfront/2025-07-31/
LOCATION:Central Harbourfront\,  9 Lung Wo Road\, Central\, Hong Kong
CATEGORIES:2025,Football,Sport
ATTACH;FMTTYPE=image/jpeg:https://www.bcmagazine.net/wp-content/uploads/2025/03/Spurs-fan-park-Hong-Kong-2025.jpg
GEO:22.2826223;114.164346
X-APPLE-STRUCTURED-LOCATION;VALUE=URI;X-ADDRESS=Central Harbourfront  9 Lung Wo Road Central Hong Kong;X-APPLE-RADIUS=500;X-TITLE=9 Lung Wo Road:geo:114.164346,22.2826223
END:VEVENT
BEGIN:VEVENT
DTSTART;TZID=Asia/Hong_Kong:20250731T193000
DTEND;TZID=Asia/Hong_Kong:20250731T193000
DTSTAMP:20260422T015812
CREATED:20250331T084226Z
LAST-MODIFIED:20250331T095949Z
UID:10010600-1753990200-1753990200@www.bcmagazine.net
SUMMARY:Tottenham Hotspurs v Arsenal
DESCRIPTION:Tottenham Hotspurs v Arsenal\nDate: 7:30pm\, 31 July\, 2025\nVenue: Kai Tak Stadium\nTickets: tbc
URL:https://www.bcmagazine.net/event/tottenham-hotspurs-v-arsenal-hong-kong-2025/
LOCATION:Kai Tak Stadium\, 38-39 Shing Kai Road\, Kowloon City\, Hong Kong
CATEGORIES:2025,Football,Sport
ATTACH;FMTTYPE=image/jpeg:https://www.bcmagazine.net/wp-content/uploads/1917/05/Tottenham-Hotspurs-v-Arsenal-Hong-Kong-2025.jpg
END:VEVENT
BEGIN:VEVENT
DTSTART;TZID=Asia/Hong_Kong:20250731T193000
DTEND;TZID=Asia/Hong_Kong:20250731T193000
DTSTAMP:20260422T015812
CREATED:20250402T084226Z
LAST-MODIFIED:20250510T095910Z
UID:10010983-1753990200-1753990200@www.bcmagazine.net
SUMMARY:Hong Kong Football Festival 2025
DESCRIPTION:Hong Kong Football Festival 2025\nTottenham Hotspurs\, Arsenal\, Liverpool\, AC Milan\nDate: 24-31 July\, 2025\nVenue: Kai Tak Stadium\nTickets: tbc
URL:https://www.bcmagazine.net/event/hong-kong-football-festival-2025/2025-07-31/
LOCATION:Kai Tak Stadium\, 38-39 Shing Kai Road\, Kowloon City\, Hong Kong
CATEGORIES:2025,Football,Sport
ATTACH;FMTTYPE=image/png:https://www.bcmagazine.net/wp-content/uploads/2025/03/Hong-Kong-Football-Festival-2025.png
END:VEVENT
END:VCALENDAR