BEGIN:VCALENDAR
VERSION:2.0
PRODID:-//bc magazine - ECPv6.15.20//NONSGML v1.0//EN
CALSCALE:GREGORIAN
METHOD:PUBLISH
X-WR-CALNAME:bc magazine
X-ORIGINAL-URL:https://www.bcmagazine.net
X-WR-CALDESC:Events for bc magazine
REFRESH-INTERVAL;VALUE=DURATION:PT1H
X-Robots-Tag:noindex
X-PUBLISHED-TTL:PT1H
BEGIN:VTIMEZONE
TZID:Asia/Hong_Kong
BEGIN:STANDARD
TZOFFSETFROM:+0800
TZOFFSETTO:+0800
TZNAME:HKT
DTSTART:20240101T000000
END:STANDARD
END:VTIMEZONE
BEGIN:VEVENT
DTSTART;VALUE=DATE:20250904
DTEND;VALUE=DATE:20250908
DTSTAMP:20260421T102151
CREATED:20250608T094231Z
LAST-MODIFIED:20250711T120504Z
UID:10011374-1756944000-1757289599@www.bcmagazine.net
SUMMARY:Hot Air Balloon Fest Hong Kong
DESCRIPTION:Hot Air Balloon Fest Hong Kong\nDate: 4-7 September 2025\nVenue: Central Harbourfront\nTickets: $1\,480\, $1\,080\, $880\, $680\, $200\, $150\nMore info:\nJoey 容祖兒 HKlivemusic\, HKconcert\, Kenny 關智斌\, Angela 許靖韻\, Ken 洪卓立\, Locksmiths 開鎖佬\, Aiden 洪助昇\, The Lemon Ones\, Dark 黃明德\, Heize 黃峻熙\, ToNick\, Endy 周國賢\, Hedy 海兒\, Andy 黎展峯\, Daze in White\, VIVA\, Arvin 曾傲棐\, SULIS\, Leo 古巨基\, Gin Lee 李幸倪\, Vincy 泳兒\, Andy 梁釗峰
URL:https://www.bcmagazine.net/event/hot-air-balloon-fest-hong-kong-2025/
LOCATION:Central Harbourfront\,  9 Lung Wo Road\, Central\, Hong Kong
CATEGORIES:2025,Concert,Food,Lifestyle,Music,Nightlife,Sport
ATTACH;FMTTYPE=image/avif:https://www.bcmagazine.net/wp-content/uploads/2025/05/HABfest-2025.avif
GEO:22.2826223;114.164346
X-APPLE-STRUCTURED-LOCATION;VALUE=URI;X-ADDRESS=Central Harbourfront  9 Lung Wo Road Central Hong Kong;X-APPLE-RADIUS=500;X-TITLE=9 Lung Wo Road:geo:114.164346,22.2826223
END:VEVENT
BEGIN:VEVENT
DTSTART;TZID=Asia/Hong_Kong:20250926T200000
DTEND;TZID=Asia/Hong_Kong:20250926T200000
DTSTAMP:20260421T102151
CREATED:20250612T120802Z
LAST-MODIFIED:20250612T142538Z
UID:10011369-1758916800-1758916800@www.bcmagazine.net
SUMMARY:Big Country
DESCRIPTION:Big Country – Greatest Hits Tour 2025\nDate: 7pm\, 26 September\, 2025\nVenue: The Wanch\nTickets: $588
URL:https://www.bcmagazine.net/event/big-country-hong-kong-2025/
LOCATION:The Wanch\, 1/F\, Henan Building\, 90 Jaffe Road\, Wanchai\, Hong Kong
CATEGORIES:2025,Concert,Music,Performing Arts
ATTACH;FMTTYPE=image/jpeg:https://www.bcmagazine.net/wp-content/uploads/2023/12/Big-Country-in-Hong-Kong-2025.jpeg
END:VEVENT
BEGIN:VEVENT
DTSTART;TZID=Asia/Hong_Kong:20250926T200000
DTEND;TZID=Asia/Hong_Kong:20250926T200000
DTSTAMP:20260421T102151
CREATED:20250820T040802Z
LAST-MODIFIED:20250827T195355Z
UID:10011394-1758916800-1758916800@www.bcmagazine.net
SUMMARY:Kenny Kwan
DESCRIPTION:Kenny Kwan – The Endless Adventure Live in Hong Kong\nDate: 26-27 September 2025\nVenue: Kai Tak Arena\nTickets: $1\,180\, $980\, $680
URL:https://www.bcmagazine.net/event/kenny-kwan/2025-09-26/
LOCATION:Kai Tak Arena\, Kai Tak Sports Park\, Hong Kong
CATEGORIES:2025,Concert,Music,Performing Arts
ATTACH;FMTTYPE=image/jpeg:https://www.bcmagazine.net/wp-content/uploads/2025/08/Kenny-Kwan-2025.jpg
END:VEVENT
BEGIN:VEVENT
DTSTART;TZID=Asia/Hong_Kong:20250927T180000
DTEND;TZID=Asia/Hong_Kong:20250927T180000
DTSTAMP:20260421T102151
CREATED:20250806T040802Z
LAST-MODIFIED:20250812T161427Z
UID:10011390-1758996000-1758996000@www.bcmagazine.net
SUMMARY:Seventeen
DESCRIPTION:Seventeen World Tour\nDate: 27-28 September 2025\nVenue: Kai Tak Stadium\nTickets: $2\,899\, $2\,299\, $2\,099\, $1\,899\, $1\,599\, $1\,099\, $899 from Cityline \n 
URL:https://www.bcmagazine.net/event/seventeen/2025-09-27/
LOCATION:Kai Tak Stadium\, 38-39 Shing Kai Road\, Kowloon City\, Hong Kong
CATEGORIES:2025,Concert,Music,Performing Arts
ATTACH;FMTTYPE=image/jpeg:https://www.bcmagazine.net/wp-content/uploads/2024/09/Seventeen-in-Hong-Kong-2025.jpg
END:VEVENT
BEGIN:VEVENT
DTSTART;TZID=Asia/Hong_Kong:20250927T200000
DTEND;TZID=Asia/Hong_Kong:20250927T200000
DTSTAMP:20260421T102151
CREATED:20250820T040802Z
LAST-MODIFIED:20250827T195355Z
UID:10011395-1759003200-1759003200@www.bcmagazine.net
SUMMARY:Kenny Kwan
DESCRIPTION:Kenny Kwan – The Endless Adventure Live in Hong Kong\nDate: 26-27 September 2025\nVenue: Kai Tak Arena\nTickets: $1\,180\, $980\, $680
URL:https://www.bcmagazine.net/event/kenny-kwan/2025-09-27/
LOCATION:Kai Tak Arena\, Kai Tak Sports Park\, Hong Kong
CATEGORIES:2025,Concert,Music,Performing Arts
ATTACH;FMTTYPE=image/jpeg:https://www.bcmagazine.net/wp-content/uploads/2025/08/Kenny-Kwan-2025.jpg
END:VEVENT
BEGIN:VEVENT
DTSTART;TZID=Asia/Hong_Kong:20250928T180000
DTEND;TZID=Asia/Hong_Kong:20250928T180000
DTSTAMP:20260421T102151
CREATED:20250806T040802Z
LAST-MODIFIED:20250812T161427Z
UID:10011391-1759082400-1759082400@www.bcmagazine.net
SUMMARY:Seventeen
DESCRIPTION:Seventeen World Tour\nDate: 27-28 September 2025\nVenue: Kai Tak Stadium\nTickets: $2\,899\, $2\,299\, $2\,099\, $1\,899\, $1\,599\, $1\,099\, $899 from Cityline \n 
URL:https://www.bcmagazine.net/event/seventeen/2025-09-28/
LOCATION:Kai Tak Stadium\, 38-39 Shing Kai Road\, Kowloon City\, Hong Kong
CATEGORIES:2025,Concert,Music,Performing Arts
ATTACH;FMTTYPE=image/jpeg:https://www.bcmagazine.net/wp-content/uploads/2024/09/Seventeen-in-Hong-Kong-2025.jpg
END:VEVENT
BEGIN:VEVENT
DTSTART;TZID=Asia/Hong_Kong:20250930T200000
DTEND;TZID=Asia/Hong_Kong:20250930T200000
DTSTAMP:20260421T102151
CREATED:20250910T034537Z
LAST-MODIFIED:20250925T111907Z
UID:10011412-1759262400-1759262400@www.bcmagazine.net
SUMMARY:Toe
DESCRIPTION:Toe – Now We See The Light\nDate: 8pm\, 30 September 2025\nVenue: Kitty Woo Stadium\, Tung Po\nTickets: $680\, $580
URL:https://www.bcmagazine.net/event/toe-hk-2025/
LOCATION:Kitty Woo Stadium\, 2\, Tsat Po Street\, San Po Kong\, Hong Kong
CATEGORIES:2025,Concert,Music,Nightlife,Performing Arts
ATTACH;FMTTYPE=image/jpeg:https://www.bcmagazine.net/wp-content/uploads/2025/09/Toe-Now-We-see-the-light-HK-2025.jpg
END:VEVENT
END:VCALENDAR