BEGIN:VCALENDAR
VERSION:2.0
PRODID:-//bc magazine - ECPv6.15.20//NONSGML v1.0//EN
CALSCALE:GREGORIAN
METHOD:PUBLISH
X-ORIGINAL-URL:https://www.bcmagazine.net
X-WR-CALDESC:Events for bc magazine
REFRESH-INTERVAL;VALUE=DURATION:PT1H
X-Robots-Tag:noindex
X-PUBLISHED-TTL:PT1H
BEGIN:VTIMEZONE
TZID:Asia/Hong_Kong
BEGIN:STANDARD
TZOFFSETFROM:+0800
TZOFFSETTO:+0800
TZNAME:HKT
DTSTART:20240101T000000
END:STANDARD
END:VTIMEZONE
BEGIN:VEVENT
DTSTART;VALUE=DATE:20251206
DTEND;VALUE=DATE:20260115
DTSTAMP:20260422T180053
CREATED:20251106T083217Z
LAST-MODIFIED:20251120T145829Z
UID:10011798-1764979200-1768435199@www.bcmagazine.net
SUMMARY:Counting Frames – David Bordwell
DESCRIPTION:Counting Frames – David Bordwell on Hong Kong Cinema\nDate: 6 December 2025 – 14 January 2026\nVenue: Broadway Cinematheque\, Premier Elements\nTickets: $95
URL:https://www.bcmagazine.net/event/counting-frames-david-bordwell-2025/
LOCATION:Broadway Cinematheque\, Prosperous Garden\, 3 Public Square Street\, Yaumatei\, Hong Kong
CATEGORIES:2025,2026,Cultural Festival,Exhibition,Film,talk
ATTACH;FMTTYPE=image/jpeg:https://www.bcmagazine.net/wp-content/uploads/2025/11/counting-frames-2025.jpg
END:VEVENT
BEGIN:VEVENT
DTSTART;VALUE=DATE:20251222
DTEND;VALUE=DATE:20260302
DTSTAMP:20260422T180053
CREATED:20251207T072433Z
LAST-MODIFIED:20251210T084849Z
UID:10012178-1766361600-1772409599@www.bcmagazine.net
SUMMARY:Christmas Carnival
DESCRIPTION:Christmas Carnival\nDate: 22 December 2025 – 1 March 2026\nVenue: Central Harbourfront\nTickets: $160\, $150\, $140
URL:https://www.bcmagazine.net/event/christmas-carnival-2026/
LOCATION:Central Harbourfront\,  9 Lung Wo Road\, Central\, Hong Kong
CATEGORIES:2025,2026,Music,Nightlife,Other,Performing Arts
ATTACH;FMTTYPE=image/jpeg:https://www.bcmagazine.net/wp-content/uploads/1918/11/carnival-2019.jpg
GEO:22.2826223;114.164346
X-APPLE-STRUCTURED-LOCATION;VALUE=URI;X-ADDRESS=Central Harbourfront  9 Lung Wo Road Central Hong Kong;X-APPLE-RADIUS=500;X-TITLE=9 Lung Wo Road:geo:114.164346,22.2826223
END:VEVENT
BEGIN:VEVENT
DTSTART;TZID=Asia/Hong_Kong:20260101T180000
DTEND;TZID=Asia/Hong_Kong:20260101T180000
DTSTAMP:20260422T180053
CREATED:20251210T044212Z
LAST-MODIFIED:20260108T164128Z
UID:10012208-1767290400-1767290400@www.bcmagazine.net
SUMMARY:Festilumi
DESCRIPTION:Festilumi Hong Kong 2025\nDate: 12 December 2025 – 24 January 2026\nVenue: Wanchai Harbourfront Event Space\nTickets: $508\, $278\, $168
URL:https://www.bcmagazine.net/event/festilumi-hong-kong-2025/2026-01-01/
LOCATION:WanChai Harbourfront Event Space\, 3 Hung Hing Road\, Wanchai\, Hong Kong
CATEGORIES:2025,2026,Exhibition,Lifestyle,Music,Nightlife
ATTACH;FMTTYPE=image/jpeg:https://www.bcmagazine.net/wp-content/uploads/2025/12/572095663_122105167311066348_5232692940820819710_n.jpg
END:VEVENT
BEGIN:VEVENT
DTSTART;TZID=Asia/Hong_Kong:20260102T180000
DTEND;TZID=Asia/Hong_Kong:20260102T180000
DTSTAMP:20260422T180053
CREATED:20251210T044212Z
LAST-MODIFIED:20260108T164128Z
UID:10012209-1767376800-1767376800@www.bcmagazine.net
SUMMARY:Festilumi
DESCRIPTION:Festilumi Hong Kong 2025\nDate: 12 December 2025 – 24 January 2026\nVenue: Wanchai Harbourfront Event Space\nTickets: $508\, $278\, $168
URL:https://www.bcmagazine.net/event/festilumi-hong-kong-2025/2026-01-02/
LOCATION:WanChai Harbourfront Event Space\, 3 Hung Hing Road\, Wanchai\, Hong Kong
CATEGORIES:2025,2026,Exhibition,Lifestyle,Music,Nightlife
ATTACH;FMTTYPE=image/jpeg:https://www.bcmagazine.net/wp-content/uploads/2025/12/572095663_122105167311066348_5232692940820819710_n.jpg
END:VEVENT
BEGIN:VEVENT
DTSTART;TZID=Asia/Hong_Kong:20260103T180000
DTEND;TZID=Asia/Hong_Kong:20260103T180000
DTSTAMP:20260422T180053
CREATED:20251210T044212Z
LAST-MODIFIED:20260108T164128Z
UID:10012210-1767463200-1767463200@www.bcmagazine.net
SUMMARY:Festilumi
DESCRIPTION:Festilumi Hong Kong 2025\nDate: 12 December 2025 – 24 January 2026\nVenue: Wanchai Harbourfront Event Space\nTickets: $508\, $278\, $168
URL:https://www.bcmagazine.net/event/festilumi-hong-kong-2025/2026-01-03/
LOCATION:WanChai Harbourfront Event Space\, 3 Hung Hing Road\, Wanchai\, Hong Kong
CATEGORIES:2025,2026,Exhibition,Lifestyle,Music,Nightlife
ATTACH;FMTTYPE=image/jpeg:https://www.bcmagazine.net/wp-content/uploads/2025/12/572095663_122105167311066348_5232692940820819710_n.jpg
END:VEVENT
BEGIN:VEVENT
DTSTART;TZID=Asia/Hong_Kong:20260104T180000
DTEND;TZID=Asia/Hong_Kong:20260104T180000
DTSTAMP:20260422T180053
CREATED:20251210T044212Z
LAST-MODIFIED:20260108T164128Z
UID:10012211-1767549600-1767549600@www.bcmagazine.net
SUMMARY:Festilumi
DESCRIPTION:Festilumi Hong Kong 2025\nDate: 12 December 2025 – 24 January 2026\nVenue: Wanchai Harbourfront Event Space\nTickets: $508\, $278\, $168
URL:https://www.bcmagazine.net/event/festilumi-hong-kong-2025/2026-01-04/
LOCATION:WanChai Harbourfront Event Space\, 3 Hung Hing Road\, Wanchai\, Hong Kong
CATEGORIES:2025,2026,Exhibition,Lifestyle,Music,Nightlife
ATTACH;FMTTYPE=image/jpeg:https://www.bcmagazine.net/wp-content/uploads/2025/12/572095663_122105167311066348_5232692940820819710_n.jpg
END:VEVENT
BEGIN:VEVENT
DTSTART;TZID=Asia/Hong_Kong:20260105T180000
DTEND;TZID=Asia/Hong_Kong:20260105T180000
DTSTAMP:20260422T180053
CREATED:20251210T044212Z
LAST-MODIFIED:20260108T164128Z
UID:10012212-1767636000-1767636000@www.bcmagazine.net
SUMMARY:Festilumi
DESCRIPTION:Festilumi Hong Kong 2025\nDate: 12 December 2025 – 24 January 2026\nVenue: Wanchai Harbourfront Event Space\nTickets: $508\, $278\, $168
URL:https://www.bcmagazine.net/event/festilumi-hong-kong-2025/2026-01-05/
LOCATION:WanChai Harbourfront Event Space\, 3 Hung Hing Road\, Wanchai\, Hong Kong
CATEGORIES:2025,2026,Exhibition,Lifestyle,Music,Nightlife
ATTACH;FMTTYPE=image/jpeg:https://www.bcmagazine.net/wp-content/uploads/2025/12/572095663_122105167311066348_5232692940820819710_n.jpg
END:VEVENT
BEGIN:VEVENT
DTSTART;TZID=Asia/Hong_Kong:20260106T180000
DTEND;TZID=Asia/Hong_Kong:20260106T180000
DTSTAMP:20260422T180053
CREATED:20251210T044212Z
LAST-MODIFIED:20260108T164128Z
UID:10012213-1767722400-1767722400@www.bcmagazine.net
SUMMARY:Festilumi
DESCRIPTION:Festilumi Hong Kong 2025\nDate: 12 December 2025 – 24 January 2026\nVenue: Wanchai Harbourfront Event Space\nTickets: $508\, $278\, $168
URL:https://www.bcmagazine.net/event/festilumi-hong-kong-2025/2026-01-06/
LOCATION:WanChai Harbourfront Event Space\, 3 Hung Hing Road\, Wanchai\, Hong Kong
CATEGORIES:2025,2026,Exhibition,Lifestyle,Music,Nightlife
ATTACH;FMTTYPE=image/jpeg:https://www.bcmagazine.net/wp-content/uploads/2025/12/572095663_122105167311066348_5232692940820819710_n.jpg
END:VEVENT
BEGIN:VEVENT
DTSTART;TZID=Asia/Hong_Kong:20260107T180000
DTEND;TZID=Asia/Hong_Kong:20260107T180000
DTSTAMP:20260422T180053
CREATED:20251210T044212Z
LAST-MODIFIED:20260108T164128Z
UID:10012214-1767808800-1767808800@www.bcmagazine.net
SUMMARY:Festilumi
DESCRIPTION:Festilumi Hong Kong 2025\nDate: 12 December 2025 – 24 January 2026\nVenue: Wanchai Harbourfront Event Space\nTickets: $508\, $278\, $168
URL:https://www.bcmagazine.net/event/festilumi-hong-kong-2025/2026-01-07/
LOCATION:WanChai Harbourfront Event Space\, 3 Hung Hing Road\, Wanchai\, Hong Kong
CATEGORIES:2025,2026,Exhibition,Lifestyle,Music,Nightlife
ATTACH;FMTTYPE=image/jpeg:https://www.bcmagazine.net/wp-content/uploads/2025/12/572095663_122105167311066348_5232692940820819710_n.jpg
END:VEVENT
BEGIN:VEVENT
DTSTART;TZID=Asia/Hong_Kong:20260108T180000
DTEND;TZID=Asia/Hong_Kong:20260108T180000
DTSTAMP:20260422T180053
CREATED:20251210T044212Z
LAST-MODIFIED:20260108T164128Z
UID:10012215-1767895200-1767895200@www.bcmagazine.net
SUMMARY:Festilumi
DESCRIPTION:Festilumi Hong Kong 2025\nDate: 12 December 2025 – 24 January 2026\nVenue: Wanchai Harbourfront Event Space\nTickets: $508\, $278\, $168
URL:https://www.bcmagazine.net/event/festilumi-hong-kong-2025/2026-01-08/
LOCATION:WanChai Harbourfront Event Space\, 3 Hung Hing Road\, Wanchai\, Hong Kong
CATEGORIES:2025,2026,Exhibition,Lifestyle,Music,Nightlife
ATTACH;FMTTYPE=image/jpeg:https://www.bcmagazine.net/wp-content/uploads/2025/12/572095663_122105167311066348_5232692940820819710_n.jpg
END:VEVENT
BEGIN:VEVENT
DTSTART;TZID=Asia/Hong_Kong:20260109T180000
DTEND;TZID=Asia/Hong_Kong:20260109T180000
DTSTAMP:20260422T180053
CREATED:20251210T044212Z
LAST-MODIFIED:20260108T164128Z
UID:10012216-1767981600-1767981600@www.bcmagazine.net
SUMMARY:Festilumi
DESCRIPTION:Festilumi Hong Kong 2025\nDate: 12 December 2025 – 24 January 2026\nVenue: Wanchai Harbourfront Event Space\nTickets: $508\, $278\, $168
URL:https://www.bcmagazine.net/event/festilumi-hong-kong-2025/2026-01-09/
LOCATION:WanChai Harbourfront Event Space\, 3 Hung Hing Road\, Wanchai\, Hong Kong
CATEGORIES:2025,2026,Exhibition,Lifestyle,Music,Nightlife
ATTACH;FMTTYPE=image/jpeg:https://www.bcmagazine.net/wp-content/uploads/2025/12/572095663_122105167311066348_5232692940820819710_n.jpg
END:VEVENT
BEGIN:VEVENT
DTSTART;TZID=Asia/Hong_Kong:20260110T180000
DTEND;TZID=Asia/Hong_Kong:20260110T180000
DTSTAMP:20260422T180053
CREATED:20251210T044212Z
LAST-MODIFIED:20260108T164128Z
UID:10012217-1768068000-1768068000@www.bcmagazine.net
SUMMARY:Festilumi
DESCRIPTION:Festilumi Hong Kong 2025\nDate: 12 December 2025 – 24 January 2026\nVenue: Wanchai Harbourfront Event Space\nTickets: $508\, $278\, $168
URL:https://www.bcmagazine.net/event/festilumi-hong-kong-2025/2026-01-10/
LOCATION:WanChai Harbourfront Event Space\, 3 Hung Hing Road\, Wanchai\, Hong Kong
CATEGORIES:2025,2026,Exhibition,Lifestyle,Music,Nightlife
ATTACH;FMTTYPE=image/jpeg:https://www.bcmagazine.net/wp-content/uploads/2025/12/572095663_122105167311066348_5232692940820819710_n.jpg
END:VEVENT
BEGIN:VEVENT
DTSTART;TZID=Asia/Hong_Kong:20260111T180000
DTEND;TZID=Asia/Hong_Kong:20260111T180000
DTSTAMP:20260422T180053
CREATED:20251210T044212Z
LAST-MODIFIED:20260108T164128Z
UID:10012218-1768154400-1768154400@www.bcmagazine.net
SUMMARY:Festilumi
DESCRIPTION:Festilumi Hong Kong 2025\nDate: 12 December 2025 – 24 January 2026\nVenue: Wanchai Harbourfront Event Space\nTickets: $508\, $278\, $168
URL:https://www.bcmagazine.net/event/festilumi-hong-kong-2025/2026-01-11/
LOCATION:WanChai Harbourfront Event Space\, 3 Hung Hing Road\, Wanchai\, Hong Kong
CATEGORIES:2025,2026,Exhibition,Lifestyle,Music,Nightlife
ATTACH;FMTTYPE=image/jpeg:https://www.bcmagazine.net/wp-content/uploads/2025/12/572095663_122105167311066348_5232692940820819710_n.jpg
END:VEVENT
BEGIN:VEVENT
DTSTART;TZID=Asia/Hong_Kong:20260112T180000
DTEND;TZID=Asia/Hong_Kong:20260112T180000
DTSTAMP:20260422T180053
CREATED:20251210T044212Z
LAST-MODIFIED:20260108T164128Z
UID:10012219-1768240800-1768240800@www.bcmagazine.net
SUMMARY:Festilumi
DESCRIPTION:Festilumi Hong Kong 2025\nDate: 12 December 2025 – 24 January 2026\nVenue: Wanchai Harbourfront Event Space\nTickets: $508\, $278\, $168
URL:https://www.bcmagazine.net/event/festilumi-hong-kong-2025/2026-01-12/
LOCATION:WanChai Harbourfront Event Space\, 3 Hung Hing Road\, Wanchai\, Hong Kong
CATEGORIES:2025,2026,Exhibition,Lifestyle,Music,Nightlife
ATTACH;FMTTYPE=image/jpeg:https://www.bcmagazine.net/wp-content/uploads/2025/12/572095663_122105167311066348_5232692940820819710_n.jpg
END:VEVENT
BEGIN:VEVENT
DTSTART;TZID=Asia/Hong_Kong:20260113T180000
DTEND;TZID=Asia/Hong_Kong:20260113T180000
DTSTAMP:20260422T180053
CREATED:20251210T044212Z
LAST-MODIFIED:20260108T164128Z
UID:10012220-1768327200-1768327200@www.bcmagazine.net
SUMMARY:Festilumi
DESCRIPTION:Festilumi Hong Kong 2025\nDate: 12 December 2025 – 24 January 2026\nVenue: Wanchai Harbourfront Event Space\nTickets: $508\, $278\, $168
URL:https://www.bcmagazine.net/event/festilumi-hong-kong-2025/2026-01-13/
LOCATION:WanChai Harbourfront Event Space\, 3 Hung Hing Road\, Wanchai\, Hong Kong
CATEGORIES:2025,2026,Exhibition,Lifestyle,Music,Nightlife
ATTACH;FMTTYPE=image/jpeg:https://www.bcmagazine.net/wp-content/uploads/2025/12/572095663_122105167311066348_5232692940820819710_n.jpg
END:VEVENT
BEGIN:VEVENT
DTSTART;TZID=Asia/Hong_Kong:20260113T200000
DTEND;TZID=Asia/Hong_Kong:20260113T200000
DTSTAMP:20260422T180053
CREATED:20250923T034537Z
LAST-MODIFIED:20250925T123918Z
UID:10011416-1768334400-1768334400@www.bcmagazine.net
SUMMARY:Fly By Midnight
DESCRIPTION:Fly By Midnight – The Fastest Time of Our Lives\nDate: 8pm\, 13 January 2026\nVenue: Kitty Woo Stadium\, Tung Po\nTickets: $1\,199\, $699
URL:https://www.bcmagazine.net/event/fly-by-midnight-hk-2025/
LOCATION:Kitty Woo Stadium\, 2\, Tsat Po Street\, San Po Kong\, Hong Kong
CATEGORIES:2025,Concert,Music,Nightlife,Performing Arts
ATTACH;FMTTYPE=image/jpeg:https://www.bcmagazine.net/wp-content/uploads/2025/09/Fly-by-Midnight-HK-2025.jpg
END:VEVENT
BEGIN:VEVENT
DTSTART;TZID=Asia/Hong_Kong:20260114T180000
DTEND;TZID=Asia/Hong_Kong:20260114T180000
DTSTAMP:20260422T180053
CREATED:20251210T044212Z
LAST-MODIFIED:20260108T164128Z
UID:10012221-1768413600-1768413600@www.bcmagazine.net
SUMMARY:Festilumi
DESCRIPTION:Festilumi Hong Kong 2025\nDate: 12 December 2025 – 24 January 2026\nVenue: Wanchai Harbourfront Event Space\nTickets: $508\, $278\, $168
URL:https://www.bcmagazine.net/event/festilumi-hong-kong-2025/2026-01-14/
LOCATION:WanChai Harbourfront Event Space\, 3 Hung Hing Road\, Wanchai\, Hong Kong
CATEGORIES:2025,2026,Exhibition,Lifestyle,Music,Nightlife
ATTACH;FMTTYPE=image/jpeg:https://www.bcmagazine.net/wp-content/uploads/2025/12/572095663_122105167311066348_5232692940820819710_n.jpg
END:VEVENT
BEGIN:VEVENT
DTSTART;TZID=Asia/Hong_Kong:20260115T180000
DTEND;TZID=Asia/Hong_Kong:20260115T180000
DTSTAMP:20260422T180053
CREATED:20251210T044212Z
LAST-MODIFIED:20260108T164128Z
UID:10012222-1768500000-1768500000@www.bcmagazine.net
SUMMARY:Festilumi
DESCRIPTION:Festilumi Hong Kong 2025\nDate: 12 December 2025 – 24 January 2026\nVenue: Wanchai Harbourfront Event Space\nTickets: $508\, $278\, $168
URL:https://www.bcmagazine.net/event/festilumi-hong-kong-2025/2026-01-15/
LOCATION:WanChai Harbourfront Event Space\, 3 Hung Hing Road\, Wanchai\, Hong Kong
CATEGORIES:2025,2026,Exhibition,Lifestyle,Music,Nightlife
ATTACH;FMTTYPE=image/jpeg:https://www.bcmagazine.net/wp-content/uploads/2025/12/572095663_122105167311066348_5232692940820819710_n.jpg
END:VEVENT
BEGIN:VEVENT
DTSTART;TZID=Asia/Hong_Kong:20260116T180000
DTEND;TZID=Asia/Hong_Kong:20260116T180000
DTSTAMP:20260422T180053
CREATED:20251210T044212Z
LAST-MODIFIED:20260108T164128Z
UID:10012223-1768586400-1768586400@www.bcmagazine.net
SUMMARY:Festilumi
DESCRIPTION:Festilumi Hong Kong 2025\nDate: 12 December 2025 – 24 January 2026\nVenue: Wanchai Harbourfront Event Space\nTickets: $508\, $278\, $168
URL:https://www.bcmagazine.net/event/festilumi-hong-kong-2025/2026-01-16/
LOCATION:WanChai Harbourfront Event Space\, 3 Hung Hing Road\, Wanchai\, Hong Kong
CATEGORIES:2025,2026,Exhibition,Lifestyle,Music,Nightlife
ATTACH;FMTTYPE=image/jpeg:https://www.bcmagazine.net/wp-content/uploads/2025/12/572095663_122105167311066348_5232692940820819710_n.jpg
END:VEVENT
BEGIN:VEVENT
DTSTART;TZID=Asia/Hong_Kong:20260117T180000
DTEND;TZID=Asia/Hong_Kong:20260117T180000
DTSTAMP:20260422T180053
CREATED:20251210T044212Z
LAST-MODIFIED:20260108T164128Z
UID:10012224-1768672800-1768672800@www.bcmagazine.net
SUMMARY:Festilumi
DESCRIPTION:Festilumi Hong Kong 2025\nDate: 12 December 2025 – 24 January 2026\nVenue: Wanchai Harbourfront Event Space\nTickets: $508\, $278\, $168
URL:https://www.bcmagazine.net/event/festilumi-hong-kong-2025/2026-01-17/
LOCATION:WanChai Harbourfront Event Space\, 3 Hung Hing Road\, Wanchai\, Hong Kong
CATEGORIES:2025,2026,Exhibition,Lifestyle,Music,Nightlife
ATTACH;FMTTYPE=image/jpeg:https://www.bcmagazine.net/wp-content/uploads/2025/12/572095663_122105167311066348_5232692940820819710_n.jpg
END:VEVENT
BEGIN:VEVENT
DTSTART;VALUE=DATE:20260118
DTEND;VALUE=DATE:20260119
DTSTAMP:20260422T180053
CREATED:20250818T065358Z
LAST-MODIFIED:20250827T200259Z
UID:10011396-1768694400-1768780799@www.bcmagazine.net
SUMMARY:Hong Kong Marathon
DESCRIPTION:Hong Kong Marathon – 28th Edition\nDate: 18 January\, 2026\nVenue: Hong Kong\nTickets: Free to watch
URL:https://www.bcmagazine.net/event/hong-kong-marathon/
CATEGORIES:2026,Lifestyle,Sport
ATTACH;FMTTYPE=image/jpeg:https://www.bcmagazine.net/wp-content/uploads/1917/12/HK-marathon.jpg
END:VEVENT
BEGIN:VEVENT
DTSTART;TZID=Asia/Hong_Kong:20260118T180000
DTEND;TZID=Asia/Hong_Kong:20260118T180000
DTSTAMP:20260422T180053
CREATED:20251210T044212Z
LAST-MODIFIED:20260108T164128Z
UID:10012225-1768759200-1768759200@www.bcmagazine.net
SUMMARY:Festilumi
DESCRIPTION:Festilumi Hong Kong 2025\nDate: 12 December 2025 – 24 January 2026\nVenue: Wanchai Harbourfront Event Space\nTickets: $508\, $278\, $168
URL:https://www.bcmagazine.net/event/festilumi-hong-kong-2025/2026-01-18/
LOCATION:WanChai Harbourfront Event Space\, 3 Hung Hing Road\, Wanchai\, Hong Kong
CATEGORIES:2025,2026,Exhibition,Lifestyle,Music,Nightlife
ATTACH;FMTTYPE=image/jpeg:https://www.bcmagazine.net/wp-content/uploads/2025/12/572095663_122105167311066348_5232692940820819710_n.jpg
END:VEVENT
BEGIN:VEVENT
DTSTART;TZID=Asia/Hong_Kong:20260119T180000
DTEND;TZID=Asia/Hong_Kong:20260119T180000
DTSTAMP:20260422T180053
CREATED:20251210T044212Z
LAST-MODIFIED:20260108T164128Z
UID:10012226-1768845600-1768845600@www.bcmagazine.net
SUMMARY:Festilumi
DESCRIPTION:Festilumi Hong Kong 2025\nDate: 12 December 2025 – 24 January 2026\nVenue: Wanchai Harbourfront Event Space\nTickets: $508\, $278\, $168
URL:https://www.bcmagazine.net/event/festilumi-hong-kong-2025/2026-01-19/
LOCATION:WanChai Harbourfront Event Space\, 3 Hung Hing Road\, Wanchai\, Hong Kong
CATEGORIES:2025,2026,Exhibition,Lifestyle,Music,Nightlife
ATTACH;FMTTYPE=image/jpeg:https://www.bcmagazine.net/wp-content/uploads/2025/12/572095663_122105167311066348_5232692940820819710_n.jpg
END:VEVENT
BEGIN:VEVENT
DTSTART;TZID=Asia/Hong_Kong:20260120T180000
DTEND;TZID=Asia/Hong_Kong:20260120T180000
DTSTAMP:20260422T180053
CREATED:20251210T044212Z
LAST-MODIFIED:20260108T164128Z
UID:10012227-1768932000-1768932000@www.bcmagazine.net
SUMMARY:Festilumi
DESCRIPTION:Festilumi Hong Kong 2025\nDate: 12 December 2025 – 24 January 2026\nVenue: Wanchai Harbourfront Event Space\nTickets: $508\, $278\, $168
URL:https://www.bcmagazine.net/event/festilumi-hong-kong-2025/2026-01-20/
LOCATION:WanChai Harbourfront Event Space\, 3 Hung Hing Road\, Wanchai\, Hong Kong
CATEGORIES:2025,2026,Exhibition,Lifestyle,Music,Nightlife
ATTACH;FMTTYPE=image/jpeg:https://www.bcmagazine.net/wp-content/uploads/2025/12/572095663_122105167311066348_5232692940820819710_n.jpg
END:VEVENT
BEGIN:VEVENT
DTSTART;TZID=Asia/Hong_Kong:20260121T180000
DTEND;TZID=Asia/Hong_Kong:20260121T180000
DTSTAMP:20260422T180053
CREATED:20251210T044212Z
LAST-MODIFIED:20260108T164128Z
UID:10012228-1769018400-1769018400@www.bcmagazine.net
SUMMARY:Festilumi
DESCRIPTION:Festilumi Hong Kong 2025\nDate: 12 December 2025 – 24 January 2026\nVenue: Wanchai Harbourfront Event Space\nTickets: $508\, $278\, $168
URL:https://www.bcmagazine.net/event/festilumi-hong-kong-2025/2026-01-21/
LOCATION:WanChai Harbourfront Event Space\, 3 Hung Hing Road\, Wanchai\, Hong Kong
CATEGORIES:2025,2026,Exhibition,Lifestyle,Music,Nightlife
ATTACH;FMTTYPE=image/jpeg:https://www.bcmagazine.net/wp-content/uploads/2025/12/572095663_122105167311066348_5232692940820819710_n.jpg
END:VEVENT
BEGIN:VEVENT
DTSTART;TZID=Asia/Hong_Kong:20260122T180000
DTEND;TZID=Asia/Hong_Kong:20260122T180000
DTSTAMP:20260422T180053
CREATED:20251210T044212Z
LAST-MODIFIED:20260108T164128Z
UID:10012229-1769104800-1769104800@www.bcmagazine.net
SUMMARY:Festilumi
DESCRIPTION:Festilumi Hong Kong 2025\nDate: 12 December 2025 – 24 January 2026\nVenue: Wanchai Harbourfront Event Space\nTickets: $508\, $278\, $168
URL:https://www.bcmagazine.net/event/festilumi-hong-kong-2025/2026-01-22/
LOCATION:WanChai Harbourfront Event Space\, 3 Hung Hing Road\, Wanchai\, Hong Kong
CATEGORIES:2025,2026,Exhibition,Lifestyle,Music,Nightlife
ATTACH;FMTTYPE=image/jpeg:https://www.bcmagazine.net/wp-content/uploads/2025/12/572095663_122105167311066348_5232692940820819710_n.jpg
END:VEVENT
BEGIN:VEVENT
DTSTART;TZID=Asia/Hong_Kong:20260123T180000
DTEND;TZID=Asia/Hong_Kong:20260123T180000
DTSTAMP:20260422T180053
CREATED:20251210T044212Z
LAST-MODIFIED:20260108T164128Z
UID:10012230-1769191200-1769191200@www.bcmagazine.net
SUMMARY:Festilumi
DESCRIPTION:Festilumi Hong Kong 2025\nDate: 12 December 2025 – 24 January 2026\nVenue: Wanchai Harbourfront Event Space\nTickets: $508\, $278\, $168
URL:https://www.bcmagazine.net/event/festilumi-hong-kong-2025/2026-01-23/
LOCATION:WanChai Harbourfront Event Space\, 3 Hung Hing Road\, Wanchai\, Hong Kong
CATEGORIES:2025,2026,Exhibition,Lifestyle,Music,Nightlife
ATTACH;FMTTYPE=image/jpeg:https://www.bcmagazine.net/wp-content/uploads/2025/12/572095663_122105167311066348_5232692940820819710_n.jpg
END:VEVENT
BEGIN:VEVENT
DTSTART;TZID=Asia/Hong_Kong:20260124T180000
DTEND;TZID=Asia/Hong_Kong:20260124T180000
DTSTAMP:20260422T180053
CREATED:20251210T044212Z
LAST-MODIFIED:20260108T164128Z
UID:10012231-1769277600-1769277600@www.bcmagazine.net
SUMMARY:Festilumi
DESCRIPTION:Festilumi Hong Kong 2025\nDate: 12 December 2025 – 24 January 2026\nVenue: Wanchai Harbourfront Event Space\nTickets: $508\, $278\, $168
URL:https://www.bcmagazine.net/event/festilumi-hong-kong-2025/2026-01-24/
LOCATION:WanChai Harbourfront Event Space\, 3 Hung Hing Road\, Wanchai\, Hong Kong
CATEGORIES:2025,2026,Exhibition,Lifestyle,Music,Nightlife
ATTACH;FMTTYPE=image/jpeg:https://www.bcmagazine.net/wp-content/uploads/2025/12/572095663_122105167311066348_5232692940820819710_n.jpg
END:VEVENT
BEGIN:VEVENT
DTSTART;TZID=Asia/Hong_Kong:20260124T183000
DTEND;TZID=Asia/Hong_Kong:20260124T183000
DTSTAMP:20260422T180053
CREATED:20250603T052749Z
LAST-MODIFIED:20250604T133725Z
UID:10011364-1769279400-1769279400@www.bcmagazine.net
SUMMARY:Black Pink
DESCRIPTION:Black Pink\nDate: 24-25 January\, 2026\nVenue: Kai Tak Stadium\nTickets: $3\,499\, $2\,899\, $2\,299\, $1\,899\, $1\,499\, $1\,099\, $899\, $699
URL:https://www.bcmagazine.net/event/102629/2026-01-24/
LOCATION:Kai Tak Stadium\, 38-39 Shing Kai Road\, Kowloon City\, Hong Kong
CATEGORIES:2026,Concert,Music,Performing Arts
ATTACH;FMTTYPE=image/jpeg:https://www.bcmagazine.net/wp-content/uploads/2024/09/Black-Pink-2025.jpg
END:VEVENT
BEGIN:VEVENT
DTSTART;TZID=Asia/Hong_Kong:20260125T183000
DTEND;TZID=Asia/Hong_Kong:20260125T183000
DTSTAMP:20260422T180053
CREATED:20250603T052749Z
LAST-MODIFIED:20250604T133725Z
UID:10011365-1769365800-1769365800@www.bcmagazine.net
SUMMARY:Black Pink
DESCRIPTION:Black Pink\nDate: 24-25 January\, 2026\nVenue: Kai Tak Stadium\nTickets: $3\,499\, $2\,899\, $2\,299\, $1\,899\, $1\,499\, $1\,099\, $899\, $699
URL:https://www.bcmagazine.net/event/102629/2026-01-25/
LOCATION:Kai Tak Stadium\, 38-39 Shing Kai Road\, Kowloon City\, Hong Kong
CATEGORIES:2026,Concert,Music,Performing Arts
ATTACH;FMTTYPE=image/jpeg:https://www.bcmagazine.net/wp-content/uploads/2024/09/Black-Pink-2025.jpg
END:VEVENT
END:VCALENDAR