BEGIN:VCALENDAR
VERSION:2.0
PRODID:-//bc magazine - ECPv6.15.20//NONSGML v1.0//EN
CALSCALE:GREGORIAN
METHOD:PUBLISH
X-WR-CALNAME:bc magazine
X-ORIGINAL-URL:https://www.bcmagazine.net
X-WR-CALDESC:Events for bc magazine
REFRESH-INTERVAL;VALUE=DURATION:PT1H
X-Robots-Tag:noindex
X-PUBLISHED-TTL:PT1H
BEGIN:VTIMEZONE
TZID:Asia/Hong_Kong
BEGIN:STANDARD
TZOFFSETFROM:+0800
TZOFFSETTO:+0800
TZNAME:HKT
DTSTART:20250101T000000
END:STANDARD
END:VTIMEZONE
BEGIN:VEVENT
DTSTART;VALUE=DATE:20260417
DTEND;VALUE=DATE:20260701
DTSTAMP:20260421T101639
CREATED:20260327T004537Z
LAST-MODIFIED:20260330T130242Z
UID:10013144-1776384000-1782863999@www.bcmagazine.net
SUMMARY:Hong Kong Pop Culture Festival
DESCRIPTION:Hong Kong Pop Culture Festival\nDate: 17 April – 30 June 2026\nVenue: Various\nTickets: Various\nMore info:\nwww.pcf.gov.hk
URL:https://www.bcmagazine.net/event/hong-kong-pop-culture-festival-2026/
CATEGORIES:2026,Concert,Free,Music,Nightlife,Performing Arts
ATTACH;FMTTYPE=image/jpeg:https://www.bcmagazine.net/wp-content/uploads/2022/06/Hong-Kong-Pop-Culture-Festival-2026.jpg
END:VEVENT
BEGIN:VEVENT
DTSTART;TZID=Asia/Hong_Kong:20260501T201500
DTEND;TZID=Asia/Hong_Kong:20260501T201500
DTSTAMP:20260421T101639
CREATED:20260206T053034Z
LAST-MODIFIED:20260219T125901Z
UID:10012633-1777666500-1777666500@www.bcmagazine.net
SUMMARY:Grasshopper
DESCRIPTION:Grasshopper – Three in Love\nDate: 8:15pm\, 28 April- 3 May 2026\nVenue: HK Coliseum\nTickets: $1\,280\, $780\, $580 from Urbtix
URL:https://www.bcmagazine.net/event/grasshopper-2026/2026-05-01/
LOCATION:HK Coliseum\, 9 Cheong Wan Road\, Hung Hom\, Hong Kong
CATEGORIES:2026,Concert,Music,Performing Arts
ATTACH;FMTTYPE=image/jpeg:https://www.bcmagazine.net/wp-content/uploads/1917/08/grasshopper-three-in-love-2026.jpg
GEO:22.3014169;114.1820305
X-APPLE-STRUCTURED-LOCATION;VALUE=URI;X-ADDRESS=HK Coliseum 9 Cheong Wan Road Hung Hom Hong Kong;X-APPLE-RADIUS=500;X-TITLE=9 Cheong Wan Road:geo:114.1820305,22.3014169
END:VEVENT
BEGIN:VEVENT
DTSTART;TZID=Asia/Hong_Kong:20260502T201500
DTEND;TZID=Asia/Hong_Kong:20260502T201500
DTSTAMP:20260421T101639
CREATED:20260206T053034Z
LAST-MODIFIED:20260219T125901Z
UID:10012634-1777752900-1777752900@www.bcmagazine.net
SUMMARY:Grasshopper
DESCRIPTION:Grasshopper – Three in Love\nDate: 8:15pm\, 28 April- 3 May 2026\nVenue: HK Coliseum\nTickets: $1\,280\, $780\, $580 from Urbtix
URL:https://www.bcmagazine.net/event/grasshopper-2026/2026-05-02/
LOCATION:HK Coliseum\, 9 Cheong Wan Road\, Hung Hom\, Hong Kong
CATEGORIES:2026,Concert,Music,Performing Arts
ATTACH;FMTTYPE=image/jpeg:https://www.bcmagazine.net/wp-content/uploads/1917/08/grasshopper-three-in-love-2026.jpg
GEO:22.3014169;114.1820305
X-APPLE-STRUCTURED-LOCATION;VALUE=URI;X-ADDRESS=HK Coliseum 9 Cheong Wan Road Hung Hom Hong Kong;X-APPLE-RADIUS=500;X-TITLE=9 Cheong Wan Road:geo:114.1820305,22.3014169
END:VEVENT
BEGIN:VEVENT
DTSTART;TZID=Asia/Hong_Kong:20260503T201500
DTEND;TZID=Asia/Hong_Kong:20260503T201500
DTSTAMP:20260421T101639
CREATED:20260206T053034Z
LAST-MODIFIED:20260219T125901Z
UID:10012635-1777839300-1777839300@www.bcmagazine.net
SUMMARY:Grasshopper
DESCRIPTION:Grasshopper – Three in Love\nDate: 8:15pm\, 28 April- 3 May 2026\nVenue: HK Coliseum\nTickets: $1\,280\, $780\, $580 from Urbtix
URL:https://www.bcmagazine.net/event/grasshopper-2026/2026-05-03/
LOCATION:HK Coliseum\, 9 Cheong Wan Road\, Hung Hom\, Hong Kong
CATEGORIES:2026,Concert,Music,Performing Arts
ATTACH;FMTTYPE=image/jpeg:https://www.bcmagazine.net/wp-content/uploads/1917/08/grasshopper-three-in-love-2026.jpg
GEO:22.3014169;114.1820305
X-APPLE-STRUCTURED-LOCATION;VALUE=URI;X-ADDRESS=HK Coliseum 9 Cheong Wan Road Hung Hom Hong Kong;X-APPLE-RADIUS=500;X-TITLE=9 Cheong Wan Road:geo:114.1820305,22.3014169
END:VEVENT
BEGIN:VEVENT
DTSTART;TZID=Asia/Hong_Kong:20260506T200000
DTEND;TZID=Asia/Hong_Kong:20260506T200000
DTSTAMP:20260421T101639
CREATED:20251211T044512Z
LAST-MODIFIED:20251211T101305Z
UID:10012179-1778097600-1778097600@www.bcmagazine.net
SUMMARY:Kraftwerk
DESCRIPTION:Kraftwerk Multimedia Tour\nDate: 8pm\, 6 May 2026\nVenue: AsiaWorld Expo\, Runway 11\nTickets: $799
URL:https://www.bcmagazine.net/event/kraftwerk-hong-kong-2026/
LOCATION:AsiaWorld-Expo\, Runway 11\, Cheong Wing Road\, Chek Lap Kok\, Lantau Island\, Hong Kong
CATEGORIES:2026,Concert,Music,Performing Arts
ATTACH;FMTTYPE=image/jpeg:https://www.bcmagazine.net/wp-content/uploads/1918/12/Kraftwork-Hong-Kong-2026.jpg
GEO:22.3217383;113.9402012
X-APPLE-STRUCTURED-LOCATION;VALUE=URI;X-ADDRESS=AsiaWorld-Expo Runway 11 Cheong Wing Road Chek Lap Kok Lantau Island Hong Kong;X-APPLE-RADIUS=500;X-TITLE=Cheong Wing Road:geo:113.9402012,22.3217383
END:VEVENT
BEGIN:VEVENT
DTSTART;TZID=Asia/Hong_Kong:20260509T180000
DTEND;TZID=Asia/Hong_Kong:20260509T180000
DTSTAMP:20260421T101639
CREATED:20251208T004537Z
LAST-MODIFIED:20260220T133551Z
UID:10013089-1778349600-1778349600@www.bcmagazine.net
SUMMARY:Pulse On
DESCRIPTION:Pulse On – Treasure Tour\nDate: 6pm\, 9 May 2026\nVenue: AsiaWorld Expo\, Arena\nTickets: $2\,299\, $1\,999\, $1\,499\, $1\,299\, $1\,099\, $799 from Cityline
URL:https://www.bcmagazine.net/event/pulse-on-2026/
LOCATION:AsiaWorld Expo\, Arena\, Hong Kong
CATEGORIES:2026,Concert,Music,Nightlife,Performing Arts
ATTACH;FMTTYPE=image/jpeg:https://www.bcmagazine.net/wp-content/uploads/1922/06/Pulse-On-2026.jpg
END:VEVENT
BEGIN:VEVENT
DTSTART;VALUE=DATE:20260522
DTEND;VALUE=DATE:20260525
DTSTAMP:20260421T101639
CREATED:20260228T004257Z
LAST-MODIFIED:20260219T115434Z
UID:10012626-1779408000-1779667199@www.bcmagazine.net
SUMMARY:Soccer Sevens
DESCRIPTION:Soccer Sevens\nDate: 22-24 May\, 2026\nVenue: HK Football Club\nTickets: tbc\nMore info:\n22 May (Fri): 6 – 9pm\n23 May (Sat): 9am – 7.40pm\n24 May (Sun): 8:30am – 6pm
URL:https://www.bcmagazine.net/event/soccer-sevens-2026/
LOCATION:Hong Kong Football Club\, 3 Sports Road\, Causeway Bay\, Hong Kong
CATEGORIES:2026,Football,Sport
ATTACH;FMTTYPE=image/jpeg:https://www.bcmagazine.net/wp-content/uploads/2025/04/soccer-7s-2026-1.jpg
GEO:22.275374;114.1822239
X-APPLE-STRUCTURED-LOCATION;VALUE=URI;X-ADDRESS=Hong Kong Football Club 3 Sports Road Causeway Bay Hong Kong;X-APPLE-RADIUS=500;X-TITLE=3 Sports Road:geo:114.1822239,22.275374
END:VEVENT
BEGIN:VEVENT
DTSTART;TZID=Asia/Hong_Kong:20260524T193000
DTEND;TZID=Asia/Hong_Kong:20260524T193000
DTSTAMP:20260421T101639
CREATED:19220630T004537Z
LAST-MODIFIED:20260220T114903Z
UID:10013077-1779651000-1779651000@www.bcmagazine.net
SUMMARY:Tokyo Shoegazer
DESCRIPTION:Tokyo Shoegazer – Remains Tour\nDate: 7:30pm\, 24 May 2026\nVenue: Portal\nTickets: $550\, $480
URL:https://www.bcmagazine.net/event/tokyo-shoegazer-hk-2026/
LOCATION:Portal\, 1/F The Burrow\, 212 Choi Hung Road\, San Po Kong\, Hong Kong
CATEGORIES:2026,Concert,Music,Nightlife,Performing Arts
ATTACH;FMTTYPE=image/png:https://www.bcmagazine.net/wp-content/uploads/1922/06/Tokyo-Shoegazer-HK-2026.png
END:VEVENT
BEGIN:VEVENT
DTSTART;TZID=Asia/Hong_Kong:20260530T181500
DTEND;TZID=Asia/Hong_Kong:20260530T181500
DTSTAMP:20260421T101639
CREATED:20260309T094205Z
LAST-MODIFIED:20260309T104147Z
UID:10013095-1780164900-1780164900@www.bcmagazine.net
SUMMARY:Hong Kong International Reggae Ska Festival
DESCRIPTION:Hong Kong International Reggae Ska Festival – 10th Anniversary\nDate: 30 May 2026\nVenue: PMQ\nTickets: $680\, $580 from Ticketflap
URL:https://www.bcmagazine.net/event/hong-kong-international-reggae-ska-festival-2026/
LOCATION:PMQ\, 35 Aberdeen Street\, Central\, Hong Kong
CATEGORIES:2026,Concert,Music,Performing Arts
ATTACH;FMTTYPE=image/jpeg:https://www.bcmagazine.net/wp-content/uploads/2025/02/Hong-Kong-International-Reggae-Ska-Festival-2026.jpg
GEO:22.2836011;114.1524554
X-APPLE-STRUCTURED-LOCATION;VALUE=URI;X-ADDRESS=PMQ 35 Aberdeen Street Central Hong Kong;X-APPLE-RADIUS=500;X-TITLE=35 Aberdeen Street:geo:114.1524554,22.2836011
END:VEVENT
END:VCALENDAR