BEGIN:VCALENDAR
VERSION:2.0
PRODID:-//bc magazine - ECPv6.15.20//NONSGML v1.0//EN
CALSCALE:GREGORIAN
METHOD:PUBLISH
X-WR-CALNAME:bc magazine
X-ORIGINAL-URL:https://www.bcmagazine.net
X-WR-CALDESC:Events for bc magazine
REFRESH-INTERVAL;VALUE=DURATION:PT1H
X-Robots-Tag:noindex
X-PUBLISHED-TTL:PT1H
BEGIN:VTIMEZONE
TZID:Asia/Hong_Kong
BEGIN:STANDARD
TZOFFSETFROM:+0800
TZOFFSETTO:+0800
TZNAME:HKT
DTSTART:20220101T000000
END:STANDARD
END:VTIMEZONE
BEGIN:VEVENT
DTSTART;TZID=Asia/Hong_Kong:20230707T201500
DTEND;TZID=Asia/Hong_Kong:20230707T201500
DTSTAMP:20260426T095903
CREATED:19190524T044512Z
LAST-MODIFIED:20230615T111639Z
UID:10007568-1688760900-1688760900@www.bcmagazine.net
SUMMARY:Jer Lau
DESCRIPTION:Jer Lau – Across the Universe in My Sight\nDate: 8:15pm\, 7-9 July 2023\nVenue: Hall 5BC\, Hong Kong Convention and Exhibition Centre\nTickets: $1\,080\, $880\, $580 from HKTicketing
URL:https://www.bcmagazine.net/event/jer-lau/2023-07-07/
LOCATION:HK Convention and Exhibition Centre\, 1 Expo Drive\, Wanchai\, Hong Kong
CATEGORIES:2023,Cantopop,Concert,Music,Performing Arts
ATTACH;FMTTYPE=image/jpeg:https://www.bcmagazine.net/wp-content/uploads/1919/05/Jer-Lau-2023.jpeg
END:VEVENT
BEGIN:VEVENT
DTSTART;TZID=Asia/Hong_Kong:20230708T201500
DTEND;TZID=Asia/Hong_Kong:20230708T201500
DTSTAMP:20260426T095903
CREATED:19190524T044512Z
LAST-MODIFIED:20230615T111639Z
UID:10007569-1688847300-1688847300@www.bcmagazine.net
SUMMARY:Jer Lau
DESCRIPTION:Jer Lau – Across the Universe in My Sight\nDate: 8:15pm\, 7-9 July 2023\nVenue: Hall 5BC\, Hong Kong Convention and Exhibition Centre\nTickets: $1\,080\, $880\, $580 from HKTicketing
URL:https://www.bcmagazine.net/event/jer-lau/2023-07-08/
LOCATION:HK Convention and Exhibition Centre\, 1 Expo Drive\, Wanchai\, Hong Kong
CATEGORIES:2023,Cantopop,Concert,Music,Performing Arts
ATTACH;FMTTYPE=image/jpeg:https://www.bcmagazine.net/wp-content/uploads/1919/05/Jer-Lau-2023.jpeg
END:VEVENT
BEGIN:VEVENT
DTSTART;TZID=Asia/Hong_Kong:20230709T201500
DTEND;TZID=Asia/Hong_Kong:20230709T201500
DTSTAMP:20260426T095903
CREATED:19190524T044512Z
LAST-MODIFIED:20230615T111639Z
UID:10007570-1688933700-1688933700@www.bcmagazine.net
SUMMARY:Jer Lau
DESCRIPTION:Jer Lau – Across the Universe in My Sight\nDate: 8:15pm\, 7-9 July 2023\nVenue: Hall 5BC\, Hong Kong Convention and Exhibition Centre\nTickets: $1\,080\, $880\, $580 from HKTicketing
URL:https://www.bcmagazine.net/event/jer-lau/2023-07-09/
LOCATION:HK Convention and Exhibition Centre\, 1 Expo Drive\, Wanchai\, Hong Kong
CATEGORIES:2023,Cantopop,Concert,Music,Performing Arts
ATTACH;FMTTYPE=image/jpeg:https://www.bcmagazine.net/wp-content/uploads/1919/05/Jer-Lau-2023.jpeg
END:VEVENT
END:VCALENDAR