BEGIN:VCALENDAR
VERSION:2.0
PRODID:-//bc magazine - ECPv6.15.20//NONSGML v1.0//EN
CALSCALE:GREGORIAN
METHOD:PUBLISH
X-ORIGINAL-URL:https://www.bcmagazine.net
X-WR-CALDESC:Events for bc magazine
REFRESH-INTERVAL;VALUE=DURATION:PT1H
X-Robots-Tag:noindex
X-PUBLISHED-TTL:PT1H
BEGIN:VTIMEZONE
TZID:Asia/Hong_Kong
BEGIN:STANDARD
TZOFFSETFROM:+0800
TZOFFSETTO:+0800
TZNAME:HKT
DTSTART:20220101T000000
END:STANDARD
END:VTIMEZONE
BEGIN:VEVENT
DTSTART;TZID=Asia/Hong_Kong:20230802T201500
DTEND;TZID=Asia/Hong_Kong:20230802T201500
DTSTAMP:20260421T222759
CREATED:19181023T145036Z
LAST-MODIFIED:20230804T020024Z
UID:10007978-1691007300-1691007300@www.bcmagazine.net
SUMMARY:Keung To
DESCRIPTION:Keung To – Waves\nDate: 8:15pm\, 2-5 August\, 2023\nVenue: AsiaWorld Expo\, Arena\nTickets: $1\,080\, $880\, $580 from HKTicketing
URL:https://www.bcmagazine.net/event/keung-to-2023/2023-08-02/
LOCATION:AsiaWorld Expo\, Arena\, Hong Kong
CATEGORIES:2023,Concert,Music,Performing Arts
ATTACH;FMTTYPE=image/jpeg:https://www.bcmagazine.net/wp-content/uploads/1918/10/Keung-to-2023.jpeg
END:VEVENT
BEGIN:VEVENT
DTSTART;TZID=Asia/Hong_Kong:20230803T201500
DTEND;TZID=Asia/Hong_Kong:20230803T201500
DTSTAMP:20260421T222759
CREATED:19181023T145036Z
LAST-MODIFIED:20230804T020024Z
UID:10007979-1691093700-1691093700@www.bcmagazine.net
SUMMARY:Keung To
DESCRIPTION:Keung To – Waves\nDate: 8:15pm\, 2-5 August\, 2023\nVenue: AsiaWorld Expo\, Arena\nTickets: $1\,080\, $880\, $580 from HKTicketing
URL:https://www.bcmagazine.net/event/keung-to-2023/2023-08-03/
LOCATION:AsiaWorld Expo\, Arena\, Hong Kong
CATEGORIES:2023,Concert,Music,Performing Arts
ATTACH;FMTTYPE=image/jpeg:https://www.bcmagazine.net/wp-content/uploads/1918/10/Keung-to-2023.jpeg
END:VEVENT
BEGIN:VEVENT
DTSTART;TZID=Asia/Hong_Kong:20230804T201500
DTEND;TZID=Asia/Hong_Kong:20230804T201500
DTSTAMP:20260421T222759
CREATED:19181023T145036Z
LAST-MODIFIED:20230804T020024Z
UID:10007980-1691180100-1691180100@www.bcmagazine.net
SUMMARY:Keung To
DESCRIPTION:Keung To – Waves\nDate: 8:15pm\, 2-5 August\, 2023\nVenue: AsiaWorld Expo\, Arena\nTickets: $1\,080\, $880\, $580 from HKTicketing
URL:https://www.bcmagazine.net/event/keung-to-2023/2023-08-04/
LOCATION:AsiaWorld Expo\, Arena\, Hong Kong
CATEGORIES:2023,Concert,Music,Performing Arts
ATTACH;FMTTYPE=image/jpeg:https://www.bcmagazine.net/wp-content/uploads/1918/10/Keung-to-2023.jpeg
END:VEVENT
BEGIN:VEVENT
DTSTART;TZID=Asia/Hong_Kong:20230805T201500
DTEND;TZID=Asia/Hong_Kong:20230805T201500
DTSTAMP:20260421T222759
CREATED:19181023T145036Z
LAST-MODIFIED:20230804T020024Z
UID:10007981-1691266500-1691266500@www.bcmagazine.net
SUMMARY:Keung To
DESCRIPTION:Keung To – Waves\nDate: 8:15pm\, 2-5 August\, 2023\nVenue: AsiaWorld Expo\, Arena\nTickets: $1\,080\, $880\, $580 from HKTicketing
URL:https://www.bcmagazine.net/event/keung-to-2023/2023-08-05/
LOCATION:AsiaWorld Expo\, Arena\, Hong Kong
CATEGORIES:2023,Concert,Music,Performing Arts
ATTACH;FMTTYPE=image/jpeg:https://www.bcmagazine.net/wp-content/uploads/1918/10/Keung-to-2023.jpeg
END:VEVENT
BEGIN:VEVENT
DTSTART;TZID=Asia/Hong_Kong:20230825T201500
DTEND;TZID=Asia/Hong_Kong:20230825T201500
DTSTAMP:20260421T222759
CREATED:19181023T145036Z
LAST-MODIFIED:20230804T020351Z
UID:10008350-1692994500-1692994500@www.bcmagazine.net
SUMMARY:Edan Lui
DESCRIPTION:Edan Lui – In My Sight of E\nDate: 8:15pm\, 25-27 August\, 2023\nVenue: AsiaWorld Expo\, Arena\nTickets: $1\,080\, $880\, $580 from HKTicketing
URL:https://www.bcmagazine.net/event/edan-lui/2023-08-25/
LOCATION:AsiaWorld Expo\, Arena\, Hong Kong
CATEGORIES:2023,Concert,Music,Performing Arts
ATTACH;FMTTYPE=image/jpeg:https://www.bcmagazine.net/wp-content/uploads/1918/10/Edan-Lui-2023.jpeg
END:VEVENT
BEGIN:VEVENT
DTSTART;TZID=Asia/Hong_Kong:20230826T201500
DTEND;TZID=Asia/Hong_Kong:20230826T201500
DTSTAMP:20260421T222759
CREATED:19181023T145036Z
LAST-MODIFIED:20230804T020351Z
UID:10008351-1693080900-1693080900@www.bcmagazine.net
SUMMARY:Edan Lui
DESCRIPTION:Edan Lui – In My Sight of E\nDate: 8:15pm\, 25-27 August\, 2023\nVenue: AsiaWorld Expo\, Arena\nTickets: $1\,080\, $880\, $580 from HKTicketing
URL:https://www.bcmagazine.net/event/edan-lui/2023-08-26/
LOCATION:AsiaWorld Expo\, Arena\, Hong Kong
CATEGORIES:2023,Concert,Music,Performing Arts
ATTACH;FMTTYPE=image/jpeg:https://www.bcmagazine.net/wp-content/uploads/1918/10/Edan-Lui-2023.jpeg
END:VEVENT
BEGIN:VEVENT
DTSTART;TZID=Asia/Hong_Kong:20230827T201500
DTEND;TZID=Asia/Hong_Kong:20230827T201500
DTSTAMP:20260421T222759
CREATED:19181023T145036Z
LAST-MODIFIED:20230804T020351Z
UID:10008352-1693167300-1693167300@www.bcmagazine.net
SUMMARY:Edan Lui
DESCRIPTION:Edan Lui – In My Sight of E\nDate: 8:15pm\, 25-27 August\, 2023\nVenue: AsiaWorld Expo\, Arena\nTickets: $1\,080\, $880\, $580 from HKTicketing
URL:https://www.bcmagazine.net/event/edan-lui/2023-08-27/
LOCATION:AsiaWorld Expo\, Arena\, Hong Kong
CATEGORIES:2023,Concert,Music,Performing Arts
ATTACH;FMTTYPE=image/jpeg:https://www.bcmagazine.net/wp-content/uploads/1918/10/Edan-Lui-2023.jpeg
END:VEVENT
END:VCALENDAR