BEGIN:VCALENDAR
VERSION:2.0
PRODID:-//bc magazine - ECPv6.15.20//NONSGML v1.0//EN
CALSCALE:GREGORIAN
METHOD:PUBLISH
X-WR-CALNAME:bc magazine
X-ORIGINAL-URL:https://www.bcmagazine.net
X-WR-CALDESC:Events for bc magazine
REFRESH-INTERVAL;VALUE=DURATION:PT1H
X-Robots-Tag:noindex
X-PUBLISHED-TTL:PT1H
BEGIN:VTIMEZONE
TZID:Asia/Hong_Kong
BEGIN:STANDARD
TZOFFSETFROM:+0800
TZOFFSETTO:+0800
TZNAME:HKT
DTSTART:20240101T000000
END:STANDARD
END:VTIMEZONE
BEGIN:VEVENT
DTSTART;TZID=Asia/Hong_Kong:20250815T200000
DTEND;TZID=Asia/Hong_Kong:20250815T200000
DTSTAMP:20260423T123629
CREATED:20250619T040802Z
LAST-MODIFIED:20250620T084342Z
UID:10011370-1755288000-1755288000@www.bcmagazine.net
SUMMARY:G.E.M.
DESCRIPTION:G.E.M. – I Am Gloria\nDate: 15\, 16\, 17 August 2025\nVenue: Kai Tak Stadium\nTickets: $1\,780\, $1\,580\, $1\,380\, $1\,180\, $880\, $680 from HKTicketing
URL:https://www.bcmagazine.net/event/g-e-m/2025-08-15/
CATEGORIES:2025,Concert,concert,Music,Performing Arts
ATTACH;FMTTYPE=image/jpeg:https://www.bcmagazine.net/wp-content/uploads/2024/09/G.E.M.-kai-tak-2025.jpeg
END:VEVENT
BEGIN:VEVENT
DTSTART;TZID=Asia/Hong_Kong:20250816T200000
DTEND;TZID=Asia/Hong_Kong:20250816T200000
DTSTAMP:20260423T123629
CREATED:20250619T040802Z
LAST-MODIFIED:20250620T084342Z
UID:10011371-1755374400-1755374400@www.bcmagazine.net
SUMMARY:G.E.M.
DESCRIPTION:G.E.M. – I Am Gloria\nDate: 15\, 16\, 17 August 2025\nVenue: Kai Tak Stadium\nTickets: $1\,780\, $1\,580\, $1\,380\, $1\,180\, $880\, $680 from HKTicketing
URL:https://www.bcmagazine.net/event/g-e-m/2025-08-16/
CATEGORIES:2025,Concert,concert,Music,Performing Arts
ATTACH;FMTTYPE=image/jpeg:https://www.bcmagazine.net/wp-content/uploads/2024/09/G.E.M.-kai-tak-2025.jpeg
END:VEVENT
BEGIN:VEVENT
DTSTART;TZID=Asia/Hong_Kong:20250817T200000
DTEND;TZID=Asia/Hong_Kong:20250817T200000
DTSTAMP:20260423T123629
CREATED:20250619T040802Z
LAST-MODIFIED:20250620T084342Z
UID:10011372-1755460800-1755460800@www.bcmagazine.net
SUMMARY:G.E.M.
DESCRIPTION:G.E.M. – I Am Gloria\nDate: 15\, 16\, 17 August 2025\nVenue: Kai Tak Stadium\nTickets: $1\,780\, $1\,580\, $1\,380\, $1\,180\, $880\, $680 from HKTicketing
URL:https://www.bcmagazine.net/event/g-e-m/2025-08-17/
CATEGORIES:2025,Concert,concert,Music,Performing Arts
ATTACH;FMTTYPE=image/jpeg:https://www.bcmagazine.net/wp-content/uploads/2024/09/G.E.M.-kai-tak-2025.jpeg
END:VEVENT
END:VCALENDAR