BEGIN:VCALENDAR
VERSION:2.0
PRODID:-//bc magazine - ECPv6.15.20//NONSGML v1.0//EN
CALSCALE:GREGORIAN
METHOD:PUBLISH
X-ORIGINAL-URL:https://www.bcmagazine.net
X-WR-CALDESC:Events for bc magazine
REFRESH-INTERVAL;VALUE=DURATION:PT1H
X-Robots-Tag:noindex
X-PUBLISHED-TTL:PT1H
BEGIN:VTIMEZONE
TZID:Asia/Hong_Kong
BEGIN:STANDARD
TZOFFSETFROM:+0800
TZOFFSETTO:+0800
TZNAME:HKT
DTSTART:20170101T000000
END:STANDARD
END:VTIMEZONE
BEGIN:VEVENT
DTSTART;TZID=Asia/Hong_Kong:20180817T200000
DTEND;TZID=Asia/Hong_Kong:20180817T200000
DTSTAMP:20260424T041542
CREATED:19180608T094055Z
LAST-MODIFIED:20180724T044035Z
UID:10004201-1534536000-1534536000@www.bcmagazine.net
SUMMARY:Jacky Cheung
DESCRIPTION:Jacky Cheung A Classic Tour\nDate: 17-19\, 24-25 August\, 2018\nVenue: Cotai Arena\nTickets: $1\,680\, $1\,280\, $780\, $380 from CotaiTicketing
URL:https://www.bcmagazine.net/event/jacky-cheung-macau-17-08-2018/
LOCATION:CotaiArena\, Venetian Macao\, Taipa\, Macau
CATEGORIES:2018,Cantopop,Concert,Macau,Music,Performing Arts
ATTACH;FMTTYPE=image/jpeg:https://www.bcmagazine.net/wp-content/uploads/1918/06/jacky-cheung-2018_1000x750.jpg
GEO:22.1483528;113.5602019
X-APPLE-STRUCTURED-LOCATION;VALUE=URI;X-ADDRESS=CotaiArena Venetian Macao Taipa Macau;X-APPLE-RADIUS=500;X-TITLE=Venetian Macao:geo:113.5602019,22.1483528
END:VEVENT
BEGIN:VEVENT
DTSTART;TZID=Asia/Hong_Kong:20180818T200000
DTEND;TZID=Asia/Hong_Kong:20180818T200000
DTSTAMP:20260424T041542
CREATED:19180608T094055Z
LAST-MODIFIED:20180724T044308Z
UID:10004202-1534622400-1534622400@www.bcmagazine.net
SUMMARY:Jacky Cheung
DESCRIPTION:Jacky Cheung A Classic Tour\nDate: 17-19\, 24-25 August\, 2018\nVenue: Cotai Arena\nTickets: $1\,680\, $1\,280\, $780\, $380 from CotaiTicketing
URL:https://www.bcmagazine.net/event/jacky-cheung-macau-18-08-2018/
LOCATION:CotaiArena\, Venetian Macao\, Taipa\, Macau
CATEGORIES:2018,Cantopop,Concert,Macau,Music,Performing Arts
ATTACH;FMTTYPE=image/jpeg:https://www.bcmagazine.net/wp-content/uploads/1918/06/jacky-cheung-2018_1000x750.jpg
GEO:22.1483528;113.5602019
X-APPLE-STRUCTURED-LOCATION;VALUE=URI;X-ADDRESS=CotaiArena Venetian Macao Taipa Macau;X-APPLE-RADIUS=500;X-TITLE=Venetian Macao:geo:113.5602019,22.1483528
END:VEVENT
BEGIN:VEVENT
DTSTART;TZID=Asia/Hong_Kong:20180819T190000
DTEND;TZID=Asia/Hong_Kong:20180819T190000
DTSTAMP:20260424T041542
CREATED:19180608T094055Z
LAST-MODIFIED:20180724T044303Z
UID:10004203-1534705200-1534705200@www.bcmagazine.net
SUMMARY:Jacky Cheung
DESCRIPTION:Jacky Cheung A Classic Tour\nDate: 17-19\, 24-25 August\, 2018\nVenue: Cotai Arena\nTickets: $1\,680\, $1\,280\, $780\, $380 from CotaiTicketing
URL:https://www.bcmagazine.net/event/jacky-cheung-macau-19-08-2018/
LOCATION:CotaiArena\, Venetian Macao\, Taipa\, Macau
CATEGORIES:2018,Cantopop,Concert,Macau,Music,Performing Arts
ATTACH;FMTTYPE=image/jpeg:https://www.bcmagazine.net/wp-content/uploads/1918/06/jacky-cheung-2018_1000x750.jpg
GEO:22.1483528;113.5602019
X-APPLE-STRUCTURED-LOCATION;VALUE=URI;X-ADDRESS=CotaiArena Venetian Macao Taipa Macau;X-APPLE-RADIUS=500;X-TITLE=Venetian Macao:geo:113.5602019,22.1483528
END:VEVENT
BEGIN:VEVENT
DTSTART;TZID=Asia/Hong_Kong:20180824T200000
DTEND;TZID=Asia/Hong_Kong:20180824T200000
DTSTAMP:20260424T041542
CREATED:19180608T094055Z
LAST-MODIFIED:20180724T044252Z
UID:10004204-1535140800-1535140800@www.bcmagazine.net
SUMMARY:Jacky Cheung
DESCRIPTION:Jacky Cheung A Classic Tour\nDate: 17-19\, 24-25 August\, 2018\nVenue: Cotai Arena\nTickets: $1\,680\, $1\,280\, $780\, $380 from CotaiTicketing
URL:https://www.bcmagazine.net/event/jacky-cheung-macau-24-08-2018/
LOCATION:CotaiArena\, Venetian Macao\, Taipa\, Macau
CATEGORIES:2018,Cantopop,Concert,Macau,Music,Performing Arts
ATTACH;FMTTYPE=image/jpeg:https://www.bcmagazine.net/wp-content/uploads/1918/06/jacky-cheung-2018_1000x750.jpg
GEO:22.1483528;113.5602019
X-APPLE-STRUCTURED-LOCATION;VALUE=URI;X-ADDRESS=CotaiArena Venetian Macao Taipa Macau;X-APPLE-RADIUS=500;X-TITLE=Venetian Macao:geo:113.5602019,22.1483528
END:VEVENT
BEGIN:VEVENT
DTSTART;TZID=Asia/Hong_Kong:20180825T200000
DTEND;TZID=Asia/Hong_Kong:20180825T200000
DTSTAMP:20260424T041542
CREATED:19180608T094055Z
LAST-MODIFIED:20180724T044244Z
UID:10004205-1535227200-1535227200@www.bcmagazine.net
SUMMARY:Jacky Cheung
DESCRIPTION:Jacky Cheung A Classic Tour\nDate: 17-19\, 24-25 August\, 2018\nVenue: Cotai Arena\nTickets: $1\,680\, $1\,280\, $780\, $380 from CotaiTicketing
URL:https://www.bcmagazine.net/event/jacky-cheung-macau-25-08-2018/
LOCATION:CotaiArena\, Venetian Macao\, Taipa\, Macau
CATEGORIES:2018,Cantopop,Concert,Macau,Music,Performing Arts
ATTACH;FMTTYPE=image/jpeg:https://www.bcmagazine.net/wp-content/uploads/1918/06/jacky-cheung-2018_1000x750.jpg
GEO:22.1483528;113.5602019
X-APPLE-STRUCTURED-LOCATION;VALUE=URI;X-ADDRESS=CotaiArena Venetian Macao Taipa Macau;X-APPLE-RADIUS=500;X-TITLE=Venetian Macao:geo:113.5602019,22.1483528
END:VEVENT
END:VCALENDAR