BEGIN:VCALENDAR
VERSION:2.0
PRODID:-//bc magazine - ECPv6.15.20//NONSGML v1.0//EN
CALSCALE:GREGORIAN
METHOD:PUBLISH
X-WR-CALNAME:bc magazine
X-ORIGINAL-URL:https://www.bcmagazine.net
X-WR-CALDESC:Events for bc magazine
REFRESH-INTERVAL;VALUE=DURATION:PT1H
X-Robots-Tag:noindex
X-PUBLISHED-TTL:PT1H
BEGIN:VTIMEZONE
TZID:Asia/Hong_Kong
BEGIN:STANDARD
TZOFFSETFROM:+0800
TZOFFSETTO:+0800
TZNAME:HKT
DTSTART:20250101T000000
END:STANDARD
END:VTIMEZONE
BEGIN:VEVENT
DTSTART;TZID=Asia/Hong_Kong:20260324T190000
DTEND;TZID=Asia/Hong_Kong:20260324T190000
DTSTAMP:20260423T125428
CREATED:20260112T053805Z
LAST-MODIFIED:20260220T092037Z
UID:10012704-1774378800-1774378800@www.bcmagazine.net
SUMMARY:MayDay
DESCRIPTION:MayDay #5525+1\nDate: 7pm\, 24\, 25\, 27 & 28 March 2026\nVenue: Kai Tak Sports Park\, Kai Tak Stadium\nTickets: $1\,855\, $1\,555\, $1\,355\, $1\,155\, $955\, $755 from HKTicketing
URL:https://www.bcmagazine.net/event/mayday-hk-2026/2026-03-24/
LOCATION:Kai Tak Stadium\, 38-39 Shing Kai Road\, Kowloon City\, Hong Kong
CATEGORIES:2026,Cantopop,Concert,Music,Performing Arts
ATTACH;FMTTYPE=image/jpeg:https://www.bcmagazine.net/wp-content/uploads/2025/03/MayDay-2026-HK-2.jpg
END:VEVENT
BEGIN:VEVENT
DTSTART;TZID=Asia/Hong_Kong:20260325T190000
DTEND;TZID=Asia/Hong_Kong:20260325T190000
DTSTAMP:20260423T125428
CREATED:20260112T053805Z
LAST-MODIFIED:20260220T092037Z
UID:10012705-1774465200-1774465200@www.bcmagazine.net
SUMMARY:MayDay
DESCRIPTION:MayDay #5525+1\nDate: 7pm\, 24\, 25\, 27 & 28 March 2026\nVenue: Kai Tak Sports Park\, Kai Tak Stadium\nTickets: $1\,855\, $1\,555\, $1\,355\, $1\,155\, $955\, $755 from HKTicketing
URL:https://www.bcmagazine.net/event/mayday-hk-2026/2026-03-25/
LOCATION:Kai Tak Stadium\, 38-39 Shing Kai Road\, Kowloon City\, Hong Kong
CATEGORIES:2026,Cantopop,Concert,Music,Performing Arts
ATTACH;FMTTYPE=image/jpeg:https://www.bcmagazine.net/wp-content/uploads/2025/03/MayDay-2026-HK-2.jpg
END:VEVENT
BEGIN:VEVENT
DTSTART;TZID=Asia/Hong_Kong:20260327T190000
DTEND;TZID=Asia/Hong_Kong:20260327T190000
DTSTAMP:20260423T125428
CREATED:20260112T053805Z
LAST-MODIFIED:20260220T092037Z
UID:10012706-1774638000-1774638000@www.bcmagazine.net
SUMMARY:MayDay
DESCRIPTION:MayDay #5525+1\nDate: 7pm\, 24\, 25\, 27 & 28 March 2026\nVenue: Kai Tak Sports Park\, Kai Tak Stadium\nTickets: $1\,855\, $1\,555\, $1\,355\, $1\,155\, $955\, $755 from HKTicketing
URL:https://www.bcmagazine.net/event/mayday-hk-2026/2026-03-27/
LOCATION:Kai Tak Stadium\, 38-39 Shing Kai Road\, Kowloon City\, Hong Kong
CATEGORIES:2026,Cantopop,Concert,Music,Performing Arts
ATTACH;FMTTYPE=image/jpeg:https://www.bcmagazine.net/wp-content/uploads/2025/03/MayDay-2026-HK-2.jpg
END:VEVENT
BEGIN:VEVENT
DTSTART;TZID=Asia/Hong_Kong:20260328T190000
DTEND;TZID=Asia/Hong_Kong:20260328T190000
DTSTAMP:20260423T125428
CREATED:20260112T053805Z
LAST-MODIFIED:20260220T092037Z
UID:10012707-1774724400-1774724400@www.bcmagazine.net
SUMMARY:MayDay
DESCRIPTION:MayDay #5525+1\nDate: 7pm\, 24\, 25\, 27 & 28 March 2026\nVenue: Kai Tak Sports Park\, Kai Tak Stadium\nTickets: $1\,855\, $1\,555\, $1\,355\, $1\,155\, $955\, $755 from HKTicketing
URL:https://www.bcmagazine.net/event/mayday-hk-2026/2026-03-28/
LOCATION:Kai Tak Stadium\, 38-39 Shing Kai Road\, Kowloon City\, Hong Kong
CATEGORIES:2026,Cantopop,Concert,Music,Performing Arts
ATTACH;FMTTYPE=image/jpeg:https://www.bcmagazine.net/wp-content/uploads/2025/03/MayDay-2026-HK-2.jpg
END:VEVENT
END:VCALENDAR