BEGIN:VCALENDAR
VERSION:2.0
PRODID:-//bc magazine - ECPv6.15.20//NONSGML v1.0//EN
CALSCALE:GREGORIAN
METHOD:PUBLISH
X-WR-CALNAME:bc magazine
X-ORIGINAL-URL:https://www.bcmagazine.net
X-WR-CALDESC:Events for bc magazine
REFRESH-INTERVAL;VALUE=DURATION:PT1H
X-Robots-Tag:noindex
X-PUBLISHED-TTL:PT1H
BEGIN:VTIMEZONE
TZID:Asia/Hong_Kong
BEGIN:STANDARD
TZOFFSETFROM:+0800
TZOFFSETTO:+0800
TZNAME:HKT
DTSTART:20230101T000000
END:STANDARD
END:VTIMEZONE
BEGIN:VEVENT
DTSTART;VALUE=DATE:20240430
DTEND;VALUE=DATE:20240501
DTSTAMP:20260421T120725
CREATED:19240315T024537Z
LAST-MODIFIED:20240408T110426Z
UID:10009735-1714435200-1714521599@www.bcmagazine.net
SUMMARY:The Sound of Music
DESCRIPTION:The Sound of Music\nDate: 16 April – 9 June 2024\nVenue: Xiqu Centre\, Grand Theatre\nTickets: $1\,188\, $1\,088\, $988\, $888\, $828\, $688\, $588\nMore info:\nTuesday to Friday: 7:30pm\nSaturday: 2:30pm\, 7:45pm\nSunday: 1:30pm\, 6:30pm
URL:https://www.bcmagazine.net/event/the-sound-of-music/2024-04-30/
LOCATION:Xiqu Centre\, Grand Theatre\, 88 Austin Road West\, Tsim Sha Tsui\, Hong Kong
CATEGORIES:2024,Music,Musical,Nightlife,Performing Arts
ATTACH;FMTTYPE=image/png:https://www.bcmagazine.net/wp-content/uploads/2024/03/sound-of-musuc-hk-2024.png
END:VEVENT
BEGIN:VEVENT
DTSTART;VALUE=DATE:20240501
DTEND;VALUE=DATE:20240502
DTSTAMP:20260421T120725
CREATED:19240315T024537Z
LAST-MODIFIED:20240408T110426Z
UID:10009736-1714521600-1714607999@www.bcmagazine.net
SUMMARY:The Sound of Music
DESCRIPTION:The Sound of Music\nDate: 16 April – 9 June 2024\nVenue: Xiqu Centre\, Grand Theatre\nTickets: $1\,188\, $1\,088\, $988\, $888\, $828\, $688\, $588\nMore info:\nTuesday to Friday: 7:30pm\nSaturday: 2:30pm\, 7:45pm\nSunday: 1:30pm\, 6:30pm
URL:https://www.bcmagazine.net/event/the-sound-of-music/2024-05-01/
LOCATION:Xiqu Centre\, Grand Theatre\, 88 Austin Road West\, Tsim Sha Tsui\, Hong Kong
CATEGORIES:2024,Music,Musical,Nightlife,Performing Arts
ATTACH;FMTTYPE=image/png:https://www.bcmagazine.net/wp-content/uploads/2024/03/sound-of-musuc-hk-2024.png
END:VEVENT
BEGIN:VEVENT
DTSTART;VALUE=DATE:20240502
DTEND;VALUE=DATE:20240503
DTSTAMP:20260421T120725
CREATED:19240315T024537Z
LAST-MODIFIED:20240408T110426Z
UID:10009737-1714608000-1714694399@www.bcmagazine.net
SUMMARY:The Sound of Music
DESCRIPTION:The Sound of Music\nDate: 16 April – 9 June 2024\nVenue: Xiqu Centre\, Grand Theatre\nTickets: $1\,188\, $1\,088\, $988\, $888\, $828\, $688\, $588\nMore info:\nTuesday to Friday: 7:30pm\nSaturday: 2:30pm\, 7:45pm\nSunday: 1:30pm\, 6:30pm
URL:https://www.bcmagazine.net/event/the-sound-of-music/2024-05-02/
LOCATION:Xiqu Centre\, Grand Theatre\, 88 Austin Road West\, Tsim Sha Tsui\, Hong Kong
CATEGORIES:2024,Music,Musical,Nightlife,Performing Arts
ATTACH;FMTTYPE=image/png:https://www.bcmagazine.net/wp-content/uploads/2024/03/sound-of-musuc-hk-2024.png
END:VEVENT
BEGIN:VEVENT
DTSTART;VALUE=DATE:20240503
DTEND;VALUE=DATE:20240504
DTSTAMP:20260421T120725
CREATED:19240315T024537Z
LAST-MODIFIED:20240408T110426Z
UID:10009738-1714694400-1714780799@www.bcmagazine.net
SUMMARY:The Sound of Music
DESCRIPTION:The Sound of Music\nDate: 16 April – 9 June 2024\nVenue: Xiqu Centre\, Grand Theatre\nTickets: $1\,188\, $1\,088\, $988\, $888\, $828\, $688\, $588\nMore info:\nTuesday to Friday: 7:30pm\nSaturday: 2:30pm\, 7:45pm\nSunday: 1:30pm\, 6:30pm
URL:https://www.bcmagazine.net/event/the-sound-of-music/2024-05-03/
LOCATION:Xiqu Centre\, Grand Theatre\, 88 Austin Road West\, Tsim Sha Tsui\, Hong Kong
CATEGORIES:2024,Music,Musical,Nightlife,Performing Arts
ATTACH;FMTTYPE=image/png:https://www.bcmagazine.net/wp-content/uploads/2024/03/sound-of-musuc-hk-2024.png
END:VEVENT
BEGIN:VEVENT
DTSTART;VALUE=DATE:20240504
DTEND;VALUE=DATE:20240505
DTSTAMP:20260421T120725
CREATED:19240315T024537Z
LAST-MODIFIED:20240408T110426Z
UID:10009739-1714780800-1714867199@www.bcmagazine.net
SUMMARY:The Sound of Music
DESCRIPTION:The Sound of Music\nDate: 16 April – 9 June 2024\nVenue: Xiqu Centre\, Grand Theatre\nTickets: $1\,188\, $1\,088\, $988\, $888\, $828\, $688\, $588\nMore info:\nTuesday to Friday: 7:30pm\nSaturday: 2:30pm\, 7:45pm\nSunday: 1:30pm\, 6:30pm
URL:https://www.bcmagazine.net/event/the-sound-of-music/2024-05-04/
LOCATION:Xiqu Centre\, Grand Theatre\, 88 Austin Road West\, Tsim Sha Tsui\, Hong Kong
CATEGORIES:2024,Music,Musical,Nightlife,Performing Arts
ATTACH;FMTTYPE=image/png:https://www.bcmagazine.net/wp-content/uploads/2024/03/sound-of-musuc-hk-2024.png
END:VEVENT
BEGIN:VEVENT
DTSTART;VALUE=DATE:20240505
DTEND;VALUE=DATE:20240506
DTSTAMP:20260421T120725
CREATED:19240315T024537Z
LAST-MODIFIED:20240408T110426Z
UID:10009740-1714867200-1714953599@www.bcmagazine.net
SUMMARY:The Sound of Music
DESCRIPTION:The Sound of Music\nDate: 16 April – 9 June 2024\nVenue: Xiqu Centre\, Grand Theatre\nTickets: $1\,188\, $1\,088\, $988\, $888\, $828\, $688\, $588\nMore info:\nTuesday to Friday: 7:30pm\nSaturday: 2:30pm\, 7:45pm\nSunday: 1:30pm\, 6:30pm
URL:https://www.bcmagazine.net/event/the-sound-of-music/2024-05-05/
LOCATION:Xiqu Centre\, Grand Theatre\, 88 Austin Road West\, Tsim Sha Tsui\, Hong Kong
CATEGORIES:2024,Music,Musical,Nightlife,Performing Arts
ATTACH;FMTTYPE=image/png:https://www.bcmagazine.net/wp-content/uploads/2024/03/sound-of-musuc-hk-2024.png
END:VEVENT
END:VCALENDAR