BEGIN:VCALENDAR
VERSION:2.0
PRODID:-//bc magazine - ECPv6.15.20//NONSGML v1.0//EN
CALSCALE:GREGORIAN
METHOD:PUBLISH
X-WR-CALNAME:bc magazine
X-ORIGINAL-URL:https://www.bcmagazine.net
X-WR-CALDESC:Events for bc magazine
REFRESH-INTERVAL;VALUE=DURATION:PT1H
X-Robots-Tag:noindex
X-PUBLISHED-TTL:PT1H
BEGIN:VTIMEZONE
TZID:Asia/Hong_Kong
BEGIN:STANDARD
TZOFFSETFROM:+0800
TZOFFSETTO:+0800
TZNAME:HKT
DTSTART:20190101T000000
END:STANDARD
END:VTIMEZONE
BEGIN:VEVENT
DTSTART;TZID=Asia/Hong_Kong:20201031T150000
DTEND;TZID=Asia/Hong_Kong:20201031T150000
DTSTAMP:20260422T023720
CREATED:20200808T032318Z
LAST-MODIFIED:20200820T120925Z
UID:10006629-1604156400-1604156400@www.bcmagazine.net
SUMMARY:Tone Online Music Festival
DESCRIPTION:Tone Online Music Festival\n陳蕾 Panther Chan\, Jason Kui\, III IrisLiu\, Dehumanization Association\, TysonYoshi\, White Dimension\, 乙女シンドリーム – 乙女新夢\, Instinct of Sight\, Smoke in the Half Note\, SilHungMo\, Maniac\nDate: 3pm\, 31 October\, 2020\nVenue: www.facebook.com/Thistownneeds/\nTickets: $5\,000\, $2\,000\, $1\,000\, $800\, $500\, $400\, $300\, $200
URL:https://www.bcmagazine.net/event/tone-online-music-festival-22-08-2020/
LOCATION:Virtual Tour
CATEGORIES:2020,Concert,Music,Performing Arts
ATTACH;FMTTYPE=image/jpeg:https://www.bcmagazine.net/wp-content/uploads/2020/07/tone-2.0.jpg
END:VEVENT
END:VCALENDAR