BEGIN:VCALENDAR
VERSION:2.0
PRODID:-//bc magazine - ECPv6.15.20//NONSGML v1.0//EN
CALSCALE:GREGORIAN
METHOD:PUBLISH
X-ORIGINAL-URL:https://www.bcmagazine.net
X-WR-CALDESC:Events for bc magazine
REFRESH-INTERVAL;VALUE=DURATION:PT1H
X-Robots-Tag:noindex
X-PUBLISHED-TTL:PT1H
BEGIN:VTIMEZONE
TZID:Asia/Hong_Kong
BEGIN:STANDARD
TZOFFSETFROM:+0800
TZOFFSETTO:+0800
TZNAME:HKT
DTSTART:20140101T000000
END:STANDARD
END:VTIMEZONE
BEGIN:VEVENT
DTSTART;VALUE=DATE:20151010
DTEND;VALUE=DATE:20151014
DTSTAMP:20260421T120209
CREATED:20150624T061813Z
LAST-MODIFIED:20150922T100854Z
UID:10006027-1444435200-1444780799@www.bcmagazine.net
SUMMARY:My Little Airport
DESCRIPTION:My Little Airport: Why Don’t We Stay the Night?\nDate: 8pm\, 10-13 October\, 2015\nVenue: Music Zone@E-Max\nTickets: $350 from Cityline
URL:https://www.bcmagazine.net/event/my-little-airport-2015/
LOCATION:KITEC\, Music Zone@E-Max\, KITEC\,‎ 1 Trademart Drive\, Kowloon Bay\, Hong Kong
CATEGORIES:2015,Concert,Music
GEO:22.3239575;114.2037608
X-APPLE-STRUCTURED-LOCATION;VALUE=URI;X-ADDRESS=KITEC Music Zone@E-Max KITEC‎ 1 Trademart Drive Kowloon Bay Hong Kong;X-APPLE-RADIUS=500;X-TITLE=KITEC\,‎ 1 Trademart Drive:geo:114.2037608,22.3239575
END:VEVENT
BEGIN:VEVENT
DTSTART;TZID=Asia/Hong_Kong:20151012T193000
DTEND;TZID=Asia/Hong_Kong:20151012T220000
DTSTAMP:20260421T120209
CREATED:19150907T083838Z
LAST-MODIFIED:20150907T084837Z
UID:10000296-1444678200-1444687200@www.bcmagazine.net
SUMMARY:Federico Colli
DESCRIPTION:Federico Colli: Piano Recital\nThe Joy of Music Festival\nDate: 7:30pm\, 12 October\, 2015\nVenue: HK City Hall\, Concert Hall\nTickets: $250\, $150\, $100 from Urbtix
URL:https://www.bcmagazine.net/event/federico-colli/
LOCATION:HK City Hall\, Concert Hall\,  5 Edinburgh Place\, Central\, Hong Kong
CATEGORIES:2015,Concert,Cultural Festival,Music,Performing Arts
END:VEVENT
BEGIN:VEVENT
DTSTART;TZID=Asia/Hong_Kong:20151013T193000
DTEND;TZID=Asia/Hong_Kong:20151013T220000
DTSTAMP:20260421T120209
CREATED:19150901T003634Z
LAST-MODIFIED:20150901T003936Z
UID:10000293-1444764600-1444773600@www.bcmagazine.net
SUMMARY:HKMU Broadway Music
DESCRIPTION:HKMU Broadway Music\nHong Kong Musicians Union\nDate: 7:30pm\, 13 October\, 2015\nVenue: HK City Hall\, Theatre\nTickets: $320\, $250\, $200 from Urbtix
URL:https://www.bcmagazine.net/event/hkmu-broadway-music/
LOCATION:HK City Hall\, Theatre\, 5 Edinburgh Place\, Central\, Hong Kong
CATEGORIES:2015,Concert,Music
GEO:22.2822646;114.1615275
X-APPLE-STRUCTURED-LOCATION;VALUE=URI;X-ADDRESS=HK City Hall Theatre 5 Edinburgh Place Central Hong Kong;X-APPLE-RADIUS=500;X-TITLE=5 Edinburgh Place:geo:114.1615275,22.2822646
END:VEVENT
BEGIN:VEVENT
DTSTART;TZID=Asia/Hong_Kong:20151013T193000
DTEND;TZID=Asia/Hong_Kong:20151013T220000
DTSTAMP:20260421T120209
CREATED:19150907T084854Z
LAST-MODIFIED:20150907T085222Z
UID:10000298-1444764600-1444773600@www.bcmagazine.net
SUMMARY:Giuseppe Andaloro
DESCRIPTION:Giuseppe Andaloro: Piano Recital\nThe Joy of Music Festival\nDate: 7:30pm\, 13 October\, 2015\nVenue: HK City Hall\, Concert Hall\nTickets: $250\, $150\, $100 from Urbtix
URL:https://www.bcmagazine.net/event/giuseppe-andaloro/
LOCATION:HK City Hall\, Concert Hall\,  5 Edinburgh Place\, Central\, Hong Kong
CATEGORIES:2015,Cultural Festival,Music,Performing Arts
END:VEVENT
BEGIN:VEVENT
DTSTART;TZID=Asia/Hong_Kong:20151013T193000
DTEND;TZID=Asia/Hong_Kong:20151013T220000
DTSTAMP:20260421T120209
CREATED:19151002T065412Z
LAST-MODIFIED:20151002T065808Z
UID:10000091-1444764600-1444773600@www.bcmagazine.net
SUMMARY:Hélène Grimaud
DESCRIPTION:Hélène Grimaud – Water  Reflections\nDate: 7:30pm\, 13 October\, 2015\nVenue: Grand Hall\, Lee Shau Kee Lecture Centre\, The University of Hong Kong\nTickets: $300\, $150 from HKTicketing
URL:https://www.bcmagazine.net/event/helene-grimaud-2015/
LOCATION:Grand Hall\, Lee Shau Kee Lecture Centre\, Centennial Campus\, The University of Hong Kong\, The University of Hong Kong\, Pokfulam\, Hong Kong
CATEGORIES:2015,Concert,Music
GEO:22.2840507;114.1378391
X-APPLE-STRUCTURED-LOCATION;VALUE=URI;X-ADDRESS=Grand Hall Lee Shau Kee Lecture Centre Centennial Campus The University of Hong Kong The University of Hong Kong Pokfulam Hong Kong;X-APPLE-RADIUS=500;X-TITLE=The University of Hong Kong:geo:114.1378391,22.2840507
END:VEVENT
BEGIN:VEVENT
DTSTART;TZID=Asia/Hong_Kong:20151013T200000
DTEND;TZID=Asia/Hong_Kong:20151013T220000
DTSTAMP:20260421T120209
CREATED:19150919T122611Z
LAST-MODIFIED:20150919T123512Z
UID:10000436-1444766400-1444773600@www.bcmagazine.net
SUMMARY:Jaakko Eino Kalevi
DESCRIPTION:Jaakko Eino Kalevi\nWhen: 8pm\, 13 October\, 2015\nWhere: Social Room\, Won Hing Building\, 74-78 Stanley St\, Central\nHow much: $225
URL:https://www.bcmagazine.net/event/jaakko-eino-kalevi/
LOCATION:Social Room\, 74-78 Stanley Street \, Central\, Hong Kong
CATEGORIES:2015,Concert,Music,Performing Arts
GEO:22.2834184;114.1544925
X-APPLE-STRUCTURED-LOCATION;VALUE=URI;X-ADDRESS=Social Room 74-78 Stanley Street  Central Hong Kong;X-APPLE-RADIUS=500;X-TITLE=74-78 Stanley Street:geo:114.1544925,22.2834184
END:VEVENT
BEGIN:VEVENT
DTSTART;TZID=Asia/Hong_Kong:20151014T193000
DTEND;TZID=Asia/Hong_Kong:20151014T220000
DTSTAMP:20260421T120209
CREATED:19150907T085235Z
LAST-MODIFIED:20150907T085510Z
UID:10000301-1444851000-1444860000@www.bcmagazine.net
SUMMARY:Ilya Rashkovskiy
DESCRIPTION:Ilya Rashkovskiy: Piano Recital\nThe Joy of Music Festival\nDate: 7:30pm\, 14 October\, 2015\nVenue: HK City Hall\, Concert Hall\nTickets: $250\, $150\, $100 from Urbtix
URL:https://www.bcmagazine.net/event/ilya-rashkovskiy/
LOCATION:HK City Hall\, Concert Hall\,  5 Edinburgh Place\, Central\, Hong Kong
CATEGORIES:2015,Concert,Cultural Festival,Music,Performing Arts
END:VEVENT
BEGIN:VEVENT
DTSTART;VALUE=DATE:20151015
DTEND;VALUE=DATE:20151018
DTSTAMP:20260421T120209
CREATED:20150525T062722Z
LAST-MODIFIED:20150825T063819Z
UID:10005911-1444867200-1445126399@www.bcmagazine.net
SUMMARY:Playground
DESCRIPTION:Playground: Danny Yung Experimental Theatre\nZuni Icosahedron\nWhen: 15-17 October\, 2015\nWhere: HKICC Lee Shau Kee School of Creativity\, Multi-Media Theatre\nTickets: $180 from Urbtix\nMore info:\n15-17 October – 3pm\n17 October – 8pm
URL:https://www.bcmagazine.net/event/playground/
LOCATION:HKICC Lee Shau Kee School of Creativity\, Multimedia Theatre\, 135 Junction Road\, Kowloon City\, Hong Kong
CATEGORIES:2015,Dance
GEO:22.333647;114.1870039
X-APPLE-STRUCTURED-LOCATION;VALUE=URI;X-ADDRESS=HKICC Lee Shau Kee School of Creativity Multimedia Theatre 135 Junction Road Kowloon City Hong Kong;X-APPLE-RADIUS=500;X-TITLE=135 Junction Road:geo:114.1870039,22.333647
END:VEVENT
BEGIN:VEVENT
DTSTART;VALUE=DATE:20151015
DTEND;VALUE=DATE:20151019
DTSTAMP:20260421T120209
CREATED:20150508T082812Z
LAST-MODIFIED:20150808T084042Z
UID:10004801-1444867200-1445212799@www.bcmagazine.net
SUMMARY:Tuesdays with Morrie
DESCRIPTION:Tuesdays with Morrie (19th-run)\nChung Ying Theatre Company\nWhen: 15-18\, 20-25 October\nWhere: Kwai Tsing Theatre\, Auditorium\nTickets: $340\, $260\, $180 from Urbtix\nMore info:\n15-17 October – 8pm\n18 October – 3pm\n20-24 October – 8pm\n25 October – 3pm
URL:https://www.bcmagazine.net/event/tuesdays-with-morrie/
LOCATION:Kwai Tsing Theatre\, Auditorium\, 12 Hing Ning Road\, Kwai Chung\, Hong Kong
CATEGORIES:2015,Performing Arts,Theatre,Theatre
GEO:22.3568224;114.126199
X-APPLE-STRUCTURED-LOCATION;VALUE=URI;X-ADDRESS=Kwai Tsing Theatre Auditorium 12 Hing Ning Road Kwai Chung Hong Kong;X-APPLE-RADIUS=500;X-TITLE=12 Hing Ning Road:geo:114.126199,22.3568224
END:VEVENT
BEGIN:VEVENT
DTSTART;TZID=Asia/Hong_Kong:20151015T180000
DTEND;TZID=Asia/Hong_Kong:20151015T230000
DTSTAMP:20260421T120209
CREATED:20150921T143413Z
LAST-MODIFIED:20150921T144247Z
UID:10006076-1444932000-1444950000@www.bcmagazine.net
SUMMARY:EPL All Stars Tour Hong Kong
DESCRIPTION:EPL All Stars Tour Hong Kong\nDate: 6pm\, 15 October\, 2015\nVenue: Siu Sai Wan Sports Ground\nTickets: $680\, $250\, $150 from Cityline
URL:https://www.bcmagazine.net/event/epl-all-stars-tour-hong-kong-2015/
LOCATION:Siu Sai Wan Sports Ground\, 8 Fu Hong Street\, Siu Sai Wan\, Hong Kong
CATEGORIES:2015,Football,Sport
GEO:22.268424;114.249054
X-APPLE-STRUCTURED-LOCATION;VALUE=URI;X-ADDRESS=Siu Sai Wan Sports Ground 8 Fu Hong Street Siu Sai Wan Hong Kong;X-APPLE-RADIUS=500;X-TITLE=8 Fu Hong Street:geo:114.249054,22.268424
END:VEVENT
BEGIN:VEVENT
DTSTART;TZID=Asia/Hong_Kong:20151015T193000
DTEND;TZID=Asia/Hong_Kong:20151015T220000
DTSTAMP:20260421T120209
CREATED:19150907T085524Z
LAST-MODIFIED:20150907T090120Z
UID:10000303-1444937400-1444946400@www.bcmagazine.net
SUMMARY:Alvaro Pierri and Friends
DESCRIPTION:Alvaro Pierri and Friends – Guitar Concertos Extravaganza\nThe Joy of Music Festival\nDate: 7:30pm\, 15 October\, 2015\nVenue: HK City Hall\, Concert Hall\nTickets: $250\, $150\, $100 from Urbtix
URL:https://www.bcmagazine.net/event/alvaro-pierri-and-friends/
LOCATION:HK City Hall\, Concert Hall\,  5 Edinburgh Place\, Central\, Hong Kong
CATEGORIES:2015,Concert,Cultural Festival,Music,Performing Arts
END:VEVENT
BEGIN:VEVENT
DTSTART;TZID=Asia/Hong_Kong:20151015T200000
DTEND;TZID=Asia/Hong_Kong:20151015T230000
DTSTAMP:20260421T120209
CREATED:20150923T035624Z
LAST-MODIFIED:20150923T035652Z
UID:10005058-1444939200-1444950000@www.bcmagazine.net
SUMMARY:Stand For Something
DESCRIPTION:Stand For Something\nJing Wong\, New Youth Barbershop\, Yellow!\, Supper Moment\nWhen: 8pm\, 15 October\, 2015\nWhere: Music Zone@E-Max\nTickets: tbc
URL:https://www.bcmagazine.net/event/stand-for-something/
LOCATION:KITEC\, Music Zone@E-Max\, KITEC\,‎ 1 Trademart Drive\, Kowloon Bay\, Hong Kong
CATEGORIES:2015,Concert,Music
GEO:22.3239575;114.2037608
X-APPLE-STRUCTURED-LOCATION;VALUE=URI;X-ADDRESS=KITEC Music Zone@E-Max KITEC‎ 1 Trademart Drive Kowloon Bay Hong Kong;X-APPLE-RADIUS=500;X-TITLE=KITEC\,‎ 1 Trademart Drive:geo:114.2037608,22.3239575
END:VEVENT
BEGIN:VEVENT
DTSTART;VALUE=DATE:20151016
DTEND;VALUE=DATE:20151019
DTSTAMP:20260421T120209
CREATED:19150916T034738Z
LAST-MODIFIED:20150916T035056Z
UID:10000063-1444953600-1445212799@www.bcmagazine.net
SUMMARY:The Song of Eva Perón
DESCRIPTION:The Song of Eva Perón\nWorld Cultures Festival\nDate: 7:30pm\, 16-18 October\, 2015\nVenue: HK Cultural Centre\, Grand Theatre\nTickets: $480\, $380\, $280\, $180 from Urbtix
URL:https://www.bcmagazine.net/event/the-song-of-eva-peron/
LOCATION:HK Cultural Centre\, Grand Theatre\,\, 10 Salisbury Road\, Tsim Sha Tsui\, Hong Kong
CATEGORIES:2015,Cultural Festival,Dance,Music,Performing Arts
GEO:22.294318;114.171708
X-APPLE-STRUCTURED-LOCATION;VALUE=URI;X-ADDRESS=HK Cultural Centre Grand Theatre 10 Salisbury Road Tsim Sha Tsui Hong Kong;X-APPLE-RADIUS=500;X-TITLE=10 Salisbury Road:geo:114.171708,22.294318
END:VEVENT
BEGIN:VEVENT
DTSTART;VALUE=DATE:20151016
DTEND;VALUE=DATE:20151019
DTSTAMP:20260421T120209
CREATED:19150918T020800Z
LAST-MODIFIED:20150918T021002Z
UID:10000424-1444953600-1445212799@www.bcmagazine.net
SUMMARY:House of Vans
DESCRIPTION:House of Vans Carnival\nDate: 16-18 October\, 2015\nVenue: Pier 4\, Central\nTickets: Free
URL:https://www.bcmagazine.net/event/house-of-vans/
LOCATION:Pier 4\, Central \, Hong Kong
CATEGORIES:2015,Cultural Festival,Food,Music
END:VEVENT
BEGIN:VEVENT
DTSTART;VALUE=DATE:20151016
DTEND;VALUE=DATE:20151019
DTSTAMP:20260421T120209
CREATED:20150529T103432Z
LAST-MODIFIED:20150729T104312Z
UID:10005932-1444953600-1445212799@www.bcmagazine.net
SUMMARY:What the Ladybird Heard
DESCRIPTION:What the Ladybird Heard\nABA Productions\nWhen: 16-18 October\, 2015\nWhere: HKAPA\, Drama Theatre\nTickets: $435\, $385\, $335\, $195 from HKTicketing\nMore info:\n16 Oct 2015 (Fri) at 5:00pm\n17 Oct 2015 (Sat) at 11:00am; 2:00pm & 4:30pm\n18 Oct 2015 (Sun) at 11:00am; 2:00pm & 4:30pm
URL:https://www.bcmagazine.net/event/what-the-ladybird-heard/
LOCATION:HKAPA: Drama Theatre\, 1 Gloucester Road\, Wanchai\, Hong Kong
CATEGORIES:2015,Performing Arts,Theatre
GEO:22.2801854;114.1695054
X-APPLE-STRUCTURED-LOCATION;VALUE=URI;X-ADDRESS=HKAPA: Drama Theatre 1 Gloucester Road Wanchai Hong Kong;X-APPLE-RADIUS=500;X-TITLE=1 Gloucester Road:geo:114.1695054,22.2801854
END:VEVENT
BEGIN:VEVENT
DTSTART;VALUE=DATE:20151016
DTEND;VALUE=DATE:20151019
DTSTAMP:20260421T120209
CREATED:20150609T051007Z
LAST-MODIFIED:20150809T052955Z
UID:10006012-1444953600-1445212799@www.bcmagazine.net
SUMMARY:The World According to Dance
DESCRIPTION:The World According to Dance\nZuni Icosahedron\nWhen: 16-18 October\, 2015\nWhere: HK Cultural Centre\, Studio Theatre\nTickets: $280\, $190 from Urbtix\nMore info:\n16-17 October – 8pm\n18 October – 3pm
URL:https://www.bcmagazine.net/event/the-world-according-to-dance/
LOCATION:HK Cultural Centre\, Studio Theatre\, 10 Salisbury Road\, Tsim Sha Tsui\, Hong Kong
CATEGORIES:2015,Dance,Performing Arts
END:VEVENT
BEGIN:VEVENT
DTSTART;VALUE=DATE:20151016
DTEND;VALUE=DATE:20151019
DTSTAMP:20260421T120209
CREATED:20150610T012117Z
LAST-MODIFIED:20150710T012540Z
UID:10006018-1444953600-1445212799@www.bcmagazine.net
SUMMARY:Secret Island Party 2015
DESCRIPTION:Secret Island Party 2015\nDate: 16-18 October\, 2015\nVenue: Secret!\nTickets: $750 here
URL:https://www.bcmagazine.net/event/secret-island-party-2015/
CATEGORIES:2015,Concert,Cultural Festival,DJ,Music,Nightlife
END:VEVENT
BEGIN:VEVENT
DTSTART;TZID=Asia/Hong_Kong:20151016T193000
DTEND;TZID=Asia/Hong_Kong:20151016T220000
DTSTAMP:20260421T120209
CREATED:19150907T090144Z
LAST-MODIFIED:20150907T090800Z
UID:10000305-1445023800-1445032800@www.bcmagazine.net
SUMMARY:Jinsang Lee
DESCRIPTION:Jinsang Lee: Piano Recital\nThe Joy of Music Festival\nDate: 7:30pm\, 16 October\, 2015\nVenue: HK City Hall\, Concert Hall\nTickets: $250\, $150\, $100 from Urbtix
URL:https://www.bcmagazine.net/event/jinsang-lee/
LOCATION:HK City Hall\, Concert Hall\,  5 Edinburgh Place\, Central\, Hong Kong
CATEGORIES:2015,Concert,Cultural Festival,Music,Performing Arts
END:VEVENT
BEGIN:VEVENT
DTSTART;TZID=Asia/Hong_Kong:20151016T200000
DTEND;TZID=Asia/Hong_Kong:20151016T230000
DTSTAMP:20260421T120209
CREATED:20150925T034457Z
LAST-MODIFIED:20150923T034809Z
UID:10005063-1445025600-1445036400@www.bcmagazine.net
SUMMARY:Ryan Lau
DESCRIPTION:Ryan Lau My Time\nWhen: 8pm\, 16 October\, 2015\nWhere: Music Zone@E-Max\nTickets: $280 from Cityline
URL:https://www.bcmagazine.net/event/ryan-lau-2015/
LOCATION:KITEC\, Music Zone@E-Max\, KITEC\,‎ 1 Trademart Drive\, Kowloon Bay\, Hong Kong
CATEGORIES:2015,Concert,Music
GEO:22.3239575;114.2037608
X-APPLE-STRUCTURED-LOCATION;VALUE=URI;X-ADDRESS=KITEC Music Zone@E-Max KITEC‎ 1 Trademart Drive Kowloon Bay Hong Kong;X-APPLE-RADIUS=500;X-TITLE=KITEC\,‎ 1 Trademart Drive:geo:114.2037608,22.3239575
END:VEVENT
BEGIN:VEVENT
DTSTART;VALUE=DATE:20151017
DTEND;VALUE=DATE:20151018
DTSTAMP:20260421T120209
CREATED:20150705T074740Z
LAST-MODIFIED:20150707T080437Z
UID:10005031-1445040000-1445126399@www.bcmagazine.net
SUMMARY:Totem Run
DESCRIPTION:The second Totem Trail Run on the 17 October features three races: 16km Taste with the Wild\, 16km Chill with the Wild and 57km Fight with the Wild. All three races will finish at Tai Mo Shan Rotary Park with the two shorter races starting at the Shing Mun Reservoir Main Dam while the 57km race starts from Pak Tam Chung \nTotem Run\nDate: 17 October\, 2015\nVenue: Hong Kong\nTickets: $500 to race\, free to watch\nMore info: http://totemrun.runourcity.org/en/about/
URL:https://www.bcmagazine.net/event/totem-run/
CATEGORIES:2015,Sport
END:VEVENT
BEGIN:VEVENT
DTSTART;TZID=Asia/Hong_Kong:20151017T103000
DTEND;TZID=Asia/Hong_Kong:20151017T123000
DTSTAMP:20260421T120209
CREATED:19150907T091357Z
LAST-MODIFIED:20150907T092014Z
UID:10000309-1445077800-1445085000@www.bcmagazine.net
SUMMARY:Back to the Future - A Journey of Sound
DESCRIPTION:Back to the Future – A Journey of Sound\nThe Joy of Music Festival\nDate: 10:30am\, 17 October\, 2015\nVenue: HK City Hall\, Concert Hall\nTickets: $20 from Urbtix\nMore info:\nAn illustrated talk presented by Abbey Road Mastering Engineer: Andrew Walter
URL:https://www.bcmagazine.net/event/back-to-the-future-a-journey-of-sound/
LOCATION:HK City Hall\, Concert Hall\,  5 Edinburgh Place\, Central\, Hong Kong
CATEGORIES:2015,Concert,Cultural Festival,Music,Performing Arts
END:VEVENT
BEGIN:VEVENT
DTSTART;TZID=Asia/Hong_Kong:20151017T193000
DTEND;TZID=Asia/Hong_Kong:20151017T220000
DTSTAMP:20260421T120209
CREATED:19150907T092031Z
LAST-MODIFIED:20150907T092312Z
UID:10000312-1445110200-1445119200@www.bcmagazine.net
SUMMARY:The Logos Chamber Group
DESCRIPTION:The Logos Chamber Group\nThe Joy of Music Festival\nDate: 7:30pm\, 17 October\, 2015\nVenue: HK City Hall\, Concert Hall\nTickets: $250\, $150\, $100 from Urbtix
URL:https://www.bcmagazine.net/event/the-logos-chamber-group/
LOCATION:HK City Hall\, Concert Hall\,  5 Edinburgh Place\, Central\, Hong Kong
CATEGORIES:2015,Concert,Cultural Festival,Music,Performing Arts
END:VEVENT
BEGIN:VEVENT
DTSTART;VALUE=DATE:20151018
DTEND;VALUE=DATE:20151019
DTSTAMP:20260421T120209
CREATED:20150609T125650Z
LAST-MODIFIED:20150609T125650Z
UID:10006017-1445126400-1445212799@www.bcmagazine.net
SUMMARY:Victoria Harbour Race 2015
DESCRIPTION:The fifth Victoria Harbour Race takes place on the 18th October from Lei Yue Mun Sam Ka Tsuen Public Pier to Quarry Bay Park Public Pier. \nOnline entry registration starts at www.hkharbourrace.com on the 10th June with the number of entries increased to 2500 this year. \nHarbour Race 2015\nDate: 18 October\, 2015\nVenue: Victoria Harbour\nTickets: Online registration starts on 10 June 2015
URL:https://www.bcmagazine.net/event/victoria-harbour-race-2015/
LOCATION:Victoria Harbour\, Hong Kong
CATEGORIES:2015,Sport
END:VEVENT
BEGIN:VEVENT
DTSTART;TZID=Asia/Hong_Kong:20151018T103000
DTEND;TZID=Asia/Hong_Kong:20151018T123000
DTSTAMP:20260421T120209
CREATED:19150907T093505Z
LAST-MODIFIED:20150907T093826Z
UID:10000324-1445164200-1445171400@www.bcmagazine.net
SUMMARY:What Music Can Do For Films
DESCRIPTION:What Music Can Do For Films\nThe Joy of Music Festival\nDate: 10:30am\, 18 October\, 2015\nVenue: HK City Hall\, Concert Hall\nTickets: $20 from Urbtix\nMore info:\nAn insight into what it takes to compose music for films to be presented by composer Henry Lai
URL:https://www.bcmagazine.net/event/what-music-can-do-for-films/
LOCATION:HK City Hall\, Concert Hall\,  5 Edinburgh Place\, Central\, Hong Kong
CATEGORIES:2015,Cultural Festival,Music
END:VEVENT
BEGIN:VEVENT
DTSTART;TZID=Asia/Hong_Kong:20151018T180000
DTEND;TZID=Asia/Hong_Kong:20151018T180000
DTSTAMP:20260421T120209
CREATED:20150624T055736Z
LAST-MODIFIED:20150824T060941Z
UID:10006025-1445191200-1445191200@www.bcmagazine.net
SUMMARY:Alice Nine
DESCRIPTION:Alice Nine Asia Tour 2015 「Re:birth-天翔-」\nDate: 6pm\, 18 October\, 2015\nVenue: Music Zone@E-Max\nTickets: $580 (Door)\, $520 (Advance) from HKTicketing
URL:https://www.bcmagazine.net/event/alice-nine/
LOCATION:KITEC\, Music Zone@E-Max\, KITEC\,‎ 1 Trademart Drive\, Kowloon Bay\, Hong Kong
CATEGORIES:2015,Concert,Music
GEO:22.3239575;114.2037608
X-APPLE-STRUCTURED-LOCATION;VALUE=URI;X-ADDRESS=KITEC Music Zone@E-Max KITEC‎ 1 Trademart Drive Kowloon Bay Hong Kong;X-APPLE-RADIUS=500;X-TITLE=KITEC\,‎ 1 Trademart Drive:geo:114.2037608,22.3239575
END:VEVENT
BEGIN:VEVENT
DTSTART;TZID=Asia/Hong_Kong:20151018T193000
DTEND;TZID=Asia/Hong_Kong:20151018T220000
DTSTAMP:20260421T120209
CREATED:19150907T092339Z
LAST-MODIFIED:20150907T093433Z
UID:10000314-1445196600-1445205600@www.bcmagazine.net
SUMMARY:The Logos Chamber Group
DESCRIPTION:The Logos Chamber Group\nThe Joy of Music Festival\nDate: 7:30pm\, 18 October\, 2015\nVenue: HK City Hall\, Concert Hall\nTickets: $250\, $150\, $100 from Urbtix
URL:https://www.bcmagazine.net/event/the-logos-chamber-group-2/
LOCATION:HK City Hall\, Concert Hall\,  5 Edinburgh Place\, Central\, Hong Kong
CATEGORIES:2015,Concert,Cultural Festival,Music,Performing Arts
END:VEVENT
BEGIN:VEVENT
DTSTART;TZID=Asia/Hong_Kong:20151018T200000
DTEND;TZID=Asia/Hong_Kong:20151018T230000
DTSTAMP:20260421T120209
CREATED:20150609T050716Z
LAST-MODIFIED:20150809T050947Z
UID:10006011-1445198400-1445209200@www.bcmagazine.net
SUMMARY:Singapore Chinese Orchestra
DESCRIPTION:Singapore Chinese Orchestra\nWhen: 18 October\, 2015\nWhere: HK Cultural Centre\, Concert Hall\nTickets: $450\, $360\, $280\, $200 from Urbtix\n\n 
URL:https://www.bcmagazine.net/event/singapore-chinese-orchestra/
LOCATION:HK Cultural Centre\, Concert Hall\, 10 Salisbury Road\, Tsim Sha Tsui\, Hong Kong
CATEGORIES:2015,Concert,Music
GEO:22.294318;114.171708
X-APPLE-STRUCTURED-LOCATION;VALUE=URI;X-ADDRESS=HK Cultural Centre Concert Hall 10 Salisbury Road Tsim Sha Tsui Hong Kong;X-APPLE-RADIUS=500;X-TITLE=10 Salisbury Road:geo:114.171708,22.294318
END:VEVENT
END:VCALENDAR