BEGIN:VCALENDAR
VERSION:2.0
PRODID:-//bc magazine - ECPv6.15.20//NONSGML v1.0//EN
CALSCALE:GREGORIAN
METHOD:PUBLISH
X-ORIGINAL-URL:https://www.bcmagazine.net
X-WR-CALDESC:Events for bc magazine
REFRESH-INTERVAL;VALUE=DURATION:PT1H
X-Robots-Tag:noindex
X-PUBLISHED-TTL:PT1H
BEGIN:VTIMEZONE
TZID:Asia/Hong_Kong
BEGIN:STANDARD
TZOFFSETFROM:+0800
TZOFFSETTO:+0800
TZNAME:HKT
DTSTART:20170101T000000
END:STANDARD
END:VTIMEZONE
BEGIN:VEVENT
DTSTART;VALUE=DATE:20180209
DTEND;VALUE=DATE:20180507
DTSTAMP:20260421T133139
CREATED:20180208T065813Z
LAST-MODIFIED:20180228T071122Z
UID:10006477-1518134400-1525651199@www.bcmagazine.net
SUMMARY:Samson Young Songs for Disaster Relief World Tour
DESCRIPTION:Samson Young: Songs for Disaster Relief World Tour is the Hong Kong edition of the exhibition Songs for Disaster Relief conceived by multidisciplinary artist Samson Young for the 57th International Art Exhibition at the Venice Biennale 2017. \nIt features a series of sculptures\, objects\, videos\, sound installations and site-specific pieces\, the exhibition offers a unique audiovisual experience that re-examines the popularity of charity singles from the 1980s. Creatively repurposing and misreading iconic songs made by popular artists for charitable causes\, Young draws on seemingly unrelated past and current events to explore the social\, political\, and philosophical implications of charity singles in a cross-cultural context. \nThe exhibition is accompanied by a series of talks\, guided tours\, and live performances. \nSamson Young: Songs for Disaster Relief World Tour\nDate: 9 February – 6 May\, 2018\nVenue: M+ Pavilion\, West Kowloon Cultural District\nTickets: Free\nMore info:\n11am–6pm\nWednesday to Sunday and public holidays
URL:https://www.bcmagazine.net/event/samson-young-songs-for-disaster-relief-world-tour-2018/
LOCATION:West Kowloon Cultural District\, M+ Pavilion\, West Kowloon Cultural District\, West Kowloon\, Hong Kong
CATEGORIES:2018,Art Gallery,Exhibition,Free
ATTACH;FMTTYPE=image/jpeg:https://www.bcmagazine.net/wp-content/uploads/2018/02/Samson-Young-Songs-for-Disaster-Relief-World-Tour.jpg
GEO:22.2989668;114.1551898
X-APPLE-STRUCTURED-LOCATION;VALUE=URI;X-ADDRESS=West Kowloon Cultural District M+ Pavilion West Kowloon Cultural District West Kowloon Hong Kong;X-APPLE-RADIUS=500;X-TITLE=West Kowloon Cultural District:geo:114.1551898,22.2989668
END:VEVENT
BEGIN:VEVENT
DTSTART;VALUE=DATE:20180210
DTEND;VALUE=DATE:20180630
DTSTAMP:20260421T133139
CREATED:19180303T082231Z
LAST-MODIFIED:20180303T102023Z
UID:10003878-1518220800-1530316799@www.bcmagazine.net
SUMMARY:Monkey King
DESCRIPTION:Monkey King – China Show\nDate: until 29 June\, 2018\nVenue: Sands Cotai Theatre\nTickets: $1\,280\, $980\, $680\, $480\, $380 from CotaiTicketing\nMore info:\nNightly except Thursday\nIn Chinese with English subtitles
URL:https://www.bcmagazine.net/event/monkey-king-macau-2018/
LOCATION:Venetian Macau\, Sands Theatre\, Venetian Macau\, Macau
CATEGORIES:2018,Macau,Performing Arts
GEO:22.1483528;113.5602019
X-APPLE-STRUCTURED-LOCATION;VALUE=URI;X-ADDRESS=Venetian Macau Sands Theatre Venetian Macau Macau;X-APPLE-RADIUS=500;X-TITLE=Venetian Macau:geo:113.5602019,22.1483528
END:VEVENT
BEGIN:VEVENT
DTSTART;TZID=Asia/Hong_Kong:20180226T193000
DTEND;TZID=Asia/Hong_Kong:20180226T193000
DTSTAMP:20260421T133140
CREATED:19171225T085402Z
LAST-MODIFIED:20180205T074206Z
UID:10003700-1519673400-1519673400@www.bcmagazine.net
SUMMARY:Ride
DESCRIPTION:Ride\n Date: 7:30pm\, 26 February\, 2018\nVenue: MacPherson Stadium\nTickets: $560\, $530 from Ticketflap
URL:https://www.bcmagazine.net/event/ride-2018/
LOCATION:MacPherson Stadium\, 38 Nelson Street\, Mongkok\, Hong Kong
CATEGORIES:2018,Concert,Music,Performing Arts
GEO:22.3188457;114.1728403
X-APPLE-STRUCTURED-LOCATION;VALUE=URI;X-ADDRESS=MacPherson Stadium 38 Nelson Street Mongkok Hong Kong;X-APPLE-RADIUS=500;X-TITLE=38 Nelson Street:geo:114.1728403,22.3188457
END:VEVENT
BEGIN:VEVENT
DTSTART;TZID=Asia/Hong_Kong:20180227T193000
DTEND;TZID=Asia/Hong_Kong:20180227T193000
DTSTAMP:20260421T133140
CREATED:19180222T090237Z
LAST-MODIFIED:20180222T095601Z
UID:10003828-1519759800-1519759800@www.bcmagazine.net
SUMMARY:Svetlana Zakharova & Vadim Repin
DESCRIPTION:Svetlana Zakharova & Vadim Repin – Pas de deux for Toes and Fingers\nHK Arts Festival\nDate: 7:30pm\, 27-28 February\, 2018\nVenue: HK Cultural Centre\, Grand Theatre\nTickets: $800\, $680\, $560\, $420\, $300 from Urbtix
URL:https://www.bcmagazine.net/event/svetlana-zakharova-vadim-repin-27-02-2018/
LOCATION:HK Cultural Centre\, Grand Theatre\,\, 10 Salisbury Road\, Tsim Sha Tsui\, Hong Kong
CATEGORIES:2018,Ballet,Dance,Opera,Performing Arts
GEO:22.294318;114.171708
X-APPLE-STRUCTURED-LOCATION;VALUE=URI;X-ADDRESS=HK Cultural Centre Grand Theatre 10 Salisbury Road Tsim Sha Tsui Hong Kong;X-APPLE-RADIUS=500;X-TITLE=10 Salisbury Road:geo:114.171708,22.294318
END:VEVENT
BEGIN:VEVENT
DTSTART;TZID=Asia/Hong_Kong:20180228T120000
DTEND;TZID=Asia/Hong_Kong:20180228T120000
DTSTAMP:20260421T133140
CREATED:19180109T083200Z
LAST-MODIFIED:20180109T092610Z
UID:10003715-1519819200-1519819200@www.bcmagazine.net
SUMMARY:Comic World
DESCRIPTION:Comic World\nDate: 12pm\, 25 February\, 2018\nVenue: Kitec\, Rotunda 2\nTickets: $35\, $15
URL:https://www.bcmagazine.net/event/comic-world-2018/
LOCATION:KITEC\, Rotunda 2\, Hong Kong
CATEGORIES:2018,Exhibition,Other
GEO:22.396428;114.109497
END:VEVENT
BEGIN:VEVENT
DTSTART;TZID=Asia/Hong_Kong:20180228T193000
DTEND;TZID=Asia/Hong_Kong:20180228T193000
DTSTAMP:20260421T133140
CREATED:19180222T090237Z
LAST-MODIFIED:20180222T095932Z
UID:10003829-1519846200-1519846200@www.bcmagazine.net
SUMMARY:Svetlana Zakharova & Vadim Repin
DESCRIPTION:Svetlana Zakharova & Vadim Repin – Pas de deux for Toes and Fingers\nHK Arts Festival\nDate: 7:30pm\, 27-28 February\, 2018\nVenue: HK Cultural Centre\, Grand Theatre\nTickets: $800\, $680\, $560\, $420\, $300 from Urbtix
URL:https://www.bcmagazine.net/event/svetlana-zakharova-vadim-repin-28-02-2018/
LOCATION:HK Cultural Centre\, Grand Theatre\,\, 10 Salisbury Road\, Tsim Sha Tsui\, Hong Kong
CATEGORIES:2018,Ballet,Dance,Music,Opera,Performing Arts
GEO:22.294318;114.171708
X-APPLE-STRUCTURED-LOCATION;VALUE=URI;X-ADDRESS=HK Cultural Centre Grand Theatre 10 Salisbury Road Tsim Sha Tsui Hong Kong;X-APPLE-RADIUS=500;X-TITLE=10 Salisbury Road:geo:114.171708,22.294318
END:VEVENT
BEGIN:VEVENT
DTSTART;VALUE=DATE:20180301
DTEND;VALUE=DATE:20180319
DTSTAMP:20260421T133140
CREATED:19180208T065813Z
LAST-MODIFIED:20180228T082524Z
UID:10003766-1519862400-1521417599@www.bcmagazine.net
SUMMARY:European Union Film Festival 2018
DESCRIPTION:European Union Film Festival 2018\nDate: 1-18 March\, 2018\nVenues: Broadway Cinematheque\, AMC Pacific Place\nTickets: $ various\nMore info: https://issuu.com/broadwaycinematheque/docs/_issuu_20180206_booklet_euff2018
URL:https://www.bcmagazine.net/event/european-union-film-festival-2018/
CATEGORIES:2018,Cultural Festival,Film,Lifestyle,Performing Arts
ATTACH;FMTTYPE=image/jpeg:https://www.bcmagazine.net/wp-content/uploads/2018/02/European-Union-Film-Festival-EUFF-2018.jpg
END:VEVENT
BEGIN:VEVENT
DTSTART;TZID=Asia/Hong_Kong:20180301T183000
DTEND;TZID=Asia/Hong_Kong:20180301T183000
DTSTAMP:20260421T133140
CREATED:19180204T092846Z
LAST-MODIFIED:20180204T093300Z
UID:10003748-1519929000-1519929000@www.bcmagazine.net
SUMMARY:Women of Wine Festival 2018
DESCRIPTION:Women of Wine Festival 2018\nDate: 6:30pm\, 1 March\, 2018\nVenue: The Murray Hong Kong\nTickets: $450
URL:https://www.bcmagazine.net/event/women-of-wine-festival-2018/
LOCATION:The Murray\, Hong Kong\, 22 Cotton Tree Drive\, Central\, Hong Kong
CATEGORIES:2018,Food,Lifestyle,Nightlife
GEO:22.2780929;114.1600524
X-APPLE-STRUCTURED-LOCATION;VALUE=URI;X-ADDRESS=The Murray Hong Kong 22 Cotton Tree Drive Central Hong Kong;X-APPLE-RADIUS=500;X-TITLE=22 Cotton Tree Drive:geo:114.1600524,22.2780929
END:VEVENT
BEGIN:VEVENT
DTSTART;TZID=Asia/Hong_Kong:20180302T193000
DTEND;TZID=Asia/Hong_Kong:20180302T193000
DTSTAMP:20260421T133140
CREATED:19180222T090237Z
LAST-MODIFIED:20180222T095254Z
UID:10003827-1520019000-1520019000@www.bcmagazine.net
SUMMARY:Princess Changping
DESCRIPTION:Princess Changping\nHK Arts Festival\, China National Peking Opera Company\nDate: 7:30pm\, 2-3 March\, 2018\nVenue: HK Cultural Centre\, Grand Theatre\nTickets: $450\, $360\, $280\, $200\, $140 from Urbtix\nMore info:\n2 March – Princess Changping\n3 March – Rekindling a Life-Long Romance
URL:https://www.bcmagazine.net/event/china-national-peking-opera-company-02-03-2018/
LOCATION:HK Cultural Centre\, Grand Theatre\,\, 10 Salisbury Road\, Tsim Sha Tsui\, Hong Kong
CATEGORIES:2018,Chinese opera,Music,Opera,Performing Arts
GEO:22.294318;114.171708
X-APPLE-STRUCTURED-LOCATION;VALUE=URI;X-ADDRESS=HK Cultural Centre Grand Theatre 10 Salisbury Road Tsim Sha Tsui Hong Kong;X-APPLE-RADIUS=500;X-TITLE=10 Salisbury Road:geo:114.171708,22.294318
END:VEVENT
BEGIN:VEVENT
DTSTART;TZID=Asia/Hong_Kong:20180302T201500
DTEND;TZID=Asia/Hong_Kong:20180302T201500
DTSTAMP:20260421T133140
CREATED:19180221T080817Z
LAST-MODIFIED:20180222T120857Z
UID:10003790-1520021700-1520021700@www.bcmagazine.net
SUMMARY:Shine
DESCRIPTION:Shine – Moments Live\nDate: 8:15pm\, 2-3 March\, 2018\nVenue: HK Coliseum\nTickets: $780\, $480\, $280 from Urbtix
URL:https://www.bcmagazine.net/event/shine-02-03-2018/
LOCATION:HK Coliseum\, 9 Cheong Wan Road\, Hung Hom\, Hong Kong
CATEGORIES:2018,Concert,Music,Performing Arts
GEO:22.3014169;114.1820305
X-APPLE-STRUCTURED-LOCATION;VALUE=URI;X-ADDRESS=HK Coliseum 9 Cheong Wan Road Hung Hom Hong Kong;X-APPLE-RADIUS=500;X-TITLE=9 Cheong Wan Road:geo:114.1820305,22.3014169
END:VEVENT
BEGIN:VEVENT
DTSTART;VALUE=DATE:20180303
DTEND;VALUE=DATE:20180305
DTSTAMP:20260421T133140
CREATED:19180208T065813Z
LAST-MODIFIED:20180228T072356Z
UID:10003764-1520035200-1520207999@www.bcmagazine.net
SUMMARY:Iris: Your Escape
DESCRIPTION:Iris: Your Escape\nDate: 3-4 March\, 2018\nVenue: Nursery Park\, West Kowloon Cultural District\nTickets: $200\, $150
URL:https://www.bcmagazine.net/event/iris-your-escape-3-4-march-2018/
LOCATION:West Kowloon Cultural District\, Nursery Park\, West Kowloon Cultural District\, West Kowloon\, Hong Kong
CATEGORIES:2018,Exhibition,Lifestyle,Other
GEO:22.2989668;114.1551898
X-APPLE-STRUCTURED-LOCATION;VALUE=URI;X-ADDRESS=West Kowloon Cultural District Nursery Park West Kowloon Cultural District West Kowloon Hong Kong;X-APPLE-RADIUS=500;X-TITLE=West Kowloon Cultural District:geo:114.1551898,22.2989668
END:VEVENT
BEGIN:VEVENT
DTSTART;TZID=Asia/Hong_Kong:20180303T193000
DTEND;TZID=Asia/Hong_Kong:20180303T193000
DTSTAMP:20260421T133140
CREATED:19180222T090237Z
LAST-MODIFIED:20180222T095148Z
UID:10003826-1520105400-1520105400@www.bcmagazine.net
SUMMARY:China National Peking Opera Company
DESCRIPTION:Rekindling a Life-Long Romance\nHK Arts Festival\, China National Peking Opera Company\nDate: 7:30pm\, 2-3 March\, 2018\nVenue: HK Cultural Centre\, Grand Theatre\nTickets: $450\, $360\, $280\, $200\, $140 from Urbtix\nMore info:\n2 March – Princess Changping\n3 March – Rekindling a Life-Long Romance
URL:https://www.bcmagazine.net/event/china-national-peking-opera-company-03-03-2018/
LOCATION:HK Cultural Centre\, Grand Theatre\,\, 10 Salisbury Road\, Tsim Sha Tsui\, Hong Kong
CATEGORIES:2018,Chinese opera,Music,Opera,Performing Arts
GEO:22.294318;114.171708
X-APPLE-STRUCTURED-LOCATION;VALUE=URI;X-ADDRESS=HK Cultural Centre Grand Theatre 10 Salisbury Road Tsim Sha Tsui Hong Kong;X-APPLE-RADIUS=500;X-TITLE=10 Salisbury Road:geo:114.171708,22.294318
END:VEVENT
BEGIN:VEVENT
DTSTART;TZID=Asia/Hong_Kong:20180303T200000
DTEND;TZID=Asia/Hong_Kong:20180303T200000
DTSTAMP:20260421T133140
CREATED:19180303T082231Z
LAST-MODIFIED:20180303T105636Z
UID:10003884-1520107200-1520107200@www.bcmagazine.net
SUMMARY:Jessica
DESCRIPTION:Jessica – On Cloud Nine\n Date: 8pm\, 3 March\, 2018\nVenue: Studio City\nTickets: $2\,380\, $1\,680\, $1\,380\, $1\,080\, $780\, $580
URL:https://www.bcmagazine.net/event/jessica-macau-2018/
LOCATION:Studio City\, Estrada do Istmo\, Cotai\, Macau
CATEGORIES:2018,Concert,Macau,Music,Performing Arts
GEO:22.1397693;113.5632663
X-APPLE-STRUCTURED-LOCATION;VALUE=URI;X-ADDRESS=Studio City Estrada do Istmo Cotai Macau;X-APPLE-RADIUS=500;X-TITLE=Estrada do Istmo:geo:113.5632663,22.1397693
END:VEVENT
BEGIN:VEVENT
DTSTART;TZID=Asia/Hong_Kong:20180303T201500
DTEND;TZID=Asia/Hong_Kong:20180303T201500
DTSTAMP:20260421T133140
CREATED:19180210T064134Z
LAST-MODIFIED:20180210T064530Z
UID:10003782-1520108100-1520108100@www.bcmagazine.net
SUMMARY:A-Lin
DESCRIPTION:I’m A-Lin\nDate: 8:15pm\, 8 March\, 2018\nVenue: HKCEC\, Hall 5BC\nTickets: $980\, $780\, $580 from HKTicketing
URL:https://www.bcmagazine.net/event/a-lin-2018/
LOCATION:HK Convention and Exhibition Centre\, 1 Expo Drive\, Wanchai\, Hong Kong
CATEGORIES:2018,Concert,Music,Performing Arts
END:VEVENT
BEGIN:VEVENT
DTSTART;TZID=Asia/Hong_Kong:20180303T201500
DTEND;TZID=Asia/Hong_Kong:20180303T201500
DTSTAMP:20260421T133140
CREATED:19180221T080817Z
LAST-MODIFIED:20180222T120846Z
UID:10003791-1520108100-1520108100@www.bcmagazine.net
SUMMARY:Shine
DESCRIPTION:Shine – Moments Live\nDate: 8:15pm\, 2-3 March\, 2018\nVenue: HK Coliseum\nTickets: $780\, $480\, $280 from Urbtix
URL:https://www.bcmagazine.net/event/shine-03-03-2018/
LOCATION:HK Coliseum\, 9 Cheong Wan Road\, Hung Hom\, Hong Kong
CATEGORIES:2018,Concert,Music,Performing Arts
GEO:22.3014169;114.1820305
X-APPLE-STRUCTURED-LOCATION;VALUE=URI;X-ADDRESS=HK Coliseum 9 Cheong Wan Road Hung Hom Hong Kong;X-APPLE-RADIUS=500;X-TITLE=9 Cheong Wan Road:geo:114.1820305,22.3014169
END:VEVENT
BEGIN:VEVENT
DTSTART;TZID=Asia/Hong_Kong:20180303T201500
DTEND;TZID=Asia/Hong_Kong:20180303T201500
DTSTAMP:20260421T133140
CREATED:19180222T090237Z
LAST-MODIFIED:20180222T111240Z
UID:10003844-1520108100-1520108100@www.bcmagazine.net
SUMMARY:Dance Exchange
DESCRIPTION:Dance Exchange\nHK Arts Festival\, Hong Kong Jockey Club Contemporary Dance Series\nDate: 24-25 February & 3-4 March\, 2018\nVenue: HK Cultural Centre\, Studio Theatre\nTickets: $150 from Urbtix\nMore info:\nThe Battle Zone | Vortex\n24 Feb – 8:15pm\n25 Feb – 3pm\nDance Exchange\n3 March – 8:15pm\n4 March – 3pm
URL:https://www.bcmagazine.net/event/dance-exchange-03-03-2018/
LOCATION:HK Cultural Centre\, Studio Theatre\, 10 Salisbury Road\, Tsim Sha Tsui\, Hong Kong
CATEGORIES:2018,Dance,Performing Arts
END:VEVENT
BEGIN:VEVENT
DTSTART;TZID=Asia/Hong_Kong:20180304T150000
DTEND;TZID=Asia/Hong_Kong:20180304T201500
DTSTAMP:20260421T133140
CREATED:19180222T090237Z
LAST-MODIFIED:20180222T111213Z
UID:10003845-1520175600-1520194500@www.bcmagazine.net
SUMMARY:Dance Exchange
DESCRIPTION:Dance Exchange\nHK Arts Festival\, Hong Kong Jockey Club Contemporary Dance Series\nDate: 24-25 February & 3-4 March\, 2018\nVenue: HK Cultural Centre\, Studio Theatre\nTickets: $150 from Urbtix\nMore info:\nThe Battle Zone | Vortex\n24 Feb – 8:15pm\n25 Feb – 3pm\nDance Exchange\n3 March – 8:15pm\n4 March – 3pm
URL:https://www.bcmagazine.net/event/dance-exchange-04-03-2018/
LOCATION:HK Cultural Centre\, Studio Theatre\, 10 Salisbury Road\, Tsim Sha Tsui\, Hong Kong
CATEGORIES:2018,Dance,Performing Arts
END:VEVENT
BEGIN:VEVENT
DTSTART;TZID=Asia/Hong_Kong:20180304T200000
DTEND;TZID=Asia/Hong_Kong:20180304T200000
DTSTAMP:20260421T133140
CREATED:19171212T072433Z
LAST-MODIFIED:20171220T102153Z
UID:10003674-1520193600-1520193600@www.bcmagazine.net
SUMMARY:Junnosuke Taguchi
DESCRIPTION:Junnosuke Taguchi\nDate: 8pm\, 4 March\, 2018\nVenue: Music Zone@E-Max\nTickets: $690\, $490 from Cityline
URL:https://www.bcmagazine.net/event/junnosuke-taguchi-2018/
LOCATION:KITEC\, Music Zone@E-Max\, KITEC\,‎ 1 Trademart Drive\, Kowloon Bay\, Hong Kong
CATEGORIES:2018,Concert,Music,Performing Arts
GEO:22.3239575;114.2037608
X-APPLE-STRUCTURED-LOCATION;VALUE=URI;X-ADDRESS=KITEC Music Zone@E-Max KITEC‎ 1 Trademart Drive Kowloon Bay Hong Kong;X-APPLE-RADIUS=500;X-TITLE=KITEC\,‎ 1 Trademart Drive:geo:114.2037608,22.3239575
END:VEVENT
END:VCALENDAR