BEGIN:VCALENDAR
VERSION:2.0
PRODID:-//bc magazine - ECPv6.15.20//NONSGML v1.0//EN
CALSCALE:GREGORIAN
METHOD:PUBLISH
X-ORIGINAL-URL:https://www.bcmagazine.net
X-WR-CALDESC:Events for bc magazine
REFRESH-INTERVAL;VALUE=DURATION:PT1H
X-Robots-Tag:noindex
X-PUBLISHED-TTL:PT1H
BEGIN:VTIMEZONE
TZID:Asia/Hong_Kong
BEGIN:STANDARD
TZOFFSETFROM:+0800
TZOFFSETTO:+0800
TZNAME:HKT
DTSTART:20170101T000000
END:STANDARD
END:VTIMEZONE
BEGIN:VEVENT
DTSTART;VALUE=DATE:20180906
DTEND;VALUE=DATE:20180922
DTSTAMP:20260421T195203
CREATED:19180722T053650Z
LAST-MODIFIED:20180722T054011Z
UID:10004352-1536192000-1537574399@www.bcmagazine.net
SUMMARY:French Beef Festival
DESCRIPTION:French Beef Festival – Hong Kong\nDate: 6-21 September\, 2018\nVenue: Various\nTickets: tbc\nMore info: www.facebook.com/frenchbeefhk
URL:https://www.bcmagazine.net/event/french-beef-festival/
CATEGORIES:2018,Food,Lifestyle
END:VEVENT
BEGIN:VEVENT
DTSTART;VALUE=DATE:20180908
DTEND;VALUE=DATE:20180923
DTSTAMP:20260421T195203
CREATED:19180903T083647Z
LAST-MODIFIED:20180905T013837Z
UID:10004430-1536364800-1537660799@www.bcmagazine.net
SUMMARY:Hong Kong Lesbian & Gay Film Festival
DESCRIPTION:Hong Kong Lesbian & Gay Film Festival\nDate: 8-22 September 2018\nVenue: AMC Pacific Place\, Broadway Cinematheque\, MOViE MOViE Cityplaza\, The ONE\nTickets: $240\, $95\, $85\nMore info: Film screening schedule and synopsis www.hklgff.hk
URL:https://www.bcmagazine.net/event/hong-kong-lesbian-gay-film-festival2018/
CATEGORIES:2018,Concert,DJ,LGBT,Macau,Music,Performing Arts
ATTACH;FMTTYPE=image/jpeg:https://www.bcmagazine.net/wp-content/uploads/1918/09/2018-HKLGFF-poster.jpg
END:VEVENT
BEGIN:VEVENT
DTSTART;TZID=Asia/Hong_Kong:20180912T200000
DTEND;TZID=Asia/Hong_Kong:20180912T200000
DTSTAMP:20260421T195203
CREATED:19170909T021037Z
LAST-MODIFIED:20181127T002904Z
UID:10003409-1536782400-1536782400@www.bcmagazine.net
SUMMARY:Peel Street Poetry
DESCRIPTION:Peel Street Poetry is an open mic poetry night at Social Room. It runs every Wednesdays of the month except the first and last. The environment is friendly and they love new performers\, so come share your poetry or just listen along to some of Hong Kong’s sharpest poetic talents. \nPeel Street Poetry Open Mic\nDate: 2nd\, 3rd (and 4th) Wednesdays of the month\nVenue: Social Room\nTickets: Free\nMore info:\nwww.peelstreetpoetry.com
URL:https://www.bcmagazine.net/event/peel-street-poetry/2018-09-12/
LOCATION:Social Room\, 74-78 Stanley Street \, Central\, Hong Kong
CATEGORIES:2018,2019,Free,Performing Arts,Poetry
GEO:22.2834184;114.1544925
X-APPLE-STRUCTURED-LOCATION;VALUE=URI;X-ADDRESS=Social Room 74-78 Stanley Street  Central Hong Kong;X-APPLE-RADIUS=500;X-TITLE=74-78 Stanley Street:geo:114.1544925,22.2834184
END:VEVENT
BEGIN:VEVENT
DTSTART;TZID=Asia/Hong_Kong:20180912T200000
DTEND;TZID=Asia/Hong_Kong:20180912T200000
DTSTAMP:20260421T195203
CREATED:19180525T120834Z
LAST-MODIFIED:20180525T122840Z
UID:10004027-1536782400-1536782400@www.bcmagazine.net
SUMMARY:Sekai No Owari
DESCRIPTION:Sekai No Owari\nDate: 8pm\, 12 September\, 2018\nVenue: Kitec\, Star Hall\nTickets: $888\, $588 from HK Ticketing
URL:https://www.bcmagazine.net/event/sekai-no-owari-2018/
LOCATION:KITEC\, Star Hall\, KITEC\, 1 Trademart Drive\, Kowloon Bay\, Hong Kong
CATEGORIES:2018,Concert,Music,Performing Arts
GEO:22.3239575;114.2037608
X-APPLE-STRUCTURED-LOCATION;VALUE=URI;X-ADDRESS=KITEC Star Hall KITEC 1 Trademart Drive Kowloon Bay Hong Kong;X-APPLE-RADIUS=500;X-TITLE=KITEC\, 1 Trademart Drive:geo:114.2037608,22.3239575
END:VEVENT
BEGIN:VEVENT
DTSTART;VALUE=DATE:20180913
DTEND;VALUE=DATE:20180917
DTSTAMP:20260421T195203
CREATED:19180902T124138Z
LAST-MODIFIED:20180916T125054Z
UID:10004427-1536796800-1537142399@www.bcmagazine.net
SUMMARY:Men's East Asia Cup
DESCRIPTION:Men’s East Asia Cup\nDate: 13-16 September\, 2018\nVenue: Tin Kwong Road Recreation Ground\, Hong Kong Cricket Club\, Kowloon Cricket Club\nTickets: Free
URL:https://www.bcmagazine.net/event/mens-east-asia-cup-2018/
CATEGORIES:2018,Cricket,Free,Sport
ATTACH;FMTTYPE=image/jpeg:https://www.bcmagazine.net/wp-content/uploads/2018/09/east-asia-cup-2018.jpg
END:VEVENT
BEGIN:VEVENT
DTSTART;TZID=Asia/Hong_Kong:20180913T200000
DTEND;TZID=Asia/Hong_Kong:20180913T200000
DTSTAMP:20260421T195203
CREATED:19180528T020834Z
LAST-MODIFIED:20180728T164721Z
UID:10004138-1536868800-1536868800@www.bcmagazine.net
SUMMARY:HK Ballet
DESCRIPTION:Hong Kong Cool\nHK Ballet\nDate: 8pm\, 13-16 September\, 2018\nVenue: HK Cultural Centre\, Studio Theatre\nTickets: $300\, $200 from Urbtix
URL:https://www.bcmagazine.net/event/hk-ballet-13-09-2018/
LOCATION:HK Cultural Centre\, Studio Theatre\, 10 Salisbury Road\, Tsim Sha Tsui\, Hong Kong
CATEGORIES:2018,Dance,Performing Arts,Theatre
END:VEVENT
BEGIN:VEVENT
DTSTART;TZID=Asia/Hong_Kong:20180913T200000
DTEND;TZID=Asia/Hong_Kong:20180913T200000
DTSTAMP:20260421T195203
CREATED:19180620T094055Z
LAST-MODIFIED:20180723T030636Z
UID:10004245-1536868800-1536868800@www.bcmagazine.net
SUMMARY:Intervals
DESCRIPTION:Intervals\nSupport: Qollision\nDate: 8pm\, 13 September\, 2018\nVenue: TTN\nTickets: $420\, $390 from Ticketflap
URL:https://www.bcmagazine.net/event/intervals-2018/
LOCATION:This Town Needs (TTN)\, 1/F Ocean One\, 6 Shung Shun Street\, Yau Tong\, Hong Kong
CATEGORIES:2018,Concert,Music,Performing Arts
ATTACH;FMTTYPE=image/jpeg:https://www.bcmagazine.net/wp-content/uploads/1918/06/intervals-2018.jpg
GEO:22.292861;114.23782
X-APPLE-STRUCTURED-LOCATION;VALUE=URI;X-ADDRESS=This Town Needs (TTN) 1/F Ocean One 6 Shung Shun Street Yau Tong Hong Kong;X-APPLE-RADIUS=500;X-TITLE=1/F Ocean One\, 6 Shung Shun Street:geo:114.23782,22.292861
END:VEVENT
BEGIN:VEVENT
DTSTART;TZID=Asia/Hong_Kong:20180913T201500
DTEND;TZID=Asia/Hong_Kong:20180913T201500
DTSTAMP:20260421T195203
CREATED:19180528T020834Z
LAST-MODIFIED:20180727T011206Z
UID:10004079-1536869700-1536869700@www.bcmagazine.net
SUMMARY:Plan HK Better!
DESCRIPTION:Plan HK Better!\nZuni Icosahedron\nDate: 8:15pm\, 13-14 September\, 2018\nVenue: HK Cultural Centre\, Grand Theatre\nTickets: $200\, $100 from Urbtix
URL:https://www.bcmagazine.net/event/plan-hk-better-13-09-2018/
LOCATION:HK Cultural Centre\, Grand Theatre\,\, 10 Salisbury Road\, Tsim Sha Tsui\, Hong Kong
CATEGORIES:2018,Cantonese drama,Performing Arts,Theatre
GEO:22.294318;114.171708
X-APPLE-STRUCTURED-LOCATION;VALUE=URI;X-ADDRESS=HK Cultural Centre Grand Theatre 10 Salisbury Road Tsim Sha Tsui Hong Kong;X-APPLE-RADIUS=500;X-TITLE=10 Salisbury Road:geo:114.171708,22.294318
END:VEVENT
BEGIN:VEVENT
DTSTART;VALUE=DATE:20180914
DTEND;VALUE=DATE:20180916
DTSTAMP:20260421T195203
CREATED:19180802T094055Z
LAST-MODIFIED:20180818T000511Z
UID:10004365-1536883200-1537055999@www.bcmagazine.net
SUMMARY:Asia Rugby Sevens Series
DESCRIPTION:Asia Rugby Sevens Series\nDate: 14-15 September\, 2018\nVenue: HK Football Club\nTickets: tbc
URL:https://www.bcmagazine.net/event/asia-rugby-sevens-series-2018/
LOCATION:Hong Kong Football Club\, 3 Sports Road\, Causeway Bay\, Hong Kong
CATEGORIES:2018,Rugby,Sport
ATTACH;FMTTYPE=image/jpeg:https://www.bcmagazine.net/wp-content/uploads/1918/08/asia-rugby-sevens-series-1.jpg
GEO:22.275374;114.1822239
X-APPLE-STRUCTURED-LOCATION;VALUE=URI;X-ADDRESS=Hong Kong Football Club 3 Sports Road Causeway Bay Hong Kong;X-APPLE-RADIUS=500;X-TITLE=3 Sports Road:geo:114.1822239,22.275374
END:VEVENT
BEGIN:VEVENT
DTSTART;TZID=Asia/Hong_Kong:20180914T180000
DTEND;TZID=Asia/Hong_Kong:20180914T180000
DTSTAMP:20260421T195203
CREATED:19180528T020834Z
LAST-MODIFIED:20180728T060849Z
UID:10004122-1536948000-1536948000@www.bcmagazine.net
SUMMARY:AIDS Concern 2018 Gala - Light Up the Night
DESCRIPTION:AIDS Concern 2018 Gala – Light Up the Night\nDate: 6pm\, 14 September\, 2018\nVenue: The Langham Hong Kong\nTickets: tbc
URL:https://www.bcmagazine.net/event/aids-concern-2018-gala/
LOCATION:The Langham Hong Kong\, 8 Peking Road\, Tsim Sha Tsui\, Hong Kong
CATEGORIES:2018,DJ,Free,LGBT,Music,Nightlife
ATTACH;FMTTYPE=image/jpeg:https://www.bcmagazine.net/wp-content/uploads/1918/05/aids-concern-gala-dinner-2018.jpg
END:VEVENT
BEGIN:VEVENT
DTSTART;TZID=Asia/Hong_Kong:20180914T200000
DTEND;TZID=Asia/Hong_Kong:20180914T200000
DTSTAMP:20260421T195203
CREATED:19180528T020834Z
LAST-MODIFIED:20180728T173442Z
UID:10003277-1536955200-1536955200@www.bcmagazine.net
SUMMARY:HK Philharmonic Orchestra
DESCRIPTION:Edo de Waart –  Timothy McAllister\nHK Philharmonic Orchestra\nDate: 8pm\, 14-15 September\, 2018\nVenue: HK Cultural Centre\, Concert Hall\nTickets: $580\, $480\, $380\, $280 from Urbtix
URL:https://www.bcmagazine.net/event/hk-philharmonic-orchestra-14-09-2018/
LOCATION:HK Cultural Centre\, Concert Hall\, 10 Salisbury Road\, Tsim Sha Tsui\, Hong Kong
CATEGORIES:2018,Concert,Music,Performing Arts
GEO:22.294318;114.171708
X-APPLE-STRUCTURED-LOCATION;VALUE=URI;X-ADDRESS=HK Cultural Centre Concert Hall 10 Salisbury Road Tsim Sha Tsui Hong Kong;X-APPLE-RADIUS=500;X-TITLE=10 Salisbury Road:geo:114.171708,22.294318
END:VEVENT
BEGIN:VEVENT
DTSTART;TZID=Asia/Hong_Kong:20180914T200000
DTEND;TZID=Asia/Hong_Kong:20180914T200000
DTSTAMP:20260421T195203
CREATED:19180528T020834Z
LAST-MODIFIED:20180728T164832Z
UID:10004139-1536955200-1536955200@www.bcmagazine.net
SUMMARY:HK Ballet
DESCRIPTION:Hong Kong Cool\nHK Ballet\nDate: 8pm\, 13-16 September\, 2018\nVenue: HK Cultural Centre\, Studio Theatre\nTickets: $300\, $200 from Urbtix
URL:https://www.bcmagazine.net/event/hk-ballet-14-09-2018/
LOCATION:HK Cultural Centre\, Studio Theatre\, 10 Salisbury Road\, Tsim Sha Tsui\, Hong Kong
CATEGORIES:2018,Dance,Performing Arts,Theatre
END:VEVENT
BEGIN:VEVENT
DTSTART;TZID=Asia/Hong_Kong:20180914T201500
DTEND;TZID=Asia/Hong_Kong:20180914T201500
DTSTAMP:20260421T195203
CREATED:19180528T020834Z
LAST-MODIFIED:20180727T011236Z
UID:10004080-1536956100-1536956100@www.bcmagazine.net
SUMMARY:Plan HK Better!
DESCRIPTION:Plan HK Better!\nZuni Icosahedron\nDate: 8:15pm\, 13-14 September\, 2018\nVenue: HK Cultural Centre\, Grand Theatre\nTickets: $200\, $100 from Urbtix
URL:https://www.bcmagazine.net/event/plan-hk-better-14-09-2018/
LOCATION:HK Cultural Centre\, Grand Theatre\,\, 10 Salisbury Road\, Tsim Sha Tsui\, Hong Kong
CATEGORIES:2018,Cantonese drama,Performing Arts,Theatre
GEO:22.294318;114.171708
X-APPLE-STRUCTURED-LOCATION;VALUE=URI;X-ADDRESS=HK Cultural Centre Grand Theatre 10 Salisbury Road Tsim Sha Tsui Hong Kong;X-APPLE-RADIUS=500;X-TITLE=10 Salisbury Road:geo:114.171708,22.294318
END:VEVENT
BEGIN:VEVENT
DTSTART;TZID=Asia/Hong_Kong:20180914T201500
DTEND;TZID=Asia/Hong_Kong:20180914T201500
DTSTAMP:20260421T195203
CREATED:19180716T124702Z
LAST-MODIFIED:20180724T162203Z
UID:10004283-1536956100-1536956100@www.bcmagazine.net
SUMMARY:Paula Tsui
DESCRIPTION:Paula Tsui\nDate: 8:15pm\, 7-9\, 14-16 September\, 2018\nVenue: HK Coliseum\nTickets: $880\, $580\, $380\, $180 from Urbtix
URL:https://www.bcmagazine.net/event/paula-tsui-14-09-2018/
LOCATION:HK Coliseum\, 9 Cheong Wan Road\, Hung Hom\, Hong Kong
CATEGORIES:2018,Cantopop,Concert,Music,Performing Arts
ATTACH;FMTTYPE=image/jpeg:https://www.bcmagazine.net/wp-content/uploads/1918/07/paula-tsui-2018.jpg
GEO:22.3014169;114.1820305
X-APPLE-STRUCTURED-LOCATION;VALUE=URI;X-ADDRESS=HK Coliseum 9 Cheong Wan Road Hung Hom Hong Kong;X-APPLE-RADIUS=500;X-TITLE=9 Cheong Wan Road:geo:114.1820305,22.3014169
END:VEVENT
BEGIN:VEVENT
DTSTART;TZID=Asia/Hong_Kong:20180915T143000
DTEND;TZID=Asia/Hong_Kong:20180915T143000
DTSTAMP:20260421T195203
CREATED:19180528T020834Z
LAST-MODIFIED:20180728T165148Z
UID:10004143-1537021800-1537021800@www.bcmagazine.net
SUMMARY:HK Ballet
DESCRIPTION:Carnival of the Animals\nHK Ballet\nDate: 15-16 September\, 2018\nVenue: HK Cultural Centre\, Studio Theatre\nTickets: $300\, $200 from Urbtix
URL:https://www.bcmagazine.net/event/hk-ballet-15-09-2018-2/
LOCATION:HK Cultural Centre\, Studio Theatre\, 10 Salisbury Road\, Tsim Sha Tsui\, Hong Kong
CATEGORIES:2018,Dance,Performing Arts,Theatre
END:VEVENT
BEGIN:VEVENT
DTSTART;TZID=Asia/Hong_Kong:20180915T200000
DTEND;TZID=Asia/Hong_Kong:20180915T200000
DTSTAMP:20260421T195203
CREATED:19180528T020834Z
LAST-MODIFIED:20180728T173521Z
UID:10003280-1537041600-1537041600@www.bcmagazine.net
SUMMARY:HK Philharmonic Orchestra
DESCRIPTION:Edo de Waart –  Timothy McAllister\nHK Philharmonic Orchestra\nDate: 8pm\, 14-15 September\, 2018\nVenue: HK Cultural Centre\, Concert Hall\nTickets: $580\, $480\, $380\, $280 from Urbtix
URL:https://www.bcmagazine.net/event/hk-philharmonic-orchestra-15-09-2018/
LOCATION:HK Cultural Centre\, Concert Hall\, 10 Salisbury Road\, Tsim Sha Tsui\, Hong Kong
CATEGORIES:2018,Concert,Music,Performing Arts
GEO:22.294318;114.171708
X-APPLE-STRUCTURED-LOCATION;VALUE=URI;X-ADDRESS=HK Cultural Centre Concert Hall 10 Salisbury Road Tsim Sha Tsui Hong Kong;X-APPLE-RADIUS=500;X-TITLE=10 Salisbury Road:geo:114.171708,22.294318
END:VEVENT
BEGIN:VEVENT
DTSTART;TZID=Asia/Hong_Kong:20180915T200000
DTEND;TZID=Asia/Hong_Kong:20180915T200000
DTSTAMP:20260421T195203
CREATED:19180528T020834Z
LAST-MODIFIED:20180728T164827Z
UID:10004140-1537041600-1537041600@www.bcmagazine.net
SUMMARY:HK Ballet
DESCRIPTION:Hong Kong Cool\nHK Ballet\nDate: 8pm\, 13-16 September\, 2018\nVenue: HK Cultural Centre\, Studio Theatre\nTickets: $300\, $200 from Urbtix
URL:https://www.bcmagazine.net/event/hk-ballet-15-09-2018/
LOCATION:HK Cultural Centre\, Studio Theatre\, 10 Salisbury Road\, Tsim Sha Tsui\, Hong Kong
CATEGORIES:2018,Dance,Performing Arts,Theatre
END:VEVENT
BEGIN:VEVENT
DTSTART;TZID=Asia/Hong_Kong:20180915T200000
DTEND;TZID=Asia/Hong_Kong:20180915T200000
DTSTAMP:20260421T195203
CREATED:19180608T094055Z
LAST-MODIFIED:20180724T011503Z
UID:10004187-1537041600-1537041600@www.bcmagazine.net
SUMMARY:Liu Ruiqi
DESCRIPTION:Liu Ruiqi – Warm Room 2018 Asia Tour\nDate: 8pm\, 15 September\, 2018\nVenue: Kitec\, Music Zone@E-Max\nTickets: $380 from Cityline
URL:https://www.bcmagazine.net/event/liu-ruiqi-2018/
LOCATION:KITEC\, Music Zone@E-Max\, KITEC\,‎ 1 Trademart Drive\, Kowloon Bay\, Hong Kong
CATEGORIES:2018,Concert,Music,Performing Arts
GEO:22.3239575;114.2037608
X-APPLE-STRUCTURED-LOCATION;VALUE=URI;X-ADDRESS=KITEC Music Zone@E-Max KITEC‎ 1 Trademart Drive Kowloon Bay Hong Kong;X-APPLE-RADIUS=500;X-TITLE=KITEC\,‎ 1 Trademart Drive:geo:114.2037608,22.3239575
END:VEVENT
BEGIN:VEVENT
DTSTART;TZID=Asia/Hong_Kong:20180915T201500
DTEND;TZID=Asia/Hong_Kong:20180915T201500
DTSTAMP:20260421T195203
CREATED:19180528T020834Z
LAST-MODIFIED:20180727T011434Z
UID:10004081-1537042500-1537042500@www.bcmagazine.net
SUMMARY:First Lessons in Heart Sutra
DESCRIPTION:First Lessons in Heart Sutra\nZuni Icosahedron\nDate: 8:15pm\, 15 September\, 2018\nVenue: HK Cultural Centre\, Grand Theatre\nTickets: $280\, $180\, $100 from Urbtix
URL:https://www.bcmagazine.net/event/first-lessons-in-heart-sutra-15-09-2018/
LOCATION:HK Cultural Centre\, Grand Theatre\,\, 10 Salisbury Road\, Tsim Sha Tsui\, Hong Kong
CATEGORIES:2018,Music,Performing Arts,Theatre
GEO:22.294318;114.171708
X-APPLE-STRUCTURED-LOCATION;VALUE=URI;X-ADDRESS=HK Cultural Centre Grand Theatre 10 Salisbury Road Tsim Sha Tsui Hong Kong;X-APPLE-RADIUS=500;X-TITLE=10 Salisbury Road:geo:114.171708,22.294318
END:VEVENT
BEGIN:VEVENT
DTSTART;TZID=Asia/Hong_Kong:20180915T201500
DTEND;TZID=Asia/Hong_Kong:20180915T201500
DTSTAMP:20260421T195203
CREATED:19180716T124702Z
LAST-MODIFIED:20180724T162158Z
UID:10004284-1537042500-1537042500@www.bcmagazine.net
SUMMARY:Paula Tsui
DESCRIPTION:Paula Tsui\nDate: 8:15pm\, 7-9\, 14-16 September\, 2018\nVenue: HK Coliseum\nTickets: $880\, $580\, $380\, $180 from Urbtix
URL:https://www.bcmagazine.net/event/paula-tsui-15-09-2018/
LOCATION:HK Coliseum\, 9 Cheong Wan Road\, Hung Hom\, Hong Kong
CATEGORIES:2018,Cantopop,Concert,Music,Performing Arts
ATTACH;FMTTYPE=image/jpeg:https://www.bcmagazine.net/wp-content/uploads/1918/07/paula-tsui-2018.jpg
GEO:22.3014169;114.1820305
X-APPLE-STRUCTURED-LOCATION;VALUE=URI;X-ADDRESS=HK Coliseum 9 Cheong Wan Road Hung Hom Hong Kong;X-APPLE-RADIUS=500;X-TITLE=9 Cheong Wan Road:geo:114.1820305,22.3014169
END:VEVENT
BEGIN:VEVENT
DTSTART;TZID=Asia/Hong_Kong:20180916T143000
DTEND;TZID=Asia/Hong_Kong:20180916T143000
DTSTAMP:20260421T195203
CREATED:19180528T020834Z
LAST-MODIFIED:20180728T165105Z
UID:10004142-1537108200-1537108200@www.bcmagazine.net
SUMMARY:HK Ballet
DESCRIPTION:Carnival of the Animals\nHK Ballet\nDate: 15-16 September\, 2018\nVenue: HK Cultural Centre\, Studio Theatre\nTickets: $300\, $200 from Urbtix
URL:https://www.bcmagazine.net/event/hk-ballet-16-09-2018-2/
LOCATION:HK Cultural Centre\, Studio Theatre\, 10 Salisbury Road\, Tsim Sha Tsui\, Hong Kong
CATEGORIES:2018,Dance,Performing Arts,Theatre
END:VEVENT
BEGIN:VEVENT
DTSTART;TZID=Asia/Hong_Kong:20180916T180000
DTEND;TZID=Asia/Hong_Kong:20180916T180000
DTSTAMP:20260421T195203
CREATED:19180608T094055Z
LAST-MODIFIED:20180724T013526Z
UID:10004196-1537120800-1537120800@www.bcmagazine.net
SUMMARY:Jimmy Carr
DESCRIPTION:Jimmy Carr\nDate: 6pm\, 16 September\, 2018\nVenue: Kitec\, Rotunda 3\nTickets: $888\, $788\, $688\, $588\, $488 from HKTicketing
URL:https://www.bcmagazine.net/event/jimmy-carr-2018/
LOCATION:KITEC\, Rotunda 3\, 1 Trademart Drive\, Kowloon Bay\, Hong Kong
CATEGORIES:2018,Comedy,Concert,Music,Performing Arts
GEO:22.3239575;114.2037608
X-APPLE-STRUCTURED-LOCATION;VALUE=URI;X-ADDRESS=KITEC Rotunda 3 1 Trademart Drive Kowloon Bay Hong Kong;X-APPLE-RADIUS=500;X-TITLE=1 Trademart Drive:geo:114.2037608,22.3239575
END:VEVENT
BEGIN:VEVENT
DTSTART;TZID=Asia/Hong_Kong:20180916T200000
DTEND;TZID=Asia/Hong_Kong:20180916T200000
DTSTAMP:20260421T195203
CREATED:19180528T020834Z
LAST-MODIFIED:20180728T164817Z
UID:10004141-1537128000-1537128000@www.bcmagazine.net
SUMMARY:HK Ballet
DESCRIPTION:Hong Kong Cool\nHK Ballet\nDate: 8pm\, 13-16 September\, 2018\nVenue: HK Cultural Centre\, Studio Theatre\nTickets: $300\, $200 from Urbtix
URL:https://www.bcmagazine.net/event/hk-ballet-16-09-2018/
LOCATION:HK Cultural Centre\, Studio Theatre\, 10 Salisbury Road\, Tsim Sha Tsui\, Hong Kong
CATEGORIES:2018,Dance,Performing Arts,Theatre
END:VEVENT
BEGIN:VEVENT
DTSTART;TZID=Asia/Hong_Kong:20180916T200000
DTEND;TZID=Asia/Hong_Kong:20180916T200000
DTSTAMP:20260421T195203
CREATED:19180802T094055Z
LAST-MODIFIED:20180820T013440Z
UID:10004368-1537128000-1537128000@www.bcmagazine.net
SUMMARY:Tops
DESCRIPTION:Tops\nDate: 8pm\, 16 September\, 2018\nVenue: MOM Livehouse\nTickets: $220\, $180 from Ticketflap
URL:https://www.bcmagazine.net/event/tops-19-09-2018/
LOCATION:MOM Livehouse\, B39 Seven Seas Shopping Centre\, 117-121 Kings Road\, North Point\, Hong Kong
CATEGORIES:2018,Concert,Music,Performing Arts
ATTACH;FMTTYPE=image/jpeg:https://www.bcmagazine.net/wp-content/uploads/1918/08/tops-asia-tour-2018.jpg
GEO:22.2884683;114.192803
X-APPLE-STRUCTURED-LOCATION;VALUE=URI;X-ADDRESS=MOM Livehouse B39 Seven Seas Shopping Centre 117-121 Kings Road North Point Hong Kong;X-APPLE-RADIUS=500;X-TITLE=B39 Seven Seas Shopping Centre\, 117-121 Kings Road:geo:114.192803,22.2884683
END:VEVENT
BEGIN:VEVENT
DTSTART;TZID=Asia/Hong_Kong:20180916T201500
DTEND;TZID=Asia/Hong_Kong:20180916T201500
DTSTAMP:20260421T195203
CREATED:19180716T124702Z
LAST-MODIFIED:20180724T162151Z
UID:10004285-1537128900-1537128900@www.bcmagazine.net
SUMMARY:Paula Tsui
DESCRIPTION:Paula Tsui\nDate: 8:15pm\, 7-9\, 14-16 September\, 2018\nVenue: HK Coliseum\nTickets: $880\, $580\, $380\, $180 from Urbtix
URL:https://www.bcmagazine.net/event/paula-tsui-16-09-2018/
LOCATION:HK Coliseum\, 9 Cheong Wan Road\, Hung Hom\, Hong Kong
CATEGORIES:2018,Cantopop,Concert,Music,Performing Arts
ATTACH;FMTTYPE=image/jpeg:https://www.bcmagazine.net/wp-content/uploads/1918/07/paula-tsui-2018.jpg
GEO:22.3014169;114.1820305
X-APPLE-STRUCTURED-LOCATION;VALUE=URI;X-ADDRESS=HK Coliseum 9 Cheong Wan Road Hung Hom Hong Kong;X-APPLE-RADIUS=500;X-TITLE=9 Cheong Wan Road:geo:114.1820305,22.3014169
END:VEVENT
END:VCALENDAR