BEGIN:VCALENDAR
VERSION:2.0
PRODID:-//bc magazine - ECPv6.15.20//NONSGML v1.0//EN
CALSCALE:GREGORIAN
METHOD:PUBLISH
X-ORIGINAL-URL:https://www.bcmagazine.net
X-WR-CALDESC:Events for bc magazine
REFRESH-INTERVAL;VALUE=DURATION:PT1H
X-Robots-Tag:noindex
X-PUBLISHED-TTL:PT1H
BEGIN:VTIMEZONE
TZID:Asia/Hong_Kong
BEGIN:STANDARD
TZOFFSETFROM:+0800
TZOFFSETTO:+0800
TZNAME:HKT
DTSTART:20170101T000000
END:STANDARD
END:VTIMEZONE
BEGIN:VEVENT
DTSTART;VALUE=DATE:20180928
DTEND;VALUE=DATE:20190101
DTSTAMP:20260421T162624
CREATED:19181002T010042Z
LAST-MODIFIED:20181004T091604Z
UID:10004464-1538092800-1546300799@www.bcmagazine.net
SUMMARY:Keith Haring Maze Macao
DESCRIPTION:Keith Haring Maze Macao\nDate: 28 September – 31 December\, 2018\nVenues: Cotai Expo\nTickets: $100 from CotaiTicketing
URL:https://www.bcmagazine.net/event/keith-haring-maze-macao-2018/
LOCATION:Cotai Expo\, The Venetian\, Taipa\, Macau
CATEGORIES:2018,Exhibition,Macau,Other,Performing Arts
ATTACH;FMTTYPE=image/jpeg:https://www.bcmagazine.net/wp-content/uploads/1918/10/Keith-Haring-Maze-Macao-2018.jpg
END:VEVENT
BEGIN:VEVENT
DTSTART;VALUE=DATE:20181210
DTEND;VALUE=DATE:20181217
DTSTAMP:20260421T162624
CREATED:20181203T044512Z
LAST-MODIFIED:20181203T095109Z
UID:10006552-1544400000-1545004799@www.bcmagazine.net
SUMMARY:What's Up Finland
DESCRIPTION:What’s Up Finland\nDate: 10-16 December\, 2018\nVenue: Various\nTickets: tbc\nMore info: www.finncham.com.hk/events
URL:https://www.bcmagazine.net/event/whats-up-finland-2018/
CATEGORIES:2018,Cultural Festival,Food,Lifestyle,Nightlife,Performing Arts
ATTACH;FMTTYPE=image/jpeg:https://www.bcmagazine.net/wp-content/uploads/2018/12/WhatsUppFinland.jpg
END:VEVENT
BEGIN:VEVENT
DTSTART;TZID=Asia/Hong_Kong:20181210T190000
DTEND;TZID=Asia/Hong_Kong:20181210T190000
DTSTAMP:20260421T162625
CREATED:20181019T145036Z
LAST-MODIFIED:20181021T150700Z
UID:10006538-1544468400-1544468400@www.bcmagazine.net
SUMMARY:The Professionals
DESCRIPTION:The Professionals\nSupport: The Tracey Lords\nDate: 7pm\, 10 December\, 2018\nVenue: Grappa’s Cellar\nTickets: $360 from Ticketflap
URL:https://www.bcmagazine.net/event/the-professionals-2018/
LOCATION:Grappa’s Cellar\, 1 Connaught Place\, Central\, Hong Kong
CATEGORIES:2018,Concert,Music,Performing Arts
ATTACH;FMTTYPE=image/jpeg:https://www.bcmagazine.net/wp-content/uploads/2018/10/The-Professionals2018.jpg
GEO:22.2830124;114.1591644
X-APPLE-STRUCTURED-LOCATION;VALUE=URI;X-ADDRESS=Grappa’s Cellar 1 Connaught Place Central Hong Kong;X-APPLE-RADIUS=500;X-TITLE=1 Connaught Place:geo:114.1591644,22.2830124
END:VEVENT
BEGIN:VEVENT
DTSTART;TZID=Asia/Hong_Kong:20181210T200000
DTEND;TZID=Asia/Hong_Kong:20181210T200000
DTSTAMP:20260421T162625
CREATED:19180903T083647Z
LAST-MODIFIED:20181029T072644Z
UID:10004433-1544472000-1544472000@www.bcmagazine.net
SUMMARY:緣 -yuan
DESCRIPTION:緣 -yuan – Acoustic Live Tour\nDate: 8pm\, 7 & 10 December\, 2018\nVenue: TTN\nTickets: $380\, $280 (Advance)
URL:https://www.bcmagazine.net/event/%e7%b7%a3-yuan-10-12-2018/
LOCATION:This Town Needs (TTN)\, 1/F Ocean One\, 6 Shung Shun Street\, Yau Tong\, Hong Kong
CATEGORIES:2018,Concert,Music,Performing Arts
ATTACH;FMTTYPE=image/jpeg:https://www.bcmagazine.net/wp-content/uploads/2018/09/yuan-2018.jpg
GEO:22.292861;114.23782
X-APPLE-STRUCTURED-LOCATION;VALUE=URI;X-ADDRESS=This Town Needs (TTN) 1/F Ocean One 6 Shung Shun Street Yau Tong Hong Kong;X-APPLE-RADIUS=500;X-TITLE=1/F Ocean One\, 6 Shung Shun Street:geo:114.23782,22.292861
END:VEVENT
BEGIN:VEVENT
DTSTART;TZID=Asia/Hong_Kong:20181211T200000
DTEND;TZID=Asia/Hong_Kong:20181211T200000
DTSTAMP:20260421T162625
CREATED:20181126T161954Z
LAST-MODIFIED:20181126T162406Z
UID:10006549-1544558400-1544558400@www.bcmagazine.net
SUMMARY:This Will Destroy You - Cancelled
DESCRIPTION:This Will Destroy You – Cancelled\nDate: 8pm\, 11 December\, 2018\nVenue: TTN\nTickets: $480\, $420 from Ticketflap – Refunds from the place you bought tickets
URL:https://www.bcmagazine.net/event/this-will-destroy-you-2018/
LOCATION:This Town Needs (TTN)\, 1/F Ocean One\, 6 Shung Shun Street\, Yau Tong\, Hong Kong
CATEGORIES:2018,Concert,Music,Performing Arts
ATTACH;FMTTYPE=image/jpeg:https://www.bcmagazine.net/wp-content/uploads/2018/07/this-will-destroy-you-2018.jpg
GEO:22.292861;114.23782
X-APPLE-STRUCTURED-LOCATION;VALUE=URI;X-ADDRESS=This Town Needs (TTN) 1/F Ocean One 6 Shung Shun Street Yau Tong Hong Kong;X-APPLE-RADIUS=500;X-TITLE=1/F Ocean One\, 6 Shung Shun Street:geo:114.23782,22.292861
END:VEVENT
BEGIN:VEVENT
DTSTART;TZID=Asia/Hong_Kong:20181212T200000
DTEND;TZID=Asia/Hong_Kong:20181212T200000
DTSTAMP:20260421T162625
CREATED:19170909T021037Z
LAST-MODIFIED:20181127T002904Z
UID:10003412-1544644800-1544644800@www.bcmagazine.net
SUMMARY:Peel Street Poetry
DESCRIPTION:Peel Street Poetry is an open mic poetry night at Social Room. It runs every Wednesdays of the month except the first and last. The environment is friendly and they love new performers\, so come share your poetry or just listen along to some of Hong Kong’s sharpest poetic talents. \nPeel Street Poetry Open Mic\nDate: 2nd\, 3rd (and 4th) Wednesdays of the month\nVenue: Social Room\nTickets: Free\nMore info:\nwww.peelstreetpoetry.com
URL:https://www.bcmagazine.net/event/peel-street-poetry/2018-12-12/
LOCATION:Social Room\, 74-78 Stanley Street \, Central\, Hong Kong
CATEGORIES:2018,2019,Free,Performing Arts,Poetry
GEO:22.2834184;114.1544925
X-APPLE-STRUCTURED-LOCATION;VALUE=URI;X-ADDRESS=Social Room 74-78 Stanley Street  Central Hong Kong;X-APPLE-RADIUS=500;X-TITLE=74-78 Stanley Street:geo:114.1544925,22.2834184
END:VEVENT
BEGIN:VEVENT
DTSTART;VALUE=DATE:20181214
DTEND;VALUE=DATE:20181217
DTSTAMP:20260421T162625
CREATED:19181020T145036Z
LAST-MODIFIED:20181103T074947Z
UID:10004501-1544745600-1545004799@www.bcmagazine.net
SUMMARY:Toy Soul
DESCRIPTION:Toy Soul\nDate: 14-16 December\, 2018\nVenue: Kitec\, Star Hall\nTickets: $30
URL:https://www.bcmagazine.net/event/toy-soul-2018/
LOCATION:KITEC\, Star Hall\, KITEC\, 1 Trademart Drive\, Kowloon Bay\, Hong Kong
CATEGORIES:2018,Comedy,Exhibition,Lifestyle,Performing Arts
GEO:22.3239575;114.2037608
X-APPLE-STRUCTURED-LOCATION;VALUE=URI;X-ADDRESS=KITEC Star Hall KITEC 1 Trademart Drive Kowloon Bay Hong Kong;X-APPLE-RADIUS=500;X-TITLE=KITEC\, 1 Trademart Drive:geo:114.2037608,22.3239575
END:VEVENT
BEGIN:VEVENT
DTSTART;VALUE=DATE:20181214
DTEND;VALUE=DATE:20190114
DTSTAMP:20260421T162625
CREATED:19181127T072433Z
LAST-MODIFIED:20181130T093217Z
UID:10004587-1544745600-1547423999@www.bcmagazine.net
SUMMARY:JCCAC Festival 2018 - Factory Forward
DESCRIPTION:JCCAC Festival 2018 – Factory Forward\nDate: 14 December\, 2018 – 13 January\, 2019\nVenue: JCCAC Arts Village\nTickets: various\nMore info: www.jccac.org.hk
URL:https://www.bcmagazine.net/event/jccac-festival-2018-factory-forward/
LOCATION:JCCAC Arts Village\, 30 Pak Tin Street\, Shek Kip Mei\, Hong Kong
CATEGORIES:2018,2019,Art Gallery,Cultural Festival,Dance,Exhibition,Free,Market,Music,Other,Performing Arts,talk,Theatre,Workshop
ATTACH;FMTTYPE=image/jpeg:https://www.bcmagazine.net/wp-content/uploads/1918/11/JCCAC-Festival-2018.jpg
END:VEVENT
BEGIN:VEVENT
DTSTART;VALUE=DATE:20181214
DTEND;VALUE=DATE:20190218
DTSTAMP:20260421T162625
CREATED:19181120T072433Z
LAST-MODIFIED:20190129T164755Z
UID:10004583-1544745600-1550447999@www.bcmagazine.net
SUMMARY:AIA Carnival
DESCRIPTION:AIA Carnival + The Great Circus of Europe\nDate: 14 December\, 2018 – 17 February\, 2019\nVenue: Central Harbourfront\nTickets: $400\, $300\, $130\, $50
URL:https://www.bcmagazine.net/event/carnival-2018/
LOCATION:Central Harbourfront\,  9 Lung Wo Road\, Central\, Hong Kong
CATEGORIES:2018,2019,Music,Nightlife,Other,Performing Arts
GEO:22.2826223;114.164346
X-APPLE-STRUCTURED-LOCATION;VALUE=URI;X-ADDRESS=Central Harbourfront  9 Lung Wo Road Central Hong Kong;X-APPLE-RADIUS=500;X-TITLE=9 Lung Wo Road:geo:114.164346,22.2826223
END:VEVENT
BEGIN:VEVENT
DTSTART;TZID=Asia/Hong_Kong:20181214T193000
DTEND;TZID=Asia/Hong_Kong:20181214T193000
DTSTAMP:20260421T162625
CREATED:19180528T020834Z
LAST-MODIFIED:20180725T122606Z
UID:10003998-1544815800-1544815800@www.bcmagazine.net
SUMMARY:HK Ballet
DESCRIPTION:HK Ballet – The Nutcracker\nDate: 14-16\, 19-23\, 25-26 December\, 2018\nVenue: HK Cultural Centre\, Grand Theatre\nTickets: $1\,000\, $680\, $480\, $320\, $180 from Urbtix
URL:https://www.bcmagazine.net/event/hk-ballet-nutcracker-14-12-2018/
LOCATION:HK Cultural Centre\, Grand Theatre\,\, 10 Salisbury Road\, Tsim Sha Tsui\, Hong Kong
CATEGORIES:2018,Ballet,Dance,Performing Arts
GEO:22.294318;114.171708
X-APPLE-STRUCTURED-LOCATION;VALUE=URI;X-ADDRESS=HK Cultural Centre Grand Theatre 10 Salisbury Road Tsim Sha Tsui Hong Kong;X-APPLE-RADIUS=500;X-TITLE=10 Salisbury Road:geo:114.171708,22.294318
END:VEVENT
BEGIN:VEVENT
DTSTART;TZID=Asia/Hong_Kong:20181214T200000
DTEND;TZID=Asia/Hong_Kong:20181214T200000
DTSTAMP:20260421T162625
CREATED:19181002T010042Z
LAST-MODIFIED:20181004T092311Z
UID:10004466-1544817600-1544817600@www.bcmagazine.net
SUMMARY:The Secret Musical
DESCRIPTION:The Secret Musical\nDate: 14-16 December\, 2018\nVenues: The Venetian Theatre\nTickets: $880\, $680\, $480\, $380 from CotaiTicketing
URL:https://www.bcmagazine.net/event/the-secret-musical-14-12-2018/
LOCATION:The Venetian Theatre\, Venetian Macao\, Taipa\, Macau
CATEGORIES:2018,Concert,Macau,Music,Musical,Performing Arts
ATTACH;FMTTYPE=image/jpeg:https://www.bcmagazine.net/wp-content/uploads/1918/10/secret2018-jay-chou-macao.jpg
GEO:22.1483528;113.5602019
X-APPLE-STRUCTURED-LOCATION;VALUE=URI;X-ADDRESS=The Venetian Theatre Venetian Macao Taipa Macau;X-APPLE-RADIUS=500;X-TITLE=Venetian Macao:geo:113.5602019,22.1483528
END:VEVENT
BEGIN:VEVENT
DTSTART;TZID=Asia/Hong_Kong:20181214T200000
DTEND;TZID=Asia/Hong_Kong:20181214T200000
DTSTAMP:20260421T162625
CREATED:19181002T010042Z
LAST-MODIFIED:20181004T090116Z
UID:10004458-1544817600-1544817600@www.bcmagazine.net
SUMMARY:Jay Chou
DESCRIPTION:Jay Chou The Invincible Concert Tour 2\nDate: 14-17 December\, 2018\nVenues: Cotai Arena\nTickets: $2\,380\, $1\,680\, $1\,280\, $880\, $580 from CotaiTicketing
URL:https://www.bcmagazine.net/event/jay-chou-macau-14-12-2018/
LOCATION:Cotai Arena\, Venetian Macao\, Macau
CATEGORIES:2018,Concert,Macau,Music,Performing Arts
ATTACH;FMTTYPE=image/jpeg:https://www.bcmagazine.net/wp-content/uploads/1918/10/Jay-Chou-The-Invincible-Concert-Tour-2-.jpg
END:VEVENT
BEGIN:VEVENT
DTSTART;VALUE=DATE:20181215
DTEND;VALUE=DATE:20181217
DTSTAMP:20260421T162625
CREATED:19170811T054537Z
LAST-MODIFIED:20180824T021549Z
UID:10003249-1544832000-1545004799@www.bcmagazine.net
SUMMARY:Creamfields
DESCRIPTION:Creamfields HK\nDate: 15-16 December\, 2018\nVenue: tbc\nTickets: tbc
URL:https://www.bcmagazine.net/event/creamfields-2018/
CATEGORIES:2018,Concert,DJ,Music,Performing Arts
ATTACH;FMTTYPE=image/jpeg:https://www.bcmagazine.net/wp-content/uploads/1917/08/Creamfields-hk-2018-1.jpg
END:VEVENT
BEGIN:VEVENT
DTSTART;TZID=Asia/Hong_Kong:20181215T193000
DTEND;TZID=Asia/Hong_Kong:20181215T193000
DTSTAMP:20260421T162625
CREATED:19180528T020834Z
LAST-MODIFIED:20180725T122724Z
UID:10004034-1544902200-1544902200@www.bcmagazine.net
SUMMARY:HK Ballet
DESCRIPTION:HK Ballet – The Nutcracker\nDate: 14-16\, 19-23\, 25-26 December\, 2018\nVenue: HK Cultural Centre\, Grand Theatre\nTickets: $1\,000\, $680\, $480\, $320\, $180 from Urbtix
URL:https://www.bcmagazine.net/event/hk-ballet-nutcracker-15-12-2018/
LOCATION:HK Cultural Centre\, Grand Theatre\,\, 10 Salisbury Road\, Tsim Sha Tsui\, Hong Kong
CATEGORIES:2018,Ballet,Dance,Performing Arts
GEO:22.294318;114.171708
X-APPLE-STRUCTURED-LOCATION;VALUE=URI;X-ADDRESS=HK Cultural Centre Grand Theatre 10 Salisbury Road Tsim Sha Tsui Hong Kong;X-APPLE-RADIUS=500;X-TITLE=10 Salisbury Road:geo:114.171708,22.294318
END:VEVENT
BEGIN:VEVENT
DTSTART;TZID=Asia/Hong_Kong:20181215T193000
DTEND;TZID=Asia/Hong_Kong:20181215T193000
DTSTAMP:20260421T162625
CREATED:19181115T145036Z
LAST-MODIFIED:20181122T143923Z
UID:10004582-1544902200-1544902200@www.bcmagazine.net
SUMMARY:Tempalay
DESCRIPTION:Tempalay\nDate: 7:30pm\, 15 December\, 2018\nVenue: This Town Needs (TTN)\nTickets: $420\, $380 (Advance) from Ticketflap
URL:https://www.bcmagazine.net/event/tempalay-2018/
LOCATION:This Town Needs (TTN)\, 1/F Ocean One\, 6 Shung Shun Street\, Yau Tong\, Hong Kong
CATEGORIES:2018,Concert,Music,Performing Arts
ATTACH;FMTTYPE=image/jpeg:https://www.bcmagazine.net/wp-content/uploads/1918/11/Tempalay-hk-2018.jpg
GEO:22.292861;114.23782
X-APPLE-STRUCTURED-LOCATION;VALUE=URI;X-ADDRESS=This Town Needs (TTN) 1/F Ocean One 6 Shung Shun Street Yau Tong Hong Kong;X-APPLE-RADIUS=500;X-TITLE=1/F Ocean One\, 6 Shung Shun Street:geo:114.23782,22.292861
END:VEVENT
BEGIN:VEVENT
DTSTART;TZID=Asia/Hong_Kong:20181215T200000
DTEND;TZID=Asia/Hong_Kong:20181215T200000
DTSTAMP:20260421T162625
CREATED:19180805T120338Z
LAST-MODIFIED:20180805T125109Z
UID:10004408-1544904000-1544904000@www.bcmagazine.net
SUMMARY:HKCO4U
DESCRIPTION:HKCO4U\nHK Chinese Orchestra\nDate: 8pm\, 15 December\, 2018\nVenue: HKCO Recital Hall\nTickets: $250 from Urbtix
URL:https://www.bcmagazine.net/event/hkco4u/
LOCATION:HKCO Recital Hall\, Central\, Hong Kong
CATEGORIES:2018,Concert,Music,Performing Arts
END:VEVENT
BEGIN:VEVENT
DTSTART;TZID=Asia/Hong_Kong:20181215T200000
DTEND;TZID=Asia/Hong_Kong:20181215T200000
DTSTAMP:20260421T162625
CREATED:19181002T010042Z
LAST-MODIFIED:20181004T092417Z
UID:10004467-1544904000-1544904000@www.bcmagazine.net
SUMMARY:The Secret Musical
DESCRIPTION:The Secret Musical\nDate: 14-16 December\, 2018\nVenues: The Venetian Theatre\nTickets: $880\, $680\, $480\, $380 from CotaiTicketing
URL:https://www.bcmagazine.net/event/the-secret-musical-15-12-2018/
LOCATION:The Venetian Theatre\, Venetian Macao\, Taipa\, Macau
CATEGORIES:2018,Concert,Macau,Music,Musical,Performing Arts
ATTACH;FMTTYPE=image/jpeg:https://www.bcmagazine.net/wp-content/uploads/1918/10/secret2018-jay-chou-macao.jpg
GEO:22.1483528;113.5602019
X-APPLE-STRUCTURED-LOCATION;VALUE=URI;X-ADDRESS=The Venetian Theatre Venetian Macao Taipa Macau;X-APPLE-RADIUS=500;X-TITLE=Venetian Macao:geo:113.5602019,22.1483528
END:VEVENT
BEGIN:VEVENT
DTSTART;TZID=Asia/Hong_Kong:20181215T200000
DTEND;TZID=Asia/Hong_Kong:20181215T200000
DTSTAMP:20260421T162625
CREATED:19181002T010042Z
LAST-MODIFIED:20181004T090341Z
UID:10004459-1544904000-1544904000@www.bcmagazine.net
SUMMARY:Jay Chou
DESCRIPTION:Jay Chou The Invincible Concert Tour 2\nDate: 14-17 December\, 2018\nVenues: Cotai Arena\nTickets: $2\,380\, $1\,680\, $1\,280\, $880\, $580 from CotaiTicketing
URL:https://www.bcmagazine.net/event/jay-chou-macau-15-12-2018/
LOCATION:Cotai Arena\, Venetian Macao\, Macau
CATEGORIES:2018,Concert,Macau,Music,Performing Arts
ATTACH;FMTTYPE=image/jpeg:https://www.bcmagazine.net/wp-content/uploads/1918/10/Jay-Chou-The-Invincible-Concert-Tour-2-.jpg
END:VEVENT
BEGIN:VEVENT
DTSTART;TZID=Asia/Hong_Kong:20181215T200000
DTEND;TZID=Asia/Hong_Kong:20181215T200000
DTSTAMP:20260421T162625
CREATED:19181020T145036Z
LAST-MODIFIED:20181029T074518Z
UID:10004495-1544904000-1544904000@www.bcmagazine.net
SUMMARY:Shangela Is Shook
DESCRIPTION:Shangela Is Shook\nDate: 8pm\, 15 December\, 2018\nVenue: Kitec\, Music Zone@E-Max\nTickets: $1\,188\, $788\, $688\, $488 from Ticketflap
URL:https://www.bcmagazine.net/event/shangela-is-shook-2018/
LOCATION:KITEC\, Music Zone@E-Max\, KITEC\,‎ 1 Trademart Drive\, Kowloon Bay\, Hong Kong
CATEGORIES:2018,Comedy,Performing Arts
ATTACH;FMTTYPE=image/jpeg:https://www.bcmagazine.net/wp-content/uploads/1918/10/Shangela-Is-Shook.jpg
GEO:22.3239575;114.2037608
X-APPLE-STRUCTURED-LOCATION;VALUE=URI;X-ADDRESS=KITEC Music Zone@E-Max KITEC‎ 1 Trademart Drive Kowloon Bay Hong Kong;X-APPLE-RADIUS=500;X-TITLE=KITEC\,‎ 1 Trademart Drive:geo:114.2037608,22.3239575
END:VEVENT
BEGIN:VEVENT
DTSTART;TZID=Asia/Hong_Kong:20181216T150000
DTEND;TZID=Asia/Hong_Kong:20181216T150000
DTSTAMP:20260421T162625
CREATED:20180731T011954Z
LAST-MODIFIED:20180731T082437Z
UID:10006518-1544972400-1544972400@www.bcmagazine.net
SUMMARY:Macao International Parade
DESCRIPTION:The 2018 Macao International Parade\, in celebration of the 19th anniversary of Macao’s Handover to China\, will be held on Sunday 16 December from 3pm to 7pm. The parade will start at the Ruins of St. Paul’s and finish at Sai Van Lake Square. \nMacao International Parade\nDate: 3pm\, 16 December\, 2018\nVenue: Macau\nTickets: free
URL:https://www.bcmagazine.net/event/macao-international-parade-2018/
LOCATION:Macau\, Macau
CATEGORIES:2018,Cultural Festival,Free,Lifestyle,Macau,Music,Performing Arts
ATTACH;FMTTYPE=image/jpeg:https://www.bcmagazine.net/wp-content/uploads/2018/07/Macao-International-Parade-2018.jpg
GEO:22.198745;113.543873
END:VEVENT
BEGIN:VEVENT
DTSTART;TZID=Asia/Hong_Kong:20181216T190000
DTEND;TZID=Asia/Hong_Kong:20181216T190000
DTSTAMP:20260421T162625
CREATED:19181020T145036Z
LAST-MODIFIED:20181103T081657Z
UID:10004507-1544986800-1544986800@www.bcmagazine.net
SUMMARY:Shiena Nishizawa
DESCRIPTION:Shiena Nishizawa – Naked Soul\nDate: 7pm\, 16 December\, 2018\nVenue: Kitec\, Music Zone@E-Max\nTickets: $790\, $590 from Cityline
URL:https://www.bcmagazine.net/event/shiena-nishizawa-2018/
LOCATION:KITEC\, Music Zone@E-Max\, KITEC\,‎ 1 Trademart Drive\, Kowloon Bay\, Hong Kong
CATEGORIES:2018,Concert,Music,Performing Arts
GEO:22.3239575;114.2037608
X-APPLE-STRUCTURED-LOCATION;VALUE=URI;X-ADDRESS=KITEC Music Zone@E-Max KITEC‎ 1 Trademart Drive Kowloon Bay Hong Kong;X-APPLE-RADIUS=500;X-TITLE=KITEC\,‎ 1 Trademart Drive:geo:114.2037608,22.3239575
END:VEVENT
BEGIN:VEVENT
DTSTART;TZID=Asia/Hong_Kong:20181216T190000
DTEND;TZID=Asia/Hong_Kong:20181216T200000
DTSTAMP:20260421T162625
CREATED:19181002T010042Z
LAST-MODIFIED:20181004T090349Z
UID:10004460-1544986800-1544990400@www.bcmagazine.net
SUMMARY:Jay Chou
DESCRIPTION:Jay Chou The Invincible Concert Tour 2\nDate: 14-17 December\, 2018\nVenues: Cotai Arena\nTickets: $2\,380\, $1\,680\, $1\,280\, $880\, $580 from CotaiTicketing
URL:https://www.bcmagazine.net/event/jay-chou-macau-16-12-2018/
LOCATION:Cotai Arena\, Venetian Macao\, Macau
CATEGORIES:2018,Concert,Macau,Music,Performing Arts
ATTACH;FMTTYPE=image/jpeg:https://www.bcmagazine.net/wp-content/uploads/1918/10/Jay-Chou-The-Invincible-Concert-Tour-2-.jpg
END:VEVENT
BEGIN:VEVENT
DTSTART;TZID=Asia/Hong_Kong:20181216T193000
DTEND;TZID=Asia/Hong_Kong:20181216T193000
DTSTAMP:20260421T162625
CREATED:19180528T020834Z
LAST-MODIFIED:20180725T122727Z
UID:10004035-1544988600-1544988600@www.bcmagazine.net
SUMMARY:HK Ballet
DESCRIPTION:HK Ballet – The Nutcracker\nDate: 14-16\, 19-23\, 25-26 December\, 2018\nVenue: HK Cultural Centre\, Grand Theatre\nTickets: $1\,000\, $680\, $480\, $320\, $180 from Urbtix
URL:https://www.bcmagazine.net/event/hk-ballet-nutcracker-16-12-2018/
LOCATION:HK Cultural Centre\, Grand Theatre\,\, 10 Salisbury Road\, Tsim Sha Tsui\, Hong Kong
CATEGORIES:2018,Ballet,Dance,Performing Arts
GEO:22.294318;114.171708
X-APPLE-STRUCTURED-LOCATION;VALUE=URI;X-ADDRESS=HK Cultural Centre Grand Theatre 10 Salisbury Road Tsim Sha Tsui Hong Kong;X-APPLE-RADIUS=500;X-TITLE=10 Salisbury Road:geo:114.171708,22.294318
END:VEVENT
BEGIN:VEVENT
DTSTART;TZID=Asia/Hong_Kong:20181216T200000
DTEND;TZID=Asia/Hong_Kong:20181216T200000
DTSTAMP:20260421T162625
CREATED:19181002T010042Z
LAST-MODIFIED:20181004T092412Z
UID:10004468-1544990400-1544990400@www.bcmagazine.net
SUMMARY:The Secret Musical
DESCRIPTION:The Secret Musical\nDate: 14-16 December\, 2018\nVenues: The Venetian Theatre\nTickets: $880\, $680\, $480\, $380 from CotaiTicketing
URL:https://www.bcmagazine.net/event/the-secret-musical-16-12-2018/
LOCATION:The Venetian Theatre\, Venetian Macao\, Taipa\, Macau
CATEGORIES:2018,Concert,Macau,Music,Musical,Performing Arts
ATTACH;FMTTYPE=image/jpeg:https://www.bcmagazine.net/wp-content/uploads/1918/10/secret2018-jay-chou-macao.jpg
GEO:22.1483528;113.5602019
X-APPLE-STRUCTURED-LOCATION;VALUE=URI;X-ADDRESS=The Venetian Theatre Venetian Macao Taipa Macau;X-APPLE-RADIUS=500;X-TITLE=Venetian Macao:geo:113.5602019,22.1483528
END:VEVENT
BEGIN:VEVENT
DTSTART;TZID=Asia/Hong_Kong:20181216T200000
DTEND;TZID=Asia/Hong_Kong:20181216T200000
DTSTAMP:20260421T162625
CREATED:19181020T145036Z
LAST-MODIFIED:20181022T151547Z
UID:10004490-1544990400-1544990400@www.bcmagazine.net
SUMMARY:Nabowa
DESCRIPTION:Nabowa\nDate: 8pm\, 16 December\, 2018\nVenue: TTN\nTickets: $380\, $280 from Ticketflap
URL:https://www.bcmagazine.net/event/nabowa-2018/
LOCATION:This Town Needs (TTN)\, 1/F Ocean One\, 6 Shung Shun Street\, Yau Tong\, Hong Kong
CATEGORIES:2018,Concert,Music,Performing Arts
ATTACH;FMTTYPE=image/jpeg:https://www.bcmagazine.net/wp-content/uploads/1918/10/nabowa-2018.jpg
GEO:22.292861;114.23782
X-APPLE-STRUCTURED-LOCATION;VALUE=URI;X-ADDRESS=This Town Needs (TTN) 1/F Ocean One 6 Shung Shun Street Yau Tong Hong Kong;X-APPLE-RADIUS=500;X-TITLE=1/F Ocean One\, 6 Shung Shun Street:geo:114.23782,22.292861
END:VEVENT
END:VCALENDAR