BEGIN:VCALENDAR
VERSION:2.0
PRODID:-//bc magazine - ECPv6.15.20//NONSGML v1.0//EN
CALSCALE:GREGORIAN
METHOD:PUBLISH
X-WR-CALNAME:bc magazine
X-ORIGINAL-URL:https://www.bcmagazine.net
X-WR-CALDESC:Events for bc magazine
REFRESH-INTERVAL;VALUE=DURATION:PT1H
X-Robots-Tag:noindex
X-PUBLISHED-TTL:PT1H
BEGIN:VTIMEZONE
TZID:Asia/Hong_Kong
BEGIN:STANDARD
TZOFFSETFROM:+0800
TZOFFSETTO:+0800
TZNAME:HKT
DTSTART:20170101T000000
END:STANDARD
END:VTIMEZONE
BEGIN:VEVENT
DTSTART;VALUE=DATE:20181214
DTEND;VALUE=DATE:20190114
DTSTAMP:20260420T071707
CREATED:19181127T072433Z
LAST-MODIFIED:20181130T093217Z
UID:10004587-1544745600-1547423999@www.bcmagazine.net
SUMMARY:JCCAC Festival 2018 - Factory Forward
DESCRIPTION:JCCAC Festival 2018 – Factory Forward\nDate: 14 December\, 2018 – 13 January\, 2019\nVenue: JCCAC Arts Village\nTickets: various\nMore info: www.jccac.org.hk
URL:https://www.bcmagazine.net/event/jccac-festival-2018-factory-forward/
LOCATION:JCCAC Arts Village\, 30 Pak Tin Street\, Shek Kip Mei\, Hong Kong
CATEGORIES:2018,2019,Art Gallery,Cultural Festival,Dance,Exhibition,Free,Market,Music,Other,Performing Arts,talk,Theatre,Workshop
ATTACH;FMTTYPE=image/jpeg:https://www.bcmagazine.net/wp-content/uploads/1918/11/JCCAC-Festival-2018.jpg
END:VEVENT
BEGIN:VEVENT
DTSTART;VALUE=DATE:20181214
DTEND;VALUE=DATE:20190218
DTSTAMP:20260420T071707
CREATED:19181120T072433Z
LAST-MODIFIED:20190129T164755Z
UID:10004583-1544745600-1550447999@www.bcmagazine.net
SUMMARY:AIA Carnival
DESCRIPTION:AIA Carnival + The Great Circus of Europe\nDate: 14 December\, 2018 – 17 February\, 2019\nVenue: Central Harbourfront\nTickets: $400\, $300\, $130\, $50
URL:https://www.bcmagazine.net/event/carnival-2018/
LOCATION:Central Harbourfront\,  9 Lung Wo Road\, Central\, Hong Kong
CATEGORIES:2018,2019,Music,Nightlife,Other,Performing Arts
GEO:22.2826223;114.164346
X-APPLE-STRUCTURED-LOCATION;VALUE=URI;X-ADDRESS=Central Harbourfront  9 Lung Wo Road Central Hong Kong;X-APPLE-RADIUS=500;X-TITLE=9 Lung Wo Road:geo:114.164346,22.2826223
END:VEVENT
BEGIN:VEVENT
DTSTART;TZID=Asia/Hong_Kong:20190109T200000
DTEND;TZID=Asia/Hong_Kong:20190109T200000
DTSTAMP:20260420T071707
CREATED:19170909T021037Z
LAST-MODIFIED:20181127T002904Z
UID:10003413-1547064000-1547064000@www.bcmagazine.net
SUMMARY:Peel Street Poetry
DESCRIPTION:Peel Street Poetry is an open mic poetry night at Social Room. It runs every Wednesdays of the month except the first and last. The environment is friendly and they love new performers\, so come share your poetry or just listen along to some of Hong Kong’s sharpest poetic talents. \nPeel Street Poetry Open Mic\nDate: 2nd\, 3rd (and 4th) Wednesdays of the month\nVenue: Social Room\nTickets: Free\nMore info:\nwww.peelstreetpoetry.com
URL:https://www.bcmagazine.net/event/peel-street-poetry/2019-01-09/
LOCATION:Social Room\, 74-78 Stanley Street \, Central\, Hong Kong
CATEGORIES:2018,2019,Free,Performing Arts,Poetry
GEO:22.2834184;114.1544925
X-APPLE-STRUCTURED-LOCATION;VALUE=URI;X-ADDRESS=Social Room 74-78 Stanley Street  Central Hong Kong;X-APPLE-RADIUS=500;X-TITLE=74-78 Stanley Street:geo:114.1544925,22.2834184
END:VEVENT
BEGIN:VEVENT
DTSTART;TZID=Asia/Hong_Kong:20190111T200000
DTEND;TZID=Asia/Hong_Kong:20190111T200000
DTSTAMP:20260420T071707
CREATED:19181023T145036Z
LAST-MODIFIED:20181103T085038Z
UID:10004512-1547236800-1547236800@www.bcmagazine.net
SUMMARY:My Very Short Marriage
DESCRIPTION:My Very Short Marriage\nDate: 11-13\, 15-20\, 22-27 January\, 2019\nVenue: The Hong Kong Polytechnic University\, Jockey Club Auditorium\, \nTickets: $1\,280\, $780\, $580\, $480\, $280 from Cityline\nMore info:\n11-13\, 15-20\, 22-27 Jan – 8pm\n13\, 20 Jan – 3pm
URL:https://www.bcmagazine.net/event/my-very-short-marriage-11-01-2019/
LOCATION:Hong Kong Polytechnic University\, Jockey Club Auditorium\, Hong Kong
CATEGORIES:2019,Cantonese drama,Performing Arts,Theatre
ATTACH;FMTTYPE=image/jpeg:https://www.bcmagazine.net/wp-content/uploads/1918/10/My-Very-Short-Marriage.jpg
GEO:22.396428;114.109497
END:VEVENT
BEGIN:VEVENT
DTSTART;TZID=Asia/Hong_Kong:20190111T201500
DTEND;TZID=Asia/Hong_Kong:20190111T201500
DTSTAMP:20260420T071707
CREATED:19181213T044512Z
LAST-MODIFIED:20190118T091440Z
UID:10004627-1547237700-1547237700@www.bcmagazine.net
SUMMARY:Jacky Cheung
DESCRIPTION:Jacky Cheung A Classic Tour – Finale\nDate: 8:15pm\, 11-13\, 15-17\, 19-21\, 23-25\, 27-29 January\, 2019\nVenue: HK Coliseum\nTickets: $980\, $680\, $380 from Urbtix
URL:https://www.bcmagazine.net/event/jacky-cheung-11-01-2019/
LOCATION:HK Coliseum\, 9 Cheong Wan Road\, Hung Hom\, Hong Kong
CATEGORIES:2019,Cantopop,Concert,Music,Performing Arts
ATTACH;FMTTYPE=image/jpeg:https://www.bcmagazine.net/wp-content/uploads/1918/12/Jacky-Cheung-A-Classic-Tour.jpg
GEO:22.3014169;114.1820305
X-APPLE-STRUCTURED-LOCATION;VALUE=URI;X-ADDRESS=HK Coliseum 9 Cheong Wan Road Hung Hom Hong Kong;X-APPLE-RADIUS=500;X-TITLE=9 Cheong Wan Road:geo:114.1820305,22.3014169
END:VEVENT
BEGIN:VEVENT
DTSTART;TZID=Asia/Hong_Kong:20190112T200000
DTEND;TZID=Asia/Hong_Kong:20190112T200000
DTSTAMP:20260420T071707
CREATED:19181023T145036Z
LAST-MODIFIED:20181103T085649Z
UID:10004513-1547323200-1547323200@www.bcmagazine.net
SUMMARY:My Very Short Marriage
DESCRIPTION:My Very Short Marriage\nDate: 11-13\, 15-20\, 22-27 January\, 2019\nVenue: The Hong Kong Polytechnic University\, Jockey Club Auditorium\, \nTickets: $1\,280\, $780\, $580\, $480\, $280 from Cityline\nMore info:\n11-13\, 15-20\, 22-27 Jan – 8pm\n13\, 20 Jan – 3pm
URL:https://www.bcmagazine.net/event/my-very-short-marriage-12-01-2019/
LOCATION:Hong Kong Polytechnic University\, Jockey Club Auditorium\, Hong Kong
CATEGORIES:2019,Cantonese drama,Performing Arts,Theatre
ATTACH;FMTTYPE=image/jpeg:https://www.bcmagazine.net/wp-content/uploads/1918/10/My-Very-Short-Marriage.jpg
GEO:22.396428;114.109497
END:VEVENT
BEGIN:VEVENT
DTSTART;TZID=Asia/Hong_Kong:20190112T201500
DTEND;TZID=Asia/Hong_Kong:20190112T201500
DTSTAMP:20260420T071707
CREATED:19181213T044512Z
LAST-MODIFIED:20190118T091738Z
UID:10004628-1547324100-1547324100@www.bcmagazine.net
SUMMARY:Jacky Cheung
DESCRIPTION:Jacky Cheung A Classic Tour – Finale\nDate: 8:15pm\, 11-13\, 15-17\, 19-21\, 23-25\, 27-29 January\, 2019\nVenue: HK Coliseum\nTickets: $980\, $680\, $380 from Urbtix
URL:https://www.bcmagazine.net/event/jacky-cheung-12-01-2019/
LOCATION:HK Coliseum\, 9 Cheong Wan Road\, Hung Hom\, Hong Kong
CATEGORIES:2019,Cantopop,Concert,Music,Performing Arts
ATTACH;FMTTYPE=image/jpeg:https://www.bcmagazine.net/wp-content/uploads/1918/12/Jacky-Cheung-A-Classic-Tour.jpg
GEO:22.3014169;114.1820305
X-APPLE-STRUCTURED-LOCATION;VALUE=URI;X-ADDRESS=HK Coliseum 9 Cheong Wan Road Hung Hom Hong Kong;X-APPLE-RADIUS=500;X-TITLE=9 Cheong Wan Road:geo:114.1820305,22.3014169
END:VEVENT
BEGIN:VEVENT
DTSTART;VALUE=DATE:20190113
DTEND;VALUE=DATE:20190114
DTSTAMP:20260420T071707
CREATED:19180208T065813Z
LAST-MODIFIED:20180824T014949Z
UID:10003775-1547337600-1547423999@www.bcmagazine.net
SUMMARY:Freespace Happening
DESCRIPTION:Freespace Happening\nDate: 2pm\, 13 January\, 2019\nVenue: Nursery Park\, West Kowloon Cultural District\nTickets: Free
URL:https://www.bcmagazine.net/event/freespace-happening-13-01-2019/
LOCATION:West Kowloon Cultural District\, Nursery Park\, West Kowloon Cultural District\, West Kowloon\, Hong Kong
CATEGORIES:2019,Art Gallery,Concert,Exhibition,Free,Music,Performing Arts
GEO:22.2989668;114.1551898
X-APPLE-STRUCTURED-LOCATION;VALUE=URI;X-ADDRESS=West Kowloon Cultural District Nursery Park West Kowloon Cultural District West Kowloon Hong Kong;X-APPLE-RADIUS=500;X-TITLE=West Kowloon Cultural District:geo:114.1551898,22.2989668
END:VEVENT
BEGIN:VEVENT
DTSTART;TZID=Asia/Hong_Kong:20190113T200000
DTEND;TZID=Asia/Hong_Kong:20190113T200000
DTSTAMP:20260420T071707
CREATED:19181023T145036Z
LAST-MODIFIED:20181103T085718Z
UID:10004514-1547409600-1547409600@www.bcmagazine.net
SUMMARY:My Very Short Marriage
DESCRIPTION:My Very Short Marriage\nDate: 11-13\, 15-20\, 22-27 January\, 2019\nVenue: The Hong Kong Polytechnic University\, Jockey Club Auditorium\, \nTickets: $1\,280\, $780\, $580\, $480\, $280 from Cityline\nMore info:\n11-13\, 15-20\, 22-27 Jan – 8pm\n13\, 20 Jan – 3pm
URL:https://www.bcmagazine.net/event/my-very-short-marriage-13-01-2019/
LOCATION:Hong Kong Polytechnic University\, Jockey Club Auditorium\, Hong Kong
CATEGORIES:2019,Cantonese drama,Performing Arts,Theatre
ATTACH;FMTTYPE=image/jpeg:https://www.bcmagazine.net/wp-content/uploads/1918/10/My-Very-Short-Marriage.jpg
GEO:22.396428;114.109497
END:VEVENT
BEGIN:VEVENT
DTSTART;TZID=Asia/Hong_Kong:20190113T201500
DTEND;TZID=Asia/Hong_Kong:20190113T201500
DTSTAMP:20260420T071707
CREATED:19181213T044512Z
LAST-MODIFIED:20190118T091751Z
UID:10004629-1547410500-1547410500@www.bcmagazine.net
SUMMARY:Jacky Cheung
DESCRIPTION:Jacky Cheung A Classic Tour – Finale\nDate: 8:15pm\, 11-13\, 15-17\, 19-21\, 23-25\, 27-29 January\, 2019\nVenue: HK Coliseum\nTickets: $980\, $680\, $380 from Urbtix
URL:https://www.bcmagazine.net/event/jacky-cheung-13-01-2019/
LOCATION:HK Coliseum\, 9 Cheong Wan Road\, Hung Hom\, Hong Kong
CATEGORIES:2019,Cantopop,Concert,Music,Performing Arts
ATTACH;FMTTYPE=image/jpeg:https://www.bcmagazine.net/wp-content/uploads/1918/12/Jacky-Cheung-A-Classic-Tour.jpg
GEO:22.3014169;114.1820305
X-APPLE-STRUCTURED-LOCATION;VALUE=URI;X-ADDRESS=HK Coliseum 9 Cheong Wan Road Hung Hom Hong Kong;X-APPLE-RADIUS=500;X-TITLE=9 Cheong Wan Road:geo:114.1820305,22.3014169
END:VEVENT
END:VCALENDAR