BEGIN:VCALENDAR
VERSION:2.0
PRODID:-//bc magazine - ECPv6.15.20//NONSGML v1.0//EN
CALSCALE:GREGORIAN
METHOD:PUBLISH
X-ORIGINAL-URL:https://www.bcmagazine.net
X-WR-CALDESC:Events for bc magazine
REFRESH-INTERVAL;VALUE=DURATION:PT1H
X-Robots-Tag:noindex
X-PUBLISHED-TTL:PT1H
BEGIN:VTIMEZONE
TZID:Asia/Hong_Kong
BEGIN:STANDARD
TZOFFSETFROM:+0800
TZOFFSETTO:+0800
TZNAME:HKT
DTSTART:20180101T000000
END:STANDARD
END:VTIMEZONE
BEGIN:VEVENT
DTSTART;VALUE=DATE:20190125
DTEND;VALUE=DATE:20190617
DTSTAMP:20260421T093716
CREATED:19181213T044512Z
LAST-MODIFIED:20190129T164442Z
UID:10004690-1548374400-1560729599@www.bcmagazine.net
SUMMARY:Under the Skin
DESCRIPTION:Ferrari\, Under the Skin\nDate: 25 January – 16 June\, 2019\nVenue: City of Dreams\, Macau\nTickets: $80
URL:https://www.bcmagazine.net/event/under-the-skin-macau-2019/
LOCATION:City of Dreams\, Macau
CATEGORIES:2019,Exhibition,Macau
ATTACH;FMTTYPE=image/jpeg:https://www.bcmagazine.net/wp-content/uploads/1918/12/under-the-skin-2019.jpg
END:VEVENT
BEGIN:VEVENT
DTSTART;VALUE=DATE:20190221
DTEND;VALUE=DATE:20190311
DTSTAMP:20260421T093716
CREATED:19180113T044512Z
LAST-MODIFIED:20190216T085907Z
UID:10003738-1550707200-1552262399@www.bcmagazine.net
SUMMARY:European Union Film Festival
DESCRIPTION:European Union Film Festival\nDate: 21 February – 10 March\, 2019\nVenue: Broadway Cinematheque; AMC Pacific Place\nTickets: $95\, $85
URL:https://www.bcmagazine.net/event/european-union-film-festival-2019/
LOCATION:Broadway Cinematheque\, Prosperous Garden\, 3 Public Square Street\, Yaumatei\, Hong Kong
CATEGORIES:2019,Film
ATTACH;FMTTYPE=image/jpeg:https://www.bcmagazine.net/wp-content/uploads/1918/01/EUFF2019_poster.jpg
END:VEVENT
BEGIN:VEVENT
DTSTART;TZID=Asia/Hong_Kong:20190225T201500
DTEND;TZID=Asia/Hong_Kong:20190225T201500
DTSTAMP:20260421T093716
CREATED:19181213T044512Z
LAST-MODIFIED:20190118T085900Z
UID:10004617-1551125700-1551125700@www.bcmagazine.net
SUMMARY:Ekin Live
DESCRIPTION:Ekin Live\nDate: 8:15pm\, 24 February- 1 March 2019\nVenue: HK Coliseum\nTickets: $880\, $580\, $380 from Urbtix
URL:https://www.bcmagazine.net/event/ekin-live-25-02-2019/
LOCATION:HK Coliseum\, 9 Cheong Wan Road\, Hung Hom\, Hong Kong
CATEGORIES:2019,Cantopop,Concert,Music,Performing Arts
ATTACH;FMTTYPE=image/jpeg:https://www.bcmagazine.net/wp-content/uploads/1918/12/Ekin-live-2019.jpg
GEO:22.3014169;114.1820305
X-APPLE-STRUCTURED-LOCATION;VALUE=URI;X-ADDRESS=HK Coliseum 9 Cheong Wan Road Hung Hom Hong Kong;X-APPLE-RADIUS=500;X-TITLE=9 Cheong Wan Road:geo:114.1820305,22.3014169
END:VEVENT
BEGIN:VEVENT
DTSTART;TZID=Asia/Hong_Kong:20190226T201500
DTEND;TZID=Asia/Hong_Kong:20190226T201500
DTSTAMP:20260421T093716
CREATED:19181213T044512Z
LAST-MODIFIED:20190118T085853Z
UID:10004618-1551212100-1551212100@www.bcmagazine.net
SUMMARY:Ekin Live
DESCRIPTION:Ekin Live\nDate: 8:15pm\, 24 February- 1 March 2019\nVenue: HK Coliseum\nTickets: $880\, $580\, $380 from Urbtix
URL:https://www.bcmagazine.net/event/ekin-live-26-02-2019/
LOCATION:HK Coliseum\, 9 Cheong Wan Road\, Hung Hom\, Hong Kong
CATEGORIES:2019,Cantopop,Concert,Music,Performing Arts
ATTACH;FMTTYPE=image/jpeg:https://www.bcmagazine.net/wp-content/uploads/1918/12/Ekin-live-2019.jpg
GEO:22.3014169;114.1820305
X-APPLE-STRUCTURED-LOCATION;VALUE=URI;X-ADDRESS=HK Coliseum 9 Cheong Wan Road Hung Hom Hong Kong;X-APPLE-RADIUS=500;X-TITLE=9 Cheong Wan Road:geo:114.1820305,22.3014169
END:VEVENT
BEGIN:VEVENT
DTSTART;TZID=Asia/Hong_Kong:20190227T200000
DTEND;TZID=Asia/Hong_Kong:20190227T200000
DTSTAMP:20260421T093716
CREATED:19181213T044512Z
LAST-MODIFIED:20190125T180540Z
UID:10004683-1551297600-1551297600@www.bcmagazine.net
SUMMARY:Bob James Trio
DESCRIPTION:Bob James Trio\nDate: 8pm\, 27 February\, 2019\nVenue: Ocean Park Applause Pavilion\nTickets: $680\, $480 $280
URL:https://www.bcmagazine.net/event/bob-james-trio/
LOCATION:Ocean Park\, Applause Pavilion\, Hong Kong
CATEGORIES:2019,Concert,Jazz,Music,Performing Arts
ATTACH;FMTTYPE=image/jpeg:https://www.bcmagazine.net/wp-content/uploads/1918/12/bob-james-trio.jpg
END:VEVENT
BEGIN:VEVENT
DTSTART;TZID=Asia/Hong_Kong:20190227T200000
DTEND;TZID=Asia/Hong_Kong:20190227T200000
DTSTAMP:20260421T093716
CREATED:19190111T043612Z
LAST-MODIFIED:20190112T121833Z
UID:10003961-1551297600-1551297600@www.bcmagazine.net
SUMMARY:Plini Sunhead
DESCRIPTION:Plini Sunhead Asia Tour\nSupport: Behind The Stonewall\nDate: 8pm\, 27 February\, 2019\nVenue: This Town Needs (TTN)\nTickets: $420 (door)\, $320 (advance)
URL:https://www.bcmagazine.net/event/plini-sunhead-hk-2019/
LOCATION:This Town Needs (TTN)\, 1/F Ocean One\, 6 Shung Shun Street\, Yau Tong\, Hong Kong
CATEGORIES:2019,Concert,Music,Performing Arts
ATTACH;FMTTYPE=image/jpeg:https://www.bcmagazine.net/wp-content/uploads/1919/01/Plini-Sunhead-Asia-Tour-2019.jpg
GEO:22.292861;114.23782
X-APPLE-STRUCTURED-LOCATION;VALUE=URI;X-ADDRESS=This Town Needs (TTN) 1/F Ocean One 6 Shung Shun Street Yau Tong Hong Kong;X-APPLE-RADIUS=500;X-TITLE=1/F Ocean One\, 6 Shung Shun Street:geo:114.23782,22.292861
END:VEVENT
BEGIN:VEVENT
DTSTART;TZID=Asia/Hong_Kong:20190227T201500
DTEND;TZID=Asia/Hong_Kong:20190227T201500
DTSTAMP:20260421T093716
CREATED:19181213T044512Z
LAST-MODIFIED:20190118T085846Z
UID:10004619-1551298500-1551298500@www.bcmagazine.net
SUMMARY:Ekin Live
DESCRIPTION:Ekin Live\nDate: 8:15pm\, 24 February- 1 March 2019\nVenue: HK Coliseum\nTickets: $880\, $580\, $380 from Urbtix
URL:https://www.bcmagazine.net/event/ekin-live-27-02-2019/
LOCATION:HK Coliseum\, 9 Cheong Wan Road\, Hung Hom\, Hong Kong
CATEGORIES:2019,Cantopop,Concert,Music,Performing Arts
ATTACH;FMTTYPE=image/jpeg:https://www.bcmagazine.net/wp-content/uploads/1918/12/Ekin-live-2019.jpg
GEO:22.3014169;114.1820305
X-APPLE-STRUCTURED-LOCATION;VALUE=URI;X-ADDRESS=HK Coliseum 9 Cheong Wan Road Hung Hom Hong Kong;X-APPLE-RADIUS=500;X-TITLE=9 Cheong Wan Road:geo:114.1820305,22.3014169
END:VEVENT
BEGIN:VEVENT
DTSTART;TZID=Asia/Hong_Kong:20190228T201500
DTEND;TZID=Asia/Hong_Kong:20190228T201500
DTSTAMP:20260421T093716
CREATED:19181213T044512Z
LAST-MODIFIED:20190118T085840Z
UID:10004620-1551384900-1551384900@www.bcmagazine.net
SUMMARY:Ekin Live
DESCRIPTION:Ekin Live\nDate: 8:15pm\, 24 February- 1 March 2019\nVenue: HK Coliseum\nTickets: $880\, $580\, $380 from Urbtix
URL:https://www.bcmagazine.net/event/ekin-live-28-02-2019/
LOCATION:HK Coliseum\, 9 Cheong Wan Road\, Hung Hom\, Hong Kong
CATEGORIES:2019,Cantopop,Concert,Music,Performing Arts
ATTACH;FMTTYPE=image/jpeg:https://www.bcmagazine.net/wp-content/uploads/1918/12/Ekin-live-2019.jpg
GEO:22.3014169;114.1820305
X-APPLE-STRUCTURED-LOCATION;VALUE=URI;X-ADDRESS=HK Coliseum 9 Cheong Wan Road Hung Hom Hong Kong;X-APPLE-RADIUS=500;X-TITLE=9 Cheong Wan Road:geo:114.1820305,22.3014169
END:VEVENT
BEGIN:VEVENT
DTSTART;VALUE=DATE:20190301
DTEND;VALUE=DATE:20190310
DTSTAMP:20260421T093716
CREATED:20181025T145359Z
LAST-MODIFIED:20181025T153416Z
UID:10006542-1551398400-1552175999@www.bcmagazine.net
SUMMARY:India by the Bay
DESCRIPTION:India by the Bay returns for its fifth edition from 1-9 March\, 2019. The Festival will again look to offer HongKongers an insight into Indian culture and history through a diverse and eclectic programme including music\, dance\, film\, food\, theatre\, yoga\, literature and art. \nIndia by the Bay 2019\nDate: 1-9 March\, 2019\nVenue: Asia Society Hong Kong Center\nTickets: tbc
URL:https://www.bcmagazine.net/event/india-by-the-bay-2019/
LOCATION:Asia Society Hong Kong Center\, 9 Justice Drive\, Admiralty\, Hong Kong
CATEGORIES:2019,Cultural Festival,Dance,Lifestyle,Music,Other
ATTACH;FMTTYPE=image/jpeg:https://www.bcmagazine.net/wp-content/uploads/1918/01/india-by-the-bay-2019.jpg
END:VEVENT
BEGIN:VEVENT
DTSTART;TZID=Asia/Hong_Kong:20190301T190000
DTEND;TZID=Asia/Hong_Kong:20190301T190000
DTSTAMP:20260421T093716
CREATED:19181025T145359Z
LAST-MODIFIED:20190227T191226Z
UID:10004560-1551466800-1551466800@www.bcmagazine.net
SUMMARY:In Conversation with Manisha Koirala
DESCRIPTION:In Conversation with Manisha Koirala\nIndia by the Bay\nDate: 7pm\, 1 March\, 2019\nVenue: Asia Society Hong Kong Center\nTickets: $300
URL:https://www.bcmagazine.net/event/in-conversation-with-manisha-koirala/
LOCATION:Asia Society Hong Kong Center\, 9 Justice Drive\, Admiralty\, Hong Kong
CATEGORIES:2019,Cultural Festival,Film,Lifestyle,Other,Performing Arts,talk
ATTACH;FMTTYPE=image/jpeg:https://www.bcmagazine.net/wp-content/uploads/1918/10/In-conversation-with-Manisha-Koirala.jpg
END:VEVENT
BEGIN:VEVENT
DTSTART;TZID=Asia/Hong_Kong:20190301T190000
DTEND;TZID=Asia/Hong_Kong:20190301T190000
DTSTAMP:20260421T093716
CREATED:19181213T044512Z
LAST-MODIFIED:20190118T094519Z
UID:10004650-1551466800-1551466800@www.bcmagazine.net
SUMMARY:Oper Leipzig
DESCRIPTION:Oper Leipzig – Wagner’s Tannhauser\nHK Arts Festival\, Oper Leipzig\, Gewandhausorchester Leipzig\, Chor der Oper Leipzig\nDate: 1-2 March\, 2019\nVenue: HK Cultural Centre\, Grand Theatre\nTickets: $1\,680\, $1\,380\, $1\,080\, $880\, $680\, $480 from Urbtix\nMore info:\nIn German with English and Chinese surtitles\nConductor: Ulf Schirmer\nDirector: Calixto Bieito
URL:https://www.bcmagazine.net/event/oper-leipzig-01-03-2019/
LOCATION:HK Cultural Centre\, Grand Theatre\,\, 10 Salisbury Road\, Tsim Sha Tsui\, Hong Kong
CATEGORIES:2019,Concert,Cultural Festival,Music,Opera,Performing Arts
GEO:22.294318;114.171708
X-APPLE-STRUCTURED-LOCATION;VALUE=URI;X-ADDRESS=HK Cultural Centre Grand Theatre 10 Salisbury Road Tsim Sha Tsui Hong Kong;X-APPLE-RADIUS=500;X-TITLE=10 Salisbury Road:geo:114.171708,22.294318
END:VEVENT
BEGIN:VEVENT
DTSTART;TZID=Asia/Hong_Kong:20190301T193000
DTEND;TZID=Asia/Hong_Kong:20190301T193000
DTSTAMP:20260421T093716
CREATED:19150220T101156Z
LAST-MODIFIED:20190208T133333Z
UID:10000061-1551468600-1551468600@www.bcmagazine.net
SUMMARY:Hong Kong Welsh Male Voice Choir
DESCRIPTION:St. David’s Day Concert\nHong Kong Welsh Male Voice Choir\, British Brass Company\nDate: 7:30pm\, 1 March\, 2019\nVenue: St John’s Cathedral\nTickets: $200
URL:https://www.bcmagazine.net/event/hkwelsh-male-voice-choir-01-03-2019/
LOCATION:Saint John’s Cathedral\, Hong Kong
CATEGORIES:2019,Concert,Music,Performing Arts
ATTACH;FMTTYPE=image/jpeg:https://www.bcmagazine.net/wp-content/uploads/1915/10/image001.jpg
GEO:22.396428;114.109497
END:VEVENT
BEGIN:VEVENT
DTSTART;TZID=Asia/Hong_Kong:20190301T201500
DTEND;TZID=Asia/Hong_Kong:20190301T201500
DTSTAMP:20260421T093716
CREATED:19181213T044512Z
LAST-MODIFIED:20190118T085831Z
UID:10004621-1551471300-1551471300@www.bcmagazine.net
SUMMARY:Ekin Live
DESCRIPTION:Ekin Live\nDate: 8:15pm\, 24 February- 1 March 2019\nVenue: HK Coliseum\nTickets: $880\, $580\, $380 from Urbtix
URL:https://www.bcmagazine.net/event/ekin-live-01-03-2019/
LOCATION:HK Coliseum\, 9 Cheong Wan Road\, Hung Hom\, Hong Kong
CATEGORIES:2019,Cantopop,Concert,Music,Performing Arts
ATTACH;FMTTYPE=image/jpeg:https://www.bcmagazine.net/wp-content/uploads/1918/12/Ekin-live-2019.jpg
GEO:22.3014169;114.1820305
X-APPLE-STRUCTURED-LOCATION;VALUE=URI;X-ADDRESS=HK Coliseum 9 Cheong Wan Road Hung Hom Hong Kong;X-APPLE-RADIUS=500;X-TITLE=9 Cheong Wan Road:geo:114.1820305,22.3014169
END:VEVENT
BEGIN:VEVENT
DTSTART;TZID=Asia/Hong_Kong:20190302T180000
DTEND;TZID=Asia/Hong_Kong:20190302T180000
DTSTAMP:20260421T093716
CREATED:19181213T044512Z
LAST-MODIFIED:20190118T094556Z
UID:10004651-1551549600-1551549600@www.bcmagazine.net
SUMMARY:Oper Leipzig
DESCRIPTION:Oper Leipzig – Wagner’s Tannhauser\nHK Arts Festival\, Oper Leipzig\, Gewandhausorchester Leipzig\, Chor der Oper Leipzig\nDate: 1-2 March\, 2019\nVenue: HK Cultural Centre\, Grand Theatre\nTickets: $1\,680\, $1\,380\, $1\,080\, $880\, $680\, $480 from Urbtix\nMore info:\nIn German with English and Chinese surtitles\nConductor: Ulf Schirmer\nDirector: Calixto Bieito
URL:https://www.bcmagazine.net/event/oper-leipzig-02-03-2019/
LOCATION:HK Cultural Centre\, Grand Theatre\,\, 10 Salisbury Road\, Tsim Sha Tsui\, Hong Kong
CATEGORIES:2019,Concert,Cultural Festival,Music,Opera,Performing Arts
GEO:22.294318;114.171708
X-APPLE-STRUCTURED-LOCATION;VALUE=URI;X-ADDRESS=HK Cultural Centre Grand Theatre 10 Salisbury Road Tsim Sha Tsui Hong Kong;X-APPLE-RADIUS=500;X-TITLE=10 Salisbury Road:geo:114.171708,22.294318
END:VEVENT
BEGIN:VEVENT
DTSTART;TZID=Asia/Hong_Kong:20190303T100000
DTEND;TZID=Asia/Hong_Kong:20190303T100000
DTSTAMP:20260421T093716
CREATED:20190128T044512Z
LAST-MODIFIED:20190202T030102Z
UID:10006563-1551607200-1551607200@www.bcmagazine.net
SUMMARY:TEDxSenadoSquare
DESCRIPTION:TEDxSenadoSquare – Ripple\nDate: 10am\, 3 March\, 2019\nVenue: Dom Pedro V Theatre\nTickets: tbc\nMore info:\nMost of the talks will be in Chinese
URL:https://www.bcmagazine.net/event/tedxsenadosquare-2019/
LOCATION:Dom Pedro V Theatre\, Largo de Santo Agostinho\, Macau
CATEGORIES:2019,Exhibition,Lifestyle,Macau,Other
ATTACH;FMTTYPE=image/jpeg:https://www.bcmagazine.net/wp-content/uploads/1918/01/TEDxSenadoSquare-2019.jpg
GEO:22.1922848;113.5380585
X-APPLE-STRUCTURED-LOCATION;VALUE=URI;X-ADDRESS=Dom Pedro V Theatre Largo de Santo Agostinho Macau;X-APPLE-RADIUS=500;X-TITLE=Largo de Santo Agostinho:geo:113.5380585,22.1922848
END:VEVENT
BEGIN:VEVENT
DTSTART;TZID=Asia/Hong_Kong:20190303T110000
DTEND;TZID=Asia/Hong_Kong:20190303T110000
DTSTAMP:20260421T093717
CREATED:19181025T145359Z
LAST-MODIFIED:20190301T141528Z
UID:10004565-1551610800-1551610800@www.bcmagazine.net
SUMMARY:India by the Bay Family Day
DESCRIPTION:India by the Bay Family Day\nDate: 11am\, 3 March\, 2019\nVenue: Asia Society Hong Kong Center\nTickets: $200
URL:https://www.bcmagazine.net/event/india-by-the-bay-family-day-2019/
LOCATION:Asia Society Hong Kong Center\, 9 Justice Drive\, Admiralty\, Hong Kong
CATEGORIES:2019,Cultural Festival,Lifestyle,Performing Arts
ATTACH;FMTTYPE=image/jpeg:https://www.bcmagazine.net/wp-content/uploads/1918/10/family-day-2019.jpg
END:VEVENT
BEGIN:VEVENT
DTSTART;TZID=Asia/Hong_Kong:20190303T130000
DTEND;TZID=Asia/Hong_Kong:20190303T130000
DTSTAMP:20260421T093717
CREATED:19180113T044512Z
LAST-MODIFIED:20190130T191004Z
UID:10003732-1551618000-1551618000@www.bcmagazine.net
SUMMARY:March INN Music Festival
DESCRIPTION:March INN Music Festival\nThe Red Stripes\, Re-Orientate\, Harunemuri\, DJ510Mariko\, Jing Wong\, Andy is Tying\, Prune Deer\nDate: 1pm\, 3 March\, 2019\nVenue: PMQ\nTickets: $250\, $200 (advance)
URL:https://www.bcmagazine.net/event/march-inn-music-festival-2019/
LOCATION:PMQ\, 35 Aberdeen Street\, Central\, Hong Kong
CATEGORIES:2019,Concert,Music,Performing Arts
ATTACH;FMTTYPE=image/jpeg:https://www.bcmagazine.net/wp-content/uploads/1918/01/March-INN-2019.jpg
GEO:22.2836011;114.1524554
X-APPLE-STRUCTURED-LOCATION;VALUE=URI;X-ADDRESS=PMQ 35 Aberdeen Street Central Hong Kong;X-APPLE-RADIUS=500;X-TITLE=35 Aberdeen Street:geo:114.1524554,22.2836011
END:VEVENT
BEGIN:VEVENT
DTSTART;TZID=Asia/Hong_Kong:20190303T150000
DTEND;TZID=Asia/Hong_Kong:20190303T150000
DTSTAMP:20260421T093717
CREATED:19190111T045612Z
LAST-MODIFIED:20190225T171814Z
UID:10004724-1551625200-1551625200@www.bcmagazine.net
SUMMARY:@Jam x Tale
DESCRIPTION:@Jam x Tale\nDate: 3pm\, 3 March\, 2019\nVenue: Kitec\, Music Zone@E-Max\nTickets: $880\, $580
URL:https://www.bcmagazine.net/event/jam-x-tale-hk-2019/
LOCATION:KITEC\, Music Zone@E-Max\, KITEC\,‎ 1 Trademart Drive\, Kowloon Bay\, Hong Kong
CATEGORIES:2019,Concert,Music,Performing Arts
GEO:22.3239575;114.2037608
X-APPLE-STRUCTURED-LOCATION;VALUE=URI;X-ADDRESS=KITEC Music Zone@E-Max KITEC‎ 1 Trademart Drive Kowloon Bay Hong Kong;X-APPLE-RADIUS=500;X-TITLE=KITEC\,‎ 1 Trademart Drive:geo:114.2037608,22.3239575
END:VEVENT
BEGIN:VEVENT
DTSTART;TZID=Asia/Hong_Kong:20190303T190000
DTEND;TZID=Asia/Hong_Kong:20190303T190000
DTSTAMP:20260421T093717
CREATED:19181025T145359Z
LAST-MODIFIED:20190227T190346Z
UID:10004558-1551639600-1551639600@www.bcmagazine.net
SUMMARY:Rajasthan Josh
DESCRIPTION:Rajasthan Josh\nIndia by the Bay\nDate: 7pm\, 3 March\, 2019\nVenue: HK City Hall\, Recital Hall\nTickets: $200
URL:https://www.bcmagazine.net/event/rajasthan-josh/
LOCATION:HK City Hall\, Recital Hall\, 5 Edinburgh Place\, Central\, Hong Kong
CATEGORIES:2019,Concert,Cultural Festival,Music,Performing Arts
ATTACH;FMTTYPE=image/jpeg:https://www.bcmagazine.net/wp-content/uploads/1918/10/rajasthan-josh.jpg
GEO:22.2822646;114.1615275
X-APPLE-STRUCTURED-LOCATION;VALUE=URI;X-ADDRESS=HK City Hall Recital Hall 5 Edinburgh Place Central Hong Kong;X-APPLE-RADIUS=500;X-TITLE=5 Edinburgh Place:geo:114.1615275,22.2822646
END:VEVENT
BEGIN:VEVENT
DTSTART;TZID=Asia/Hong_Kong:20190303T190000
DTEND;TZID=Asia/Hong_Kong:20190303T200000
DTSTAMP:20260421T093717
CREATED:19181002T010042Z
LAST-MODIFIED:20181004T085048Z
UID:10004456-1551639600-1551643200@www.bcmagazine.net
SUMMARY:Maroon 5 Red Pill Blues Tour Live in Macao
DESCRIPTION:Maroon 5 Red Pill Blues Tour Live in Macao\nDate: 7pm\, 3 March\, 2019\nVenues: Cotai Arena\nTickets: $1\,988\, $1\,588\, $1\,488\, $1\,188\, $1\,088\, $888\, $688 from CotaiTicketing
URL:https://www.bcmagazine.net/event/maroon-5-red-pill-blues-tour-live-in-macao/
LOCATION:Cotai Arena\, Venetian Macao\, Macau
CATEGORIES:2019,Concert,Macau,Music,Performing Arts
ATTACH;FMTTYPE=image/jpeg:https://www.bcmagazine.net/wp-content/uploads/1918/10/Maroon683x165-macau-2019.jpg
END:VEVENT
BEGIN:VEVENT
DTSTART;TZID=Asia/Hong_Kong:20190303T200000
DTEND;TZID=Asia/Hong_Kong:20190303T200000
DTSTAMP:20260421T093717
CREATED:19181213T044512Z
LAST-MODIFIED:20190131T125706Z
UID:10004691-1551643200-1551643200@www.bcmagazine.net
SUMMARY:Music Club HKUSU 2019 - Gravity
DESCRIPTION:Music Club HKUSU Annual Performance 2019 – Gravity\n逆流 NiLiu\, Mockingbird\, PHOON\, 實驗日誌 Experimental Diary \n\nDate: 8pm\, 3 March\, 2019\nVenue: This Town Needs (TTN)\nTickets: $190\, $150 (Advance)
URL:https://www.bcmagazine.net/event/music-club-hkusu-2019-gravity/
LOCATION:This Town Needs (TTN)\, 1/F Ocean One\, 6 Shung Shun Street\, Yau Tong\, Hong Kong
CATEGORIES:2019,Concert,Music,Performing Arts
ATTACH;FMTTYPE=image/jpeg:https://www.bcmagazine.net/wp-content/uploads/1918/12/Music-Club-HKUSU-2019-Gravity.jpg
GEO:22.292861;114.23782
X-APPLE-STRUCTURED-LOCATION;VALUE=URI;X-ADDRESS=This Town Needs (TTN) 1/F Ocean One 6 Shung Shun Street Yau Tong Hong Kong;X-APPLE-RADIUS=500;X-TITLE=1/F Ocean One\, 6 Shung Shun Street:geo:114.23782,22.292861
END:VEVENT
BEGIN:VEVENT
DTSTART;TZID=Asia/Hong_Kong:20190303T200000
DTEND;TZID=Asia/Hong_Kong:20190303T200000
DTSTAMP:20260421T093717
CREATED:19181213T044512Z
LAST-MODIFIED:20190225T165103Z
UID:10004607-1551643200-1551643200@www.bcmagazine.net
SUMMARY:Years & Years - Cancelled
DESCRIPTION:Years & Years – The Palo Santo Tour\nDate: 8pm\, 3 March\, 2019\nVenue: Kitec\, Rotunda 3\nTickets: $888 from Cityline
URL:https://www.bcmagazine.net/event/years-years-hk-2019/
LOCATION:KITEC\, Rotunda 3\, 1 Trademart Drive\, Kowloon Bay\, Hong Kong
CATEGORIES:2019,Concert,Music,Performing Arts
ATTACH;FMTTYPE=image/jpeg:https://www.bcmagazine.net/wp-content/uploads/1918/12/Years-Years-The-Palo-Santo-Tour.jpg
GEO:22.3239575;114.2037608
X-APPLE-STRUCTURED-LOCATION;VALUE=URI;X-ADDRESS=KITEC Rotunda 3 1 Trademart Drive Kowloon Bay Hong Kong;X-APPLE-RADIUS=500;X-TITLE=1 Trademart Drive:geo:114.2037608,22.3239575
END:VEVENT
BEGIN:VEVENT
DTSTART;TZID=Asia/Hong_Kong:20190303T200000
DTEND;TZID=Asia/Hong_Kong:20190303T200000
DTSTAMP:20260421T093717
CREATED:19181213T044512Z
LAST-MODIFIED:20190119T151733Z
UID:10004666-1551643200-1551643200@www.bcmagazine.net
SUMMARY:Tendre
DESCRIPTION:Tendre\nSupport: TYNT\nDate: 8pm\, 3 March\, 2019\nVenue: This Town Needs (TTN)\nTickets: $380\, $280
URL:https://www.bcmagazine.net/event/tendre-hk-2019/
LOCATION:This Town Needs (TTN)\, 1/F Ocean One\, 6 Shung Shun Street\, Yau Tong\, Hong Kong
CATEGORIES:2019,Concert,Music,Performing Arts
ATTACH;FMTTYPE=image/jpeg:https://www.bcmagazine.net/wp-content/uploads/1918/12/tendre-2019.jpg
GEO:22.292861;114.23782
X-APPLE-STRUCTURED-LOCATION;VALUE=URI;X-ADDRESS=This Town Needs (TTN) 1/F Ocean One 6 Shung Shun Street Yau Tong Hong Kong;X-APPLE-RADIUS=500;X-TITLE=1/F Ocean One\, 6 Shung Shun Street:geo:114.23782,22.292861
END:VEVENT
BEGIN:VEVENT
DTSTART;TZID=Asia/Hong_Kong:20190303T201500
DTEND;TZID=Asia/Hong_Kong:20190303T201500
DTSTAMP:20260421T093717
CREATED:19181213T044512Z
LAST-MODIFIED:20190118T095010Z
UID:10004653-1551644100-1551644100@www.bcmagazine.net
SUMMARY:Chor Der Oper Leipzig
DESCRIPTION:Chor Der Oper Leipzig – Opera Chorus Concert\nHK Arts Festival\, Chor der Oper Leipzig\nDate: 8:15pm\, 3 March\, 2019\nVenue: HK Cultural Centre\, Concert Hall\nTickets: $500\, $420\, $340\, $260\, $180 from Urbtix
URL:https://www.bcmagazine.net/event/chor-der-oper-leipzig-2019/
LOCATION:HK Cultural Centre\, Concert Hall\, 10 Salisbury Road\, Tsim Sha Tsui\, Hong Kong
CATEGORIES:2019,Concert,Cultural Festival,Music,Opera,Performing Arts
GEO:22.294318;114.171708
X-APPLE-STRUCTURED-LOCATION;VALUE=URI;X-ADDRESS=HK Cultural Centre Concert Hall 10 Salisbury Road Tsim Sha Tsui Hong Kong;X-APPLE-RADIUS=500;X-TITLE=10 Salisbury Road:geo:114.171708,22.294318
END:VEVENT
END:VCALENDAR