BEGIN:VCALENDAR
VERSION:2.0
PRODID:-//bc magazine - ECPv6.15.20//NONSGML v1.0//EN
CALSCALE:GREGORIAN
METHOD:PUBLISH
X-WR-CALNAME:bc magazine
X-ORIGINAL-URL:https://www.bcmagazine.net
X-WR-CALDESC:Events for bc magazine
REFRESH-INTERVAL;VALUE=DURATION:PT1H
X-Robots-Tag:noindex
X-PUBLISHED-TTL:PT1H
BEGIN:VTIMEZONE
TZID:Asia/Hong_Kong
BEGIN:STANDARD
TZOFFSETFROM:+0800
TZOFFSETTO:+0800
TZNAME:HKT
DTSTART:20190101T000000
END:STANDARD
END:VTIMEZONE
BEGIN:VEVENT
DTSTART;VALUE=DATE:20200402
DTEND;VALUE=DATE:20200427
DTSTAMP:20260420T063041
CREATED:19180214T102637Z
LAST-MODIFIED:20191208T152416Z
UID:10003785-1585785600-1587945599@www.bcmagazine.net
SUMMARY:Cirque du Soleil - Amaluna
DESCRIPTION:Cirque du Soleil – Amaluna\nDate: 2-26 April\, 2020\nVenue: Central Harbourfront\nTickets: $1\,999\, $1\,299\, $999\, $759\, $450 from HKTicketing\nMore info:\nTuesdays – Fridays – 7:30pm\nSaturdays – 4pm\, 7:30pm\nSundays – 1:30pm & 5pm
URL:https://www.bcmagazine.net/event/cirque-du-soleil-amaluna-2020/
LOCATION:Central Harbourfront\,  9 Lung Wo Road\, Central\, Hong Kong
CATEGORIES:2020,Performing Arts
GEO:22.2826223;114.164346
X-APPLE-STRUCTURED-LOCATION;VALUE=URI;X-ADDRESS=Central Harbourfront  9 Lung Wo Road Central Hong Kong;X-APPLE-RADIUS=500;X-TITLE=9 Lung Wo Road:geo:114.164346,22.2826223
END:VEVENT
BEGIN:VEVENT
DTSTART;VALUE=DATE:20200409
DTEND;VALUE=DATE:20200416
DTSTAMP:20260420T063041
CREATED:20191219T032003Z
LAST-MODIFIED:20191219T032003Z
UID:10006609-1586390400-1586995199@www.bcmagazine.net
SUMMARY:Songkran Hong Kong
DESCRIPTION:Songkran Hong Kong 2020\nDate: 9-15 April\, 2020\nVenue: D2 Place ONE\, 9 Cheung Yee Street\, Lai Chi Kok\nTickets: Free
URL:https://www.bcmagazine.net/event/songkran-hk-2020/
LOCATION:D2 Place ONE\, 9 Cheung Yee Street\, Lai Chi Kok\, Hong Kong
CATEGORIES:2020,Cultural Festival,Food,Free,Lifestyle,Music,Nightlife
ATTACH;FMTTYPE=image/jpeg:https://www.bcmagazine.net/wp-content/uploads/2019/12/songkranhk-2020.jpg
END:VEVENT
BEGIN:VEVENT
DTSTART;TZID=Asia/Hong_Kong:20200413T200000
DTEND;TZID=Asia/Hong_Kong:20200413T200000
DTSTAMP:20260420T063041
CREATED:19180802T094055Z
LAST-MODIFIED:20191231T054116Z
UID:10004384-1586808000-1586808000@www.bcmagazine.net
SUMMARY:Madilyn Bailey
DESCRIPTION:Madilyn Bailey – Tastes Like Karma\nDate: 8pm\, 13 April\, 2020\nVenue: Kitec\, Music Zone@E-Max\nTickets: $780\, $460 from Cityline
URL:https://www.bcmagazine.net/event/madilyn-bailey-2020-hk/
LOCATION:KITEC\, Music Zone@E-Max\, KITEC\,‎ 1 Trademart Drive\, Kowloon Bay\, Hong Kong
CATEGORIES:2020,Concert,Music,Performing Arts
GEO:22.3239575;114.2037608
X-APPLE-STRUCTURED-LOCATION;VALUE=URI;X-ADDRESS=KITEC Music Zone@E-Max KITEC‎ 1 Trademart Drive Kowloon Bay Hong Kong;X-APPLE-RADIUS=500;X-TITLE=KITEC\,‎ 1 Trademart Drive:geo:114.2037608,22.3239575
END:VEVENT
END:VCALENDAR