BEGIN:VCALENDAR
VERSION:2.0
PRODID:-//bc magazine - ECPv6.15.20//NONSGML v1.0//EN
CALSCALE:GREGORIAN
METHOD:PUBLISH
X-ORIGINAL-URL:https://www.bcmagazine.net
X-WR-CALDESC:Events for bc magazine
REFRESH-INTERVAL;VALUE=DURATION:PT1H
X-Robots-Tag:noindex
X-PUBLISHED-TTL:PT1H
BEGIN:VTIMEZONE
TZID:Asia/Hong_Kong
BEGIN:STANDARD
TZOFFSETFROM:+0800
TZOFFSETTO:+0800
TZNAME:HKT
DTSTART:20210101T000000
END:STANDARD
END:VTIMEZONE
BEGIN:VEVENT
DTSTART;TZID=Asia/Hong_Kong:20221101T200000
DTEND;TZID=Asia/Hong_Kong:20221101T200000
DTSTAMP:20260422T062817
CREATED:20220805T044512Z
LAST-MODIFIED:20220816T065901Z
UID:10006714-1667332800-1667332800@www.bcmagazine.net
SUMMARY:Avril Lavigne
DESCRIPTION:Avril Lavigne\nDate: 8pm\, 1 November\, 2022\nVenue: AsiaWorld-Expo\, Arena\nTickets: $888\, $688\, $488 from HKTicketing
URL:https://www.bcmagazine.net/event/avril-lavigne-2022/
LOCATION:AsiaWorld Expo\, Arena\, Hong Kong
CATEGORIES:2022,Concert,Music,Performing Arts
ATTACH;FMTTYPE=image/png:https://www.bcmagazine.net/wp-content/uploads/2019/12/AL2020_HKT_609x300_v1.png
END:VEVENT
BEGIN:VEVENT
DTSTART;VALUE=DATE:20221104
DTEND;VALUE=DATE:20221107
DTSTAMP:20260422T062817
CREATED:20220908T111400Z
LAST-MODIFIED:20220915T134843Z
UID:10006720-1667520000-1667779199@www.bcmagazine.net
SUMMARY:HK Sevens
DESCRIPTION:HK Sevens – Rescheduled \nDate: 4-6 November\, 2022\nVenue: HK Stadium\nTickets: $1\,950 (tbc) \n 
URL:https://www.bcmagazine.net/event/hk-sevens-2022/
LOCATION:HK Stadium\, 55 Eastern Hospital Road\, So Kon Po\, Hong Kong
CATEGORIES:2022,Rugby,Sport
ATTACH;FMTTYPE=image/jpeg:https://www.bcmagazine.net/wp-content/uploads/1920/12/HK7s.-2022.jpeg
GEO:22.2730073;114.1885121
X-APPLE-STRUCTURED-LOCATION;VALUE=URI;X-ADDRESS=HK Stadium 55 Eastern Hospital Road So Kon Po Hong Kong;X-APPLE-RADIUS=500;X-TITLE=55 Eastern Hospital Road:geo:114.1885121,22.2730073
END:VEVENT
END:VCALENDAR