BEGIN:VCALENDAR
VERSION:2.0
PRODID:-//bc magazine - ECPv6.15.20//NONSGML v1.0//EN
CALSCALE:GREGORIAN
METHOD:PUBLISH
X-ORIGINAL-URL:https://www.bcmagazine.net
X-WR-CALDESC:Events for bc magazine
REFRESH-INTERVAL;VALUE=DURATION:PT1H
X-Robots-Tag:noindex
X-PUBLISHED-TTL:PT1H
BEGIN:VTIMEZONE
TZID:Asia/Hong_Kong
BEGIN:STANDARD
TZOFFSETFROM:+0800
TZOFFSETTO:+0800
TZNAME:HKT
DTSTART:20220101T000000
END:STANDARD
END:VTIMEZONE
BEGIN:VEVENT
DTSTART;VALUE=DATE:20230912
DTEND;VALUE=DATE:20230918
DTSTAMP:20260421T221811
CREATED:19231110T071408Z
LAST-MODIFIED:20230516T025944Z
UID:10006810-1694476800-1694995199@www.bcmagazine.net
SUMMARY:Hong Kong Open Badminton Championships
DESCRIPTION:Hong Kong Open Badminton Championships\nDate: 12-17\, September 2023\nVenue: HK Coliseum\nTickets: tbc from Urbtix
URL:https://www.bcmagazine.net/event/hong-kong-open-badminton-championships-2023/
LOCATION:HK Coliseum\, 9 Cheong Wan Road\, Hung Hom\, Hong Kong
CATEGORIES:2023,Badminton,Sport
ATTACH;FMTTYPE=image/jpeg:https://www.bcmagazine.net/wp-content/uploads/1917/11/HK-badminton.jpeg
GEO:22.3014169;114.1820305
X-APPLE-STRUCTURED-LOCATION;VALUE=URI;X-ADDRESS=HK Coliseum 9 Cheong Wan Road Hung Hom Hong Kong;X-APPLE-RADIUS=500;X-TITLE=9 Cheong Wan Road:geo:114.1820305,22.3014169
END:VEVENT
BEGIN:VEVENT
DTSTART;VALUE=DATE:20230915
DTEND;VALUE=DATE:20230917
DTSTAMP:20260421T221811
CREATED:20230708T004237Z
LAST-MODIFIED:20230804T013826Z
UID:10007975-1694736000-1694908799@www.bcmagazine.net
SUMMARY:Better With Beer
DESCRIPTION:Better With Beer\nDate: 15-16 September 2023\nVenue: Central Harbourfront\nTickets: $1\,450\, $900\, $580\, $450 from Ticketflap
URL:https://www.bcmagazine.net/event/better-with-beer-2023/
LOCATION:Central Harbourfront\,  9 Lung Wo Road\, Central\, Hong Kong
CATEGORIES:2023,Concert,Food,Music,Nightlife,Performing Arts
ATTACH;FMTTYPE=image/png:https://www.bcmagazine.net/wp-content/uploads/2023/07/Better-with-Beer-2023.png
GEO:22.2826223;114.164346
X-APPLE-STRUCTURED-LOCATION;VALUE=URI;X-ADDRESS=Central Harbourfront  9 Lung Wo Road Central Hong Kong;X-APPLE-RADIUS=500;X-TITLE=9 Lung Wo Road:geo:114.164346,22.2826223
END:VEVENT
BEGIN:VEVENT
DTSTART;VALUE=DATE:20230916
DTEND;VALUE=DATE:20230918
DTSTAMP:20260421T221811
CREATED:19230708T004237Z
LAST-MODIFIED:20230804T013251Z
UID:10007974-1694822400-1694995199@www.bcmagazine.net
SUMMARY:Oh! My Rock Macau Music Festival
DESCRIPTION:OH! MY ROCK Macau Music Festival\nDate: 16-17 September\, 2023\nVenue: Venetian Macau\nTickets: $543\, $400 from Ticketflap
URL:https://www.bcmagazine.net/event/oh-my-rock-macau-music-festival-2023/
LOCATION:Venetian Macau\, Cotai Pavilion\, Macau\, Macau
CATEGORIES:2023,Concert,Macau,Music,Nightlife,Performing Arts
ATTACH;FMTTYPE=image/jpeg:https://www.bcmagazine.net/wp-content/uploads/2023/07/Oh-my-rock-Macau-2023.jpeg
END:VEVENT
END:VCALENDAR