BEGIN:VCALENDAR
VERSION:2.0
PRODID:-//bc magazine - ECPv6.15.20//NONSGML v1.0//EN
CALSCALE:GREGORIAN
METHOD:PUBLISH
X-ORIGINAL-URL:https://www.bcmagazine.net
X-WR-CALDESC:Events for bc magazine
REFRESH-INTERVAL;VALUE=DURATION:PT1H
X-Robots-Tag:noindex
X-PUBLISHED-TTL:PT1H
BEGIN:VTIMEZONE
TZID:Asia/Hong_Kong
BEGIN:STANDARD
TZOFFSETFROM:+0800
TZOFFSETTO:+0800
TZNAME:HKT
DTSTART:20230101T000000
END:STANDARD
END:VTIMEZONE
BEGIN:VEVENT
DTSTART;TZID=Asia/Hong_Kong:20241008T200000
DTEND;TZID=Asia/Hong_Kong:20241008T200000
DTSTAMP:20260422T045957
CREATED:20240806T085402Z
LAST-MODIFIED:20240923T145912Z
UID:10010004-1728417600-1728417600@www.bcmagazine.net
SUMMARY:Wednesday Campanella
DESCRIPTION:Wednesday Campanella\nDate: 8pm\, 8 October\, 2024\nVenue: Kitty Woo Stadium\, TungPo\nTickets: $780\, $680
URL:https://www.bcmagazine.net/event/wednesday-campanella-hk-2024/
LOCATION:Kitty Woo Stadium\, 2\, Tsat Po Street\, San Po Kong\, Hong Kong
CATEGORIES:2024,Concert,Music,Performing Arts
ATTACH;FMTTYPE=image/jpeg:https://www.bcmagazine.net/wp-content/uploads/1924/08/Wednesday-Campanella-HK-2024.jpg
END:VEVENT
BEGIN:VEVENT
DTSTART;VALUE=DATE:20241010
DTEND;VALUE=DATE:20241021
DTSTAMP:20260422T045957
CREATED:20241003T124604Z
LAST-MODIFIED:20241005T141323Z
UID:10010164-1728518400-1729468799@www.bcmagazine.net
SUMMARY:KINO/24
DESCRIPTION:KINO/24 – German Film Festival\nDate: 10-20 October\, 2024\nVenue: HKAC\, Louis Koo Cinema; HK Film Archive; Elements Premiere; Broadway Cinematheque\nTickets: $95\, $85\, $70 HKfilm\, HKfilmfestival
URL:https://www.bcmagazine.net/event/kino-24/
CATEGORIES:2024,Film,Performing Arts
ATTACH;FMTTYPE=image/webp:https://www.bcmagazine.net/wp-content/uploads/2021/10/kino24.jpg.webp
END:VEVENT
BEGIN:VEVENT
DTSTART;VALUE=DATE:20241011
DTEND;VALUE=DATE:20241014
DTSTAMP:20260422T045957
CREATED:20240715T041457Z
LAST-MODIFIED:20240923T142542Z
UID:10009998-1728604800-1728863999@www.bcmagazine.net
SUMMARY:The World Games Series 2024 Hong Kong
DESCRIPTION:The World Games Series 2024 Hong Kong\nDate: 11-13 October\, 2024\nVenue: Go Park Sai Sha\nTickets: $220\, $180
URL:https://www.bcmagazine.net/event/the-world-games-series-2024-hong-kong/
LOCATION:Go Park Sai Sha\, 9 Hoi Ying Road\, Sai Sha\, Hong Kong
CATEGORIES:2024,Sport,Tennis
ATTACH;FMTTYPE=image/webp:https://www.bcmagazine.net/wp-content/uploads/2024/07/The-World-Games-Series-2024-Hong-Kong.webp
END:VEVENT
BEGIN:VEVENT
DTSTART;VALUE=DATE:20241013
DTEND;VALUE=DATE:20241014
DTSTAMP:20260422T045957
CREATED:20240819T074637Z
LAST-MODIFIED:20240820T111427Z
UID:10009832-1728777600-1728863999@www.bcmagazine.net
SUMMARY:Cyclothon
DESCRIPTION:Cyclothon\nDate: 13 October 2024\nVenue: West Kowloon\nTickets: $600\, $350\, $280\nMore info: registration www.discoverhongkong.com/cyclothon\nNew route for 2024\, Tsim Sha Tsui to Tsing Yi via Cheung Tsing Tunnel\, heads towards Tsing Ma Bridge\, Ting Kau Bridge\, Nam Wan Tunnel\, Stonecutters Bridge\, Eagle’s Nest Tunnel and Sha Tin Heights Tunnel before returning to West Kowloon
URL:https://www.bcmagazine.net/event/cyclothon-2024/
LOCATION:West Kowloon Culture District\, West Kowloon Waterfront Promenade\, Hong Kong
CATEGORIES:2024,Cycling,Sport
ATTACH;FMTTYPE=image/jpeg:https://www.bcmagazine.net/wp-content/uploads/1918/07/HK-Cyclothon-2024.jpeg
GEO:22.302243;114.155596
X-APPLE-STRUCTURED-LOCATION;VALUE=URI;X-ADDRESS=West Kowloon Culture District West Kowloon Waterfront Promenade Hong Kong;X-APPLE-RADIUS=500;X-TITLE=West Kowloon Waterfront Promenade:geo:114.155596,22.302243
END:VEVENT
BEGIN:VEVENT
DTSTART;TZID=Asia/Hong_Kong:20241013T133000
DTEND;TZID=Asia/Hong_Kong:20241013T133000
DTSTAMP:20260422T045957
CREATED:20240915T140212Z
LAST-MODIFIED:20241009T092309Z
UID:10010168-1728826200-1728826200@www.bcmagazine.net
SUMMARY:Hong Kong v Japan
DESCRIPTION:Hong Kong v Japan – East Asia Cup\nDate: 13:30\, 13 October\, 2024\nVenue: Hokkaido\, Japan\nTickets: Free\nMore info: https://espn2broadcast.takemaster.org/rugby.php
URL:https://www.bcmagazine.net/event/hong-kong-v-japan-2024/
CATEGORIES:2024,Free,Rugby League,Sport
ATTACH;FMTTYPE=image/jpeg:https://www.bcmagazine.net/wp-content/uploads/2019/02/Hk-v-Japan-rugby-league-2024.jpg
END:VEVENT
END:VCALENDAR