BEGIN:VCALENDAR
VERSION:2.0
PRODID:-//bc magazine - ECPv6.15.20//NONSGML v1.0//EN
CALSCALE:GREGORIAN
METHOD:PUBLISH
X-WR-CALNAME:bc magazine
X-ORIGINAL-URL:https://www.bcmagazine.net
X-WR-CALDESC:Events for bc magazine
REFRESH-INTERVAL;VALUE=DURATION:PT1H
X-Robots-Tag:noindex
X-PUBLISHED-TTL:PT1H
BEGIN:VTIMEZONE
TZID:Asia/Hong_Kong
BEGIN:STANDARD
TZOFFSETFROM:+0800
TZOFFSETTO:+0800
TZNAME:HKT
DTSTART:20160101T000000
END:STANDARD
END:VTIMEZONE
BEGIN:VEVENT
DTSTART;TZID=Asia/Hong_Kong:20170702T200000
DTEND;TZID=Asia/Hong_Kong:20170702T200000
DTSTAMP:20260425T080115
CREATED:19170613T025351Z
LAST-MODIFIED:20170613T032349Z
UID:10002857-1499025600-1499025600@www.bcmagazine.net
SUMMARY:Love Song Before 90's
DESCRIPTION:Love Song Before 90’s\n0923 Plus Theatre\nDate: 30 June-2 July\, 2017\nVenue: Jockey Club Creative Arts Centre\, Black Box Theatre\nTickets: $180 from Urbtix
URL:https://www.bcmagazine.net/event/love-song-before-90s-2017/2017-07-02/
LOCATION:Jockey Club Creative Arts Centre\, Black Box Theatre\, 30 Pak Tin Street\, Shek Kip Mei\, Hong Kong
CATEGORIES:2017,Performing Arts,Theatre
GEO:22.3346654;114.1657188
X-APPLE-STRUCTURED-LOCATION;VALUE=URI;X-ADDRESS=Jockey Club Creative Arts Centre Black Box Theatre 30 Pak Tin Street Shek Kip Mei Hong Kong;X-APPLE-RADIUS=500;X-TITLE=30 Pak Tin Street:geo:114.1657188,22.3346654
END:VEVENT
BEGIN:VEVENT
DTSTART;TZID=Asia/Hong_Kong:20170701T200000
DTEND;TZID=Asia/Hong_Kong:20170701T200000
DTSTAMP:20260425T080115
CREATED:19170613T025351Z
LAST-MODIFIED:20170613T032349Z
UID:10002856-1498939200-1498939200@www.bcmagazine.net
SUMMARY:Love Song Before 90's
DESCRIPTION:Love Song Before 90’s\n0923 Plus Theatre\nDate: 30 June-2 July\, 2017\nVenue: Jockey Club Creative Arts Centre\, Black Box Theatre\nTickets: $180 from Urbtix
URL:https://www.bcmagazine.net/event/love-song-before-90s-2017/2017-07-01/
LOCATION:Jockey Club Creative Arts Centre\, Black Box Theatre\, 30 Pak Tin Street\, Shek Kip Mei\, Hong Kong
CATEGORIES:2017,Performing Arts,Theatre
GEO:22.3346654;114.1657188
X-APPLE-STRUCTURED-LOCATION;VALUE=URI;X-ADDRESS=Jockey Club Creative Arts Centre Black Box Theatre 30 Pak Tin Street Shek Kip Mei Hong Kong;X-APPLE-RADIUS=500;X-TITLE=30 Pak Tin Street:geo:114.1657188,22.3346654
END:VEVENT
BEGIN:VEVENT
DTSTART;TZID=Asia/Hong_Kong:20170630T200000
DTEND;TZID=Asia/Hong_Kong:20170630T200000
DTSTAMP:20260425T080115
CREATED:19170613T025351Z
LAST-MODIFIED:20170613T032349Z
UID:10002855-1498852800-1498852800@www.bcmagazine.net
SUMMARY:Love Song Before 90's
DESCRIPTION:Love Song Before 90’s\n0923 Plus Theatre\nDate: 30 June-2 July\, 2017\nVenue: Jockey Club Creative Arts Centre\, Black Box Theatre\nTickets: $180 from Urbtix
URL:https://www.bcmagazine.net/event/love-song-before-90s-2017/2017-06-30/
LOCATION:Jockey Club Creative Arts Centre\, Black Box Theatre\, 30 Pak Tin Street\, Shek Kip Mei\, Hong Kong
CATEGORIES:2017,Performing Arts,Theatre
GEO:22.3346654;114.1657188
X-APPLE-STRUCTURED-LOCATION;VALUE=URI;X-ADDRESS=Jockey Club Creative Arts Centre Black Box Theatre 30 Pak Tin Street Shek Kip Mei Hong Kong;X-APPLE-RADIUS=500;X-TITLE=30 Pak Tin Street:geo:114.1657188,22.3346654
END:VEVENT
END:VCALENDAR