BEGIN:VCALENDAR
VERSION:2.0
PRODID:-//bc magazine - ECPv6.15.20//NONSGML v1.0//EN
CALSCALE:GREGORIAN
METHOD:PUBLISH
X-WR-CALNAME:bc magazine
X-ORIGINAL-URL:https://www.bcmagazine.net
X-WR-CALDESC:Events for bc magazine
REFRESH-INTERVAL;VALUE=DURATION:PT1H
X-Robots-Tag:noindex
X-PUBLISHED-TTL:PT1H
BEGIN:VTIMEZONE
TZID:Asia/Hong_Kong
BEGIN:STANDARD
TZOFFSETFROM:+0800
TZOFFSETTO:+0800
TZNAME:HKT
DTSTART:20170101T000000
END:STANDARD
END:VTIMEZONE
BEGIN:VEVENT
DTSTART;VALUE=DATE:20191026
DTEND;VALUE=DATE:20191027
DTSTAMP:20260424T122105
CREATED:19151013T093331Z
LAST-MODIFIED:20190724T042420Z
UID:10000107-1572048000-1572134399@www.bcmagazine.net
SUMMARY:Rotten Head Music Festival
DESCRIPTION:Rotten Head Music Festival\nDate: 12pm\, 26 October\, 2019\nVenue: Tat Tung Road Garden\nTickets: tbc
URL:https://www.bcmagazine.net/event/rotten-head-music-festival-2019/
LOCATION:Hong Kong
CATEGORIES:2019,Concert,Food,Market,Music,Performing Arts
ATTACH;FMTTYPE=image/jpeg:https://www.bcmagazine.net/wp-content/uploads/2015/10/Rotten-head-Frestival.jpg
END:VEVENT
BEGIN:VEVENT
DTSTART;TZID=Asia/Hong_Kong:20181022T200000
DTEND;TZID=Asia/Hong_Kong:20181022T200000
DTSTAMP:20260424T122105
CREATED:19181002T080042Z
LAST-MODIFIED:20181003T005111Z
UID:10004485-1540238400-1540238400@www.bcmagazine.net
SUMMARY:Al Tei
DESCRIPTION:Al Tei – Chants from World War I\nDate: 8pm\, 22 October\, 2018\nVenues: Youth Square\, Y Theatre\nTickets: Free\, register here
URL:https://www.bcmagazine.net/event/al-tei-2018/
LOCATION:Youth Square\, Y Theatre\, 238 Chai Wan Road\, Chai Wan\, Hong Kong
CATEGORIES:2018,Concert,Free,Music,Performing Arts
ATTACH;FMTTYPE=image/jpeg:https://www.bcmagazine.net/wp-content/uploads/1918/10/Al-Tei-2018.jpg
GEO:22.26301;114.2366034
X-APPLE-STRUCTURED-LOCATION;VALUE=URI;X-ADDRESS=Youth Square Y Theatre 238 Chai Wan Road Chai Wan Hong Kong;X-APPLE-RADIUS=500;X-TITLE=238 Chai Wan Road:geo:114.2366034,22.26301
END:VEVENT
BEGIN:VEVENT
DTSTART;TZID=Asia/Hong_Kong:20181018T200000
DTEND;TZID=Asia/Hong_Kong:20181018T200000
DTSTAMP:20260424T122105
CREATED:19181002T080042Z
LAST-MODIFIED:20181003T004722Z
UID:10004484-1539892800-1539892800@www.bcmagazine.net
SUMMARY:Galanìas
DESCRIPTION:Galanìas\nDate: 8pm\, 18 October\, 2018\nVenues: Youth Square\, Y Theatre\nTickets: Free\, register here
URL:https://www.bcmagazine.net/event/galanias-2018/
LOCATION:Youth Square\, Y Theatre\, 238 Chai Wan Road\, Chai Wan\, Hong Kong
CATEGORIES:2018,Concert,Free,Music,Performing Arts
ATTACH;FMTTYPE=image/jpeg:https://www.bcmagazine.net/wp-content/uploads/1918/10/Galanias-2018.jpg
GEO:22.26301;114.2366034
X-APPLE-STRUCTURED-LOCATION;VALUE=URI;X-ADDRESS=Youth Square Y Theatre 238 Chai Wan Road Chai Wan Hong Kong;X-APPLE-RADIUS=500;X-TITLE=238 Chai Wan Road:geo:114.2366034,22.26301
END:VEVENT
END:VCALENDAR