BEGIN:VCALENDAR
VERSION:2.0
PRODID:-//bc magazine - ECPv6.15.20//NONSGML v1.0//EN
CALSCALE:GREGORIAN
METHOD:PUBLISH
X-WR-CALNAME:bc magazine
X-ORIGINAL-URL:https://www.bcmagazine.net
X-WR-CALDESC:Events for bc magazine
REFRESH-INTERVAL;VALUE=DURATION:PT1H
X-Robots-Tag:noindex
X-PUBLISHED-TTL:PT1H
BEGIN:VTIMEZONE
TZID:Asia/Hong_Kong
BEGIN:STANDARD
TZOFFSETFROM:+0800
TZOFFSETTO:+0800
TZNAME:HKT
DTSTART:20160101T000000
END:STANDARD
END:VTIMEZONE
BEGIN:VEVENT
DTSTART;TZID=Asia/Hong_Kong:20220410T150000
DTEND;TZID=Asia/Hong_Kong:20220410T150000
DTSTAMP:20260426T035731
CREATED:20230115T053825Z
LAST-MODIFIED:20230115T053825Z
UID:10005194-1649602800-1649602800@www.bcmagazine.net
SUMMARY:Chung Ying Theatre-Twelfth Night
DESCRIPTION:Twelfth Night\nChung Ying Theatre\nDate: 1-3\, 6-10 April\, 2022\nVenue: HK Cultural Centre\, Studio Theatre\nTickets: $300\, $200 from Urbtix
URL:https://www.bcmagazine.net/event/chung-ying-theatre-twelfth-night/2022-04-10/
LOCATION:HK Cultural Centre\, Studio Theatre\, 10 Salisbury Road\, Tsim Sha Tsui\, Hong Kong
CATEGORIES:2022,Cantonese drama,Multimedia,Music,Performing Arts,Theatre
ATTACH;FMTTYPE=image/jpeg:https://www.bcmagazine.net/wp-content/uploads/1921/05/twelth-night-chung-ying-2022.jpeg
END:VEVENT
BEGIN:VEVENT
DTSTART;TZID=Asia/Hong_Kong:20220409T200000
DTEND;TZID=Asia/Hong_Kong:20220409T200000
DTSTAMP:20260426T035731
CREATED:19210503T085402Z
LAST-MODIFIED:20211006T075947Z
UID:10005190-1649534400-1649534400@www.bcmagazine.net
SUMMARY:Chung Ying Theatre-Twelfth Night
DESCRIPTION:Twelfth Night\nChung Ying Theatre\nDate: 1-3\, 6-10 April\, 2022\nVenue: HK Cultural Centre\, Studio Theatre\nTickets: $300\, $200 from Urbtix
URL:https://www.bcmagazine.net/event/chung-ying-theatre-twelfth-night/2022-04-09/
LOCATION:HK Cultural Centre\, Studio Theatre\, 10 Salisbury Road\, Tsim Sha Tsui\, Hong Kong
CATEGORIES:2022,Cantonese drama,Multimedia,Music,Performing Arts,Theatre
ATTACH;FMTTYPE=image/jpeg:https://www.bcmagazine.net/wp-content/uploads/1921/05/twelth-night-chung-ying-2022.jpeg
END:VEVENT
BEGIN:VEVENT
DTSTART;TZID=Asia/Hong_Kong:20220409T150000
DTEND;TZID=Asia/Hong_Kong:20220409T150000
DTSTAMP:20260426T035731
CREATED:20230115T053825Z
LAST-MODIFIED:20230115T053825Z
UID:10005193-1649516400-1649516400@www.bcmagazine.net
SUMMARY:Chung Ying Theatre-Twelfth Night
DESCRIPTION:Twelfth Night\nChung Ying Theatre\nDate: 1-3\, 6-10 April\, 2022\nVenue: HK Cultural Centre\, Studio Theatre\nTickets: $300\, $200 from Urbtix
URL:https://www.bcmagazine.net/event/chung-ying-theatre-twelfth-night/2022-04-09/
LOCATION:HK Cultural Centre\, Studio Theatre\, 10 Salisbury Road\, Tsim Sha Tsui\, Hong Kong
CATEGORIES:2022,Cantonese drama,Multimedia,Music,Performing Arts,Theatre
ATTACH;FMTTYPE=image/jpeg:https://www.bcmagazine.net/wp-content/uploads/1921/05/twelth-night-chung-ying-2022.jpeg
END:VEVENT
BEGIN:VEVENT
DTSTART;TZID=Asia/Hong_Kong:20220408T200000
DTEND;TZID=Asia/Hong_Kong:20220408T200000
DTSTAMP:20260426T035731
CREATED:19210503T085402Z
LAST-MODIFIED:20211006T075947Z
UID:10005189-1649448000-1649448000@www.bcmagazine.net
SUMMARY:Chung Ying Theatre-Twelfth Night
DESCRIPTION:Twelfth Night\nChung Ying Theatre\nDate: 1-3\, 6-10 April\, 2022\nVenue: HK Cultural Centre\, Studio Theatre\nTickets: $300\, $200 from Urbtix
URL:https://www.bcmagazine.net/event/chung-ying-theatre-twelfth-night/2022-04-08/
LOCATION:HK Cultural Centre\, Studio Theatre\, 10 Salisbury Road\, Tsim Sha Tsui\, Hong Kong
CATEGORIES:2022,Cantonese drama,Multimedia,Music,Performing Arts,Theatre
ATTACH;FMTTYPE=image/jpeg:https://www.bcmagazine.net/wp-content/uploads/1921/05/twelth-night-chung-ying-2022.jpeg
END:VEVENT
BEGIN:VEVENT
DTSTART;TZID=Asia/Hong_Kong:20220407T200000
DTEND;TZID=Asia/Hong_Kong:20220407T200000
DTSTAMP:20260426T035731
CREATED:19210503T085402Z
LAST-MODIFIED:20211006T075947Z
UID:10005188-1649361600-1649361600@www.bcmagazine.net
SUMMARY:Chung Ying Theatre-Twelfth Night
DESCRIPTION:Twelfth Night\nChung Ying Theatre\nDate: 1-3\, 6-10 April\, 2022\nVenue: HK Cultural Centre\, Studio Theatre\nTickets: $300\, $200 from Urbtix
URL:https://www.bcmagazine.net/event/chung-ying-theatre-twelfth-night/2022-04-07/
LOCATION:HK Cultural Centre\, Studio Theatre\, 10 Salisbury Road\, Tsim Sha Tsui\, Hong Kong
CATEGORIES:2022,Cantonese drama,Multimedia,Music,Performing Arts,Theatre
ATTACH;FMTTYPE=image/jpeg:https://www.bcmagazine.net/wp-content/uploads/1921/05/twelth-night-chung-ying-2022.jpeg
END:VEVENT
BEGIN:VEVENT
DTSTART;TZID=Asia/Hong_Kong:20220406T200000
DTEND;TZID=Asia/Hong_Kong:20220406T200000
DTSTAMP:20260426T035731
CREATED:19210503T085402Z
LAST-MODIFIED:20211006T075947Z
UID:10005187-1649275200-1649275200@www.bcmagazine.net
SUMMARY:Chung Ying Theatre-Twelfth Night
DESCRIPTION:Twelfth Night\nChung Ying Theatre\nDate: 1-3\, 6-10 April\, 2022\nVenue: HK Cultural Centre\, Studio Theatre\nTickets: $300\, $200 from Urbtix
URL:https://www.bcmagazine.net/event/chung-ying-theatre-twelfth-night/2022-04-06/
LOCATION:HK Cultural Centre\, Studio Theatre\, 10 Salisbury Road\, Tsim Sha Tsui\, Hong Kong
CATEGORIES:2022,Cantonese drama,Multimedia,Music,Performing Arts,Theatre
ATTACH;FMTTYPE=image/jpeg:https://www.bcmagazine.net/wp-content/uploads/1921/05/twelth-night-chung-ying-2022.jpeg
END:VEVENT
BEGIN:VEVENT
DTSTART;TZID=Asia/Hong_Kong:20220403T150000
DTEND;TZID=Asia/Hong_Kong:20220403T150000
DTSTAMP:20260426T035731
CREATED:20230115T053825Z
LAST-MODIFIED:20230115T053825Z
UID:10005192-1648998000-1648998000@www.bcmagazine.net
SUMMARY:Chung Ying Theatre-Twelfth Night
DESCRIPTION:Twelfth Night\nChung Ying Theatre\nDate: 1-3\, 6-10 April\, 2022\nVenue: HK Cultural Centre\, Studio Theatre\nTickets: $300\, $200 from Urbtix
URL:https://www.bcmagazine.net/event/chung-ying-theatre-twelfth-night/2022-04-03/
LOCATION:HK Cultural Centre\, Studio Theatre\, 10 Salisbury Road\, Tsim Sha Tsui\, Hong Kong
CATEGORIES:2022,Cantonese drama,Multimedia,Music,Performing Arts,Theatre
ATTACH;FMTTYPE=image/jpeg:https://www.bcmagazine.net/wp-content/uploads/1921/05/twelth-night-chung-ying-2022.jpeg
END:VEVENT
BEGIN:VEVENT
DTSTART;TZID=Asia/Hong_Kong:20220402T200000
DTEND;TZID=Asia/Hong_Kong:20220402T200000
DTSTAMP:20260426T035731
CREATED:19210503T085402Z
LAST-MODIFIED:20211006T075947Z
UID:10005186-1648929600-1648929600@www.bcmagazine.net
SUMMARY:Chung Ying Theatre-Twelfth Night
DESCRIPTION:Twelfth Night\nChung Ying Theatre\nDate: 1-3\, 6-10 April\, 2022\nVenue: HK Cultural Centre\, Studio Theatre\nTickets: $300\, $200 from Urbtix
URL:https://www.bcmagazine.net/event/chung-ying-theatre-twelfth-night/2022-04-02/
LOCATION:HK Cultural Centre\, Studio Theatre\, 10 Salisbury Road\, Tsim Sha Tsui\, Hong Kong
CATEGORIES:2022,Cantonese drama,Multimedia,Music,Performing Arts,Theatre
ATTACH;FMTTYPE=image/jpeg:https://www.bcmagazine.net/wp-content/uploads/1921/05/twelth-night-chung-ying-2022.jpeg
END:VEVENT
BEGIN:VEVENT
DTSTART;TZID=Asia/Hong_Kong:20220402T150000
DTEND;TZID=Asia/Hong_Kong:20220402T150000
DTSTAMP:20260426T035731
CREATED:20230115T053825Z
LAST-MODIFIED:20230115T053825Z
UID:10005191-1648911600-1648911600@www.bcmagazine.net
SUMMARY:Chung Ying Theatre-Twelfth Night
DESCRIPTION:Twelfth Night\nChung Ying Theatre\nDate: 1-3\, 6-10 April\, 2022\nVenue: HK Cultural Centre\, Studio Theatre\nTickets: $300\, $200 from Urbtix
URL:https://www.bcmagazine.net/event/chung-ying-theatre-twelfth-night/2022-04-02/
LOCATION:HK Cultural Centre\, Studio Theatre\, 10 Salisbury Road\, Tsim Sha Tsui\, Hong Kong
CATEGORIES:2022,Cantonese drama,Multimedia,Music,Performing Arts,Theatre
ATTACH;FMTTYPE=image/jpeg:https://www.bcmagazine.net/wp-content/uploads/1921/05/twelth-night-chung-ying-2022.jpeg
END:VEVENT
BEGIN:VEVENT
DTSTART;TZID=Asia/Hong_Kong:20220401T200000
DTEND;TZID=Asia/Hong_Kong:20220401T200000
DTSTAMP:20260426T035731
CREATED:19210503T085402Z
LAST-MODIFIED:20211006T075947Z
UID:10005185-1648843200-1648843200@www.bcmagazine.net
SUMMARY:Chung Ying Theatre-Twelfth Night
DESCRIPTION:Twelfth Night\nChung Ying Theatre\nDate: 1-3\, 6-10 April\, 2022\nVenue: HK Cultural Centre\, Studio Theatre\nTickets: $300\, $200 from Urbtix
URL:https://www.bcmagazine.net/event/chung-ying-theatre-twelfth-night/2022-04-01/
LOCATION:HK Cultural Centre\, Studio Theatre\, 10 Salisbury Road\, Tsim Sha Tsui\, Hong Kong
CATEGORIES:2022,Cantonese drama,Multimedia,Music,Performing Arts,Theatre
ATTACH;FMTTYPE=image/jpeg:https://www.bcmagazine.net/wp-content/uploads/1921/05/twelth-night-chung-ying-2022.jpeg
END:VEVENT
BEGIN:VEVENT
DTSTART;VALUE=DATE:20210917
DTEND;VALUE=DATE:20210923
DTSTAMP:20260426T035731
CREATED:20210912T085402Z
LAST-MODIFIED:20210920T021501Z
UID:10006676-1631836800-1632355199@www.bcmagazine.net
SUMMARY:Cobra Fest
DESCRIPTION:Cobra Fest\nBunch of Fives\, Buddha Boys\, Visaal\, Ovin\, Chimsey\, Christian\, Fabsabs\, Grace\, Keith Holden\, Darka\, Chris F\, Loveless\, Eddie\, DJ Gruv\, Johnathan Chan\, Frankie Lam\, AKW\, Cookie\, Wendy Wenn\, Jamie Rogers\, Major Tom\, DJ Wuhoo B2B Aymeric\nDate: 2pm\, 17-22 September\, 2021\nVenue: The Cobra Beach Club\, Silvermine Beach\, Mui Wo\, Lantau Island\nTickets: Free
URL:https://www.bcmagazine.net/event/cobra-fest-2021/
LOCATION:Cobra Beacch Club\, Silvermine Beach\, Mui Wo\, Lantau Island\, Hong Kong
CATEGORIES:2021,DJ,Music,Nightlife
ATTACH;FMTTYPE=image/jpeg:https://www.bcmagazine.net/wp-content/uploads/1921/05/cobra-fest-2021.jpg
END:VEVENT
BEGIN:VEVENT
DTSTART;TZID=Asia/Hong_Kong:20181125T150000
DTEND;TZID=Asia/Hong_Kong:20181125T150000
DTSTAMP:20260426T035731
CREATED:19181002T010042Z
LAST-MODIFIED:20181004T095352Z
UID:10004470-1543158000-1543158000@www.bcmagazine.net
SUMMARY:Confucius 63 Revisited
DESCRIPTION:Confucius 63 Revisited\nChung Ying Theatre\nDate: 24-25 November\, 2018\nVenues: The Venetian Theatre\nTickets: $150\, $100 from CotaiTicketing
URL:https://www.bcmagazine.net/event/confucius-63-revisited-macau-25-11-2018/
LOCATION:The Venetian Theatre\, Venetian Macao\, Taipa\, Macau
CATEGORIES:2018,Macau,Performing Arts,Theatre
ATTACH;FMTTYPE=image/jpeg:https://www.bcmagazine.net/wp-content/uploads/1918/10/confucius-63-revisited-macau-2018.jpg
GEO:22.1483528;113.5602019
X-APPLE-STRUCTURED-LOCATION;VALUE=URI;X-ADDRESS=The Venetian Theatre Venetian Macao Taipa Macau;X-APPLE-RADIUS=500;X-TITLE=Venetian Macao:geo:113.5602019,22.1483528
END:VEVENT
BEGIN:VEVENT
DTSTART;TZID=Asia/Hong_Kong:20181124T200000
DTEND;TZID=Asia/Hong_Kong:20181124T200000
DTSTAMP:20260426T035731
CREATED:19181002T010042Z
LAST-MODIFIED:20181004T095211Z
UID:10004469-1543089600-1543089600@www.bcmagazine.net
SUMMARY:Confucius 63 Revisited
DESCRIPTION:Confucius 63 Revisited\nChung Ying Theatre\nDate: 24-25 November\, 2018\nVenues: The Venetian Theatre\nTickets: $150\, $100 from CotaiTicketing
URL:https://www.bcmagazine.net/event/confucius-63-revisited-macau-24-11-2018/
LOCATION:The Venetian Theatre\, Venetian Macao\, Taipa\, Macau
CATEGORIES:2018,Macau,Performing Arts,Theatre
ATTACH;FMTTYPE=image/jpeg:https://www.bcmagazine.net/wp-content/uploads/1918/10/confucius-63-revisited-macau-2018.jpg
GEO:22.1483528;113.5602019
X-APPLE-STRUCTURED-LOCATION;VALUE=URI;X-ADDRESS=The Venetian Theatre Venetian Macao Taipa Macau;X-APPLE-RADIUS=500;X-TITLE=Venetian Macao:geo:113.5602019,22.1483528
END:VEVENT
BEGIN:VEVENT
DTSTART;TZID=Asia/Hong_Kong:20180408T150000
DTEND;TZID=Asia/Hong_Kong:20180408T150000
DTSTAMP:20260426T035731
CREATED:19171010T092932Z
LAST-MODIFIED:20171010T103859Z
UID:10003556-1523199600-1523199600@www.bcmagazine.net
SUMMARY:Rashomon
DESCRIPTION:Rashomon\nChung Ying Theatre\nDate: 30 March – 8 April\, 2018\nVenue: HK Cultural Centre\, Studio Theatre\nTickets: $220\, $180 from Urbtix\nMore info:\nCantonese drama\n30 March – 8pm\n31 March – 3pm\, 8pm\n1 April – 3pm\n4-7 April – 8pm\n7-8 April – 3pm
URL:https://www.bcmagazine.net/event/rashomon-chung-ying-theatre-08-04-2018/
LOCATION:HK Cultural Centre\, Studio Theatre\, 10 Salisbury Road\, Tsim Sha Tsui\, Hong Kong
CATEGORIES:2018,Cantonese drama,Performing Arts,Theatre
END:VEVENT
BEGIN:VEVENT
DTSTART;TZID=Asia/Hong_Kong:20180407T200000
DTEND;TZID=Asia/Hong_Kong:20180407T200000
DTSTAMP:20260426T035731
CREATED:19171010T092932Z
LAST-MODIFIED:20171010T103631Z
UID:10003554-1523131200-1523131200@www.bcmagazine.net
SUMMARY:Rashomon
DESCRIPTION:Rashomon\nChung Ying Theatre\nDate: 30 March – 8 April\, 2018\nVenue: HK Cultural Centre\, Studio Theatre\nTickets: $220\, $180 from Urbtix\nMore info:\nCantonese drama\n30 March – 8pm\n31 March – 3pm\, 8pm\n1 April – 3pm\n4-7 April – 8pm\n7-8 April – 3pm
URL:https://www.bcmagazine.net/event/rashomon-chung-ying-theatre-07-04-2018/
LOCATION:HK Cultural Centre\, Studio Theatre\, 10 Salisbury Road\, Tsim Sha Tsui\, Hong Kong
CATEGORIES:2018,Cantonese drama,Performing Arts,Theatre
END:VEVENT
BEGIN:VEVENT
DTSTART;TZID=Asia/Hong_Kong:20180406T200000
DTEND;TZID=Asia/Hong_Kong:20180406T200000
DTSTAMP:20260426T035731
CREATED:19171010T092932Z
LAST-MODIFIED:20171010T103638Z
UID:10003553-1523044800-1523044800@www.bcmagazine.net
SUMMARY:Rashomon
DESCRIPTION:Rashomon\nChung Ying Theatre\nDate: 30 March – 8 April\, 2018\nVenue: HK Cultural Centre\, Studio Theatre\nTickets: $220\, $180 from Urbtix\nMore info:\nCantonese drama\n30 March – 8pm\n31 March – 3pm\, 8pm\n1 April – 3pm\n4-7 April – 8pm\n7-8 April – 3pm
URL:https://www.bcmagazine.net/event/rashomon-chung-ying-theatre-06-04-2018/
LOCATION:HK Cultural Centre\, Studio Theatre\, 10 Salisbury Road\, Tsim Sha Tsui\, Hong Kong
CATEGORIES:2018,Cantonese drama,Performing Arts,Theatre
END:VEVENT
BEGIN:VEVENT
DTSTART;TZID=Asia/Hong_Kong:20180405T200000
DTEND;TZID=Asia/Hong_Kong:20180405T200000
DTSTAMP:20260426T035731
CREATED:19171010T092932Z
LAST-MODIFIED:20171010T103645Z
UID:10003552-1522958400-1522958400@www.bcmagazine.net
SUMMARY:Rashomon
DESCRIPTION:Rashomon\nChung Ying Theatre\nDate: 30 March – 8 April\, 2018\nVenue: HK Cultural Centre\, Studio Theatre\nTickets: $220\, $180 from Urbtix\nMore info:\nCantonese drama\n30 March – 8pm\n31 March – 3pm\, 8pm\n1 April – 3pm\n4-7 April – 8pm\n7-8 April – 3pm
URL:https://www.bcmagazine.net/event/rashomon-chung-ying-theatre-05-04-2018/
LOCATION:HK Cultural Centre\, Studio Theatre\, 10 Salisbury Road\, Tsim Sha Tsui\, Hong Kong
CATEGORIES:2018,Cantonese drama,Performing Arts,Theatre
END:VEVENT
BEGIN:VEVENT
DTSTART;TZID=Asia/Hong_Kong:20180404T200000
DTEND;TZID=Asia/Hong_Kong:20180404T200000
DTSTAMP:20260426T035731
CREATED:19171010T092932Z
LAST-MODIFIED:20171010T103658Z
UID:10003551-1522872000-1522872000@www.bcmagazine.net
SUMMARY:Rashomon
DESCRIPTION:Rashomon\nChung Ying Theatre\nDate: 30 March – 8 April\, 2018\nVenue: HK Cultural Centre\, Studio Theatre\nTickets: $220\, $180 from Urbtix\nMore info:\nCantonese drama\n30 March – 8pm\n31 March – 3pm\, 8pm\n1 April – 3pm\n4-7 April – 8pm\n7-8 April – 3pm
URL:https://www.bcmagazine.net/event/rashomon-chung-ying-theatre-04-04-2018/
LOCATION:HK Cultural Centre\, Studio Theatre\, 10 Salisbury Road\, Tsim Sha Tsui\, Hong Kong
CATEGORIES:2018,Cantonese drama,Performing Arts,Theatre
END:VEVENT
BEGIN:VEVENT
DTSTART;TZID=Asia/Hong_Kong:20180401T150000
DTEND;TZID=Asia/Hong_Kong:20180401T150000
DTSTAMP:20260426T035731
CREATED:19171010T092932Z
LAST-MODIFIED:20171010T103903Z
UID:10003555-1522594800-1522594800@www.bcmagazine.net
SUMMARY:Rashomon
DESCRIPTION:Rashomon\nChung Ying Theatre\nDate: 30 March – 8 April\, 2018\nVenue: HK Cultural Centre\, Studio Theatre\nTickets: $220\, $180 from Urbtix\nMore info:\nCantonese drama\n30 March – 8pm\n31 March – 3pm\, 8pm\n1 April – 3pm\n4-7 April – 8pm\n7-8 April – 3pm
URL:https://www.bcmagazine.net/event/rashomon-chung-ying-theatre-01-04-2018/
LOCATION:HK Cultural Centre\, Studio Theatre\, 10 Salisbury Road\, Tsim Sha Tsui\, Hong Kong
CATEGORIES:2018,Cantonese drama,Performing Arts,Theatre
END:VEVENT
BEGIN:VEVENT
DTSTART;TZID=Asia/Hong_Kong:20180331T200000
DTEND;TZID=Asia/Hong_Kong:20180331T200000
DTSTAMP:20260426T035731
CREATED:19171010T092932Z
LAST-MODIFIED:20171010T103701Z
UID:10003550-1522526400-1522526400@www.bcmagazine.net
SUMMARY:Rashomon
DESCRIPTION:Rashomon\nChung Ying Theatre\nDate: 30 March – 8 April\, 2018\nVenue: HK Cultural Centre\, Studio Theatre\nTickets: $220\, $180 from Urbtix\nMore info:\nCantonese drama\n30 March – 8pm\n31 March – 3pm\, 8pm\n1 April – 3pm\n4-7 April – 8pm\n7-8 April – 3pm
URL:https://www.bcmagazine.net/event/rashomon-chung-ying-theatre-31-03-2018/
LOCATION:HK Cultural Centre\, Studio Theatre\, 10 Salisbury Road\, Tsim Sha Tsui\, Hong Kong
CATEGORIES:2018,Cantonese drama,Performing Arts,Theatre
END:VEVENT
BEGIN:VEVENT
DTSTART;TZID=Asia/Hong_Kong:20180330T200000
DTEND;TZID=Asia/Hong_Kong:20180330T200000
DTSTAMP:20260426T035731
CREATED:19171010T092932Z
LAST-MODIFIED:20171010T103420Z
UID:10003547-1522440000-1522440000@www.bcmagazine.net
SUMMARY:Rashomon
DESCRIPTION:Rashomon\nChung Ying Theatre\nDate: 30 March – 8 April\, 2018\nVenue: HK Cultural Centre\, Studio Theatre\nTickets: $220\, $180 from Urbtix\nMore info:\nCantonese drama\n30 March – 8pm\n31 March – 3pm\, 8pm\n1 April – 3pm\n4-7 April – 8pm\n7-8 April – 3pm
URL:https://www.bcmagazine.net/event/rashomon-chung-ying-theatre-30-03-2018/
LOCATION:HK Cultural Centre\, Studio Theatre\, 10 Salisbury Road\, Tsim Sha Tsui\, Hong Kong
CATEGORIES:2018,Cantonese drama,Performing Arts,Theatre
END:VEVENT
BEGIN:VEVENT
DTSTART;TZID=Asia/Hong_Kong:20170827T150000
DTEND;TZID=Asia/Hong_Kong:20170827T150000
DTSTAMP:20260426T035731
CREATED:19170810T093057Z
LAST-MODIFIED:20170810T120229Z
UID:10003202-1503846000-1503846000@www.bcmagazine.net
SUMMARY:Water Margin's Lou Luo
DESCRIPTION:Water Margin’s Lou Luo\nChung Ying Theatre\nDate: 18-20\, 23-27 August 2017\nVenue: HK City Hall\, Theatre\nTickets: $280\, $180 from Urbtix\nMore info: Cantonese Drama
URL:https://www.bcmagazine.net/event/water-margins-lou-luo-27-08-2017/
LOCATION:HK City Hall\, Theatre\, 5 Edinburgh Place\, Central\, Hong Kong
CATEGORIES:2017,Cantonese drama,Performing Arts,Theatre
GEO:22.2822646;114.1615275
X-APPLE-STRUCTURED-LOCATION;VALUE=URI;X-ADDRESS=HK City Hall Theatre 5 Edinburgh Place Central Hong Kong;X-APPLE-RADIUS=500;X-TITLE=5 Edinburgh Place:geo:114.1615275,22.2822646
END:VEVENT
BEGIN:VEVENT
DTSTART;TZID=Asia/Hong_Kong:20170826T200000
DTEND;TZID=Asia/Hong_Kong:20170826T200000
DTSTAMP:20260426T035731
CREATED:19170810T093057Z
LAST-MODIFIED:20170810T120417Z
UID:10003206-1503777600-1503777600@www.bcmagazine.net
SUMMARY:Water Margin's Lou Luo
DESCRIPTION:Water Margin’s Lou Luo\nChung Ying Theatre\nDate: 18-20\, 23-27 August 2017\nVenue: HK City Hall\, Theatre\nTickets: $280\, $180 from Urbtix\nMore info: Cantonese Drama
URL:https://www.bcmagazine.net/event/water-margins-lou-luo-26-08-2017/
LOCATION:HK City Hall\, Theatre\, 5 Edinburgh Place\, Central\, Hong Kong
CATEGORIES:2017,Cantonese drama,Performing Arts,Theatre
GEO:22.2822646;114.1615275
X-APPLE-STRUCTURED-LOCATION;VALUE=URI;X-ADDRESS=HK City Hall Theatre 5 Edinburgh Place Central Hong Kong;X-APPLE-RADIUS=500;X-TITLE=5 Edinburgh Place:geo:114.1615275,22.2822646
END:VEVENT
BEGIN:VEVENT
DTSTART;TZID=Asia/Hong_Kong:20170825T200000
DTEND;TZID=Asia/Hong_Kong:20170825T200000
DTSTAMP:20260426T035731
CREATED:19170810T093057Z
LAST-MODIFIED:20170810T120434Z
UID:10003205-1503691200-1503691200@www.bcmagazine.net
SUMMARY:Water Margin's Lou Luo
DESCRIPTION:Water Margin’s Lou Luo\nChung Ying Theatre\nDate: 18-20\, 23-27 August 2017\nVenue: HK City Hall\, Theatre\nTickets: $280\, $180 from Urbtix\nMore info: Cantonese Drama
URL:https://www.bcmagazine.net/event/water-margins-lou-luo-25-08-2017/
LOCATION:HK City Hall\, Theatre\, 5 Edinburgh Place\, Central\, Hong Kong
CATEGORIES:2017,Cantonese drama,Performing Arts,Theatre
GEO:22.2822646;114.1615275
X-APPLE-STRUCTURED-LOCATION;VALUE=URI;X-ADDRESS=HK City Hall Theatre 5 Edinburgh Place Central Hong Kong;X-APPLE-RADIUS=500;X-TITLE=5 Edinburgh Place:geo:114.1615275,22.2822646
END:VEVENT
BEGIN:VEVENT
DTSTART;TZID=Asia/Hong_Kong:20170824T200000
DTEND;TZID=Asia/Hong_Kong:20170824T200000
DTSTAMP:20260426T035731
CREATED:19170810T093057Z
LAST-MODIFIED:20170810T120450Z
UID:10003204-1503604800-1503604800@www.bcmagazine.net
SUMMARY:Water Margin's Lou Luo
DESCRIPTION:Water Margin’s Lou Luo\nChung Ying Theatre\nDate: 18-20\, 23-27 August 2017\nVenue: HK City Hall\, Theatre\nTickets: $280\, $180 from Urbtix\nMore info: Cantonese Drama
URL:https://www.bcmagazine.net/event/water-margins-lou-luo-24-08-2017/
LOCATION:HK City Hall\, Theatre\, 5 Edinburgh Place\, Central\, Hong Kong
CATEGORIES:2017,Cantonese drama,Performing Arts,Theatre
GEO:22.2822646;114.1615275
X-APPLE-STRUCTURED-LOCATION;VALUE=URI;X-ADDRESS=HK City Hall Theatre 5 Edinburgh Place Central Hong Kong;X-APPLE-RADIUS=500;X-TITLE=5 Edinburgh Place:geo:114.1615275,22.2822646
END:VEVENT
BEGIN:VEVENT
DTSTART;TZID=Asia/Hong_Kong:20170823T200000
DTEND;TZID=Asia/Hong_Kong:20170823T200000
DTSTAMP:20260426T035731
CREATED:19170810T093057Z
LAST-MODIFIED:20170810T120500Z
UID:10003203-1503518400-1503518400@www.bcmagazine.net
SUMMARY:Water Margin's Lou Luo
DESCRIPTION:Water Margin’s Lou Luo\nChung Ying Theatre\nDate: 18-20\, 23-27 August 2017\nVenue: HK City Hall\, Theatre\nTickets: $280\, $180 from Urbtix\nMore info: Cantonese Drama
URL:https://www.bcmagazine.net/event/water-margins-lou-luo-23-08-2017/
LOCATION:HK City Hall\, Theatre\, 5 Edinburgh Place\, Central\, Hong Kong
CATEGORIES:2017,Cantonese drama,Performing Arts,Theatre
GEO:22.2822646;114.1615275
X-APPLE-STRUCTURED-LOCATION;VALUE=URI;X-ADDRESS=HK City Hall Theatre 5 Edinburgh Place Central Hong Kong;X-APPLE-RADIUS=500;X-TITLE=5 Edinburgh Place:geo:114.1615275,22.2822646
END:VEVENT
BEGIN:VEVENT
DTSTART;TZID=Asia/Hong_Kong:20170820T150000
DTEND;TZID=Asia/Hong_Kong:20170820T150000
DTSTAMP:20260426T035731
CREATED:19170810T093057Z
LAST-MODIFIED:20170810T120032Z
UID:10003201-1503241200-1503241200@www.bcmagazine.net
SUMMARY:Water Margin's Lou Luo
DESCRIPTION:Water Margin’s Lou Luo\nChung Ying Theatre\nDate: 18-20\, 23-27 August 2017\nVenue: HK City Hall\, Theatre\nTickets: $280\, $180 from Urbtix\nMore info: Cantonese Drama
URL:https://www.bcmagazine.net/event/water-margins-lou-luo-20-08-2017/
LOCATION:HK City Hall\, Theatre\, 5 Edinburgh Place\, Central\, Hong Kong
CATEGORIES:2017,Cantonese drama,Performing Arts,Theatre
GEO:22.2822646;114.1615275
X-APPLE-STRUCTURED-LOCATION;VALUE=URI;X-ADDRESS=HK City Hall Theatre 5 Edinburgh Place Central Hong Kong;X-APPLE-RADIUS=500;X-TITLE=5 Edinburgh Place:geo:114.1615275,22.2822646
END:VEVENT
BEGIN:VEVENT
DTSTART;TZID=Asia/Hong_Kong:20170819T200000
DTEND;TZID=Asia/Hong_Kong:20170819T200000
DTSTAMP:20260426T035731
CREATED:19170810T093057Z
LAST-MODIFIED:20170810T120020Z
UID:10003200-1503172800-1503172800@www.bcmagazine.net
SUMMARY:Water Margin's Lou Luo
DESCRIPTION:Water Margin’s Lou Luo\nChung Ying Theatre\nDate: 18-20\, 23-27 August 2017\nVenue: HK City Hall\, Theatre\nTickets: $280\, $180 from Urbtix\nMore info: Cantonese Drama
URL:https://www.bcmagazine.net/event/water-margins-lou-luo-19-08-2017/
LOCATION:HK City Hall\, Theatre\, 5 Edinburgh Place\, Central\, Hong Kong
CATEGORIES:2017,Cantonese drama,Performing Arts,Theatre
GEO:22.2822646;114.1615275
X-APPLE-STRUCTURED-LOCATION;VALUE=URI;X-ADDRESS=HK City Hall Theatre 5 Edinburgh Place Central Hong Kong;X-APPLE-RADIUS=500;X-TITLE=5 Edinburgh Place:geo:114.1615275,22.2822646
END:VEVENT
BEGIN:VEVENT
DTSTART;TZID=Asia/Hong_Kong:20170818T200000
DTEND;TZID=Asia/Hong_Kong:20170818T200000
DTSTAMP:20260426T035731
CREATED:19170810T093057Z
LAST-MODIFIED:20170810T120005Z
UID:10003199-1503086400-1503086400@www.bcmagazine.net
SUMMARY:Water Margin's Lou Luo
DESCRIPTION:Water Margin’s Lou Luo\nChung Ying Theatre\nDate: 18-20\, 23-27 August 2017\nVenue: HK City Hall\, Theatre\nTickets: $280\, $180 from Urbtix\nMore info: Cantonese Drama
URL:https://www.bcmagazine.net/event/water-margins-lou-luo-18-08-2017/
LOCATION:HK City Hall\, Theatre\, 5 Edinburgh Place\, Central\, Hong Kong
CATEGORIES:2017,Cantonese drama,Performing Arts,Theatre
GEO:22.2822646;114.1615275
X-APPLE-STRUCTURED-LOCATION;VALUE=URI;X-ADDRESS=HK City Hall Theatre 5 Edinburgh Place Central Hong Kong;X-APPLE-RADIUS=500;X-TITLE=5 Edinburgh Place:geo:114.1615275,22.2822646
END:VEVENT
BEGIN:VEVENT
DTSTART;TZID=Asia/Hong_Kong:20170402T200000
DTEND;TZID=Asia/Hong_Kong:20170402T200000
DTSTAMP:20260426T035731
CREATED:20230114T081518Z
LAST-MODIFIED:20230114T081518Z
UID:10001520-1491163200-1491163200@www.bcmagazine.net
SUMMARY:The Flick
DESCRIPTION:The Flick\nChung Ying Theatre Company\nDate: 24-26\, 29-31 March\, 1-2 April\, 2017\nVenue: HK Cultural Centre\, Studio Theatre\nTickets: $280\, $180 from Urbtix\nMore info:\n24-25\, 29-31 March\, 1 April 2017 – 8pm\n25-26 March\, 1-2 April 2017 – 3pm
URL:https://www.bcmagazine.net/event/the-flick-2017/2017-04-02/
LOCATION:HK Cultural Centre\, Studio Theatre\, 10 Salisbury Road\, Tsim Sha Tsui\, Hong Kong
CATEGORIES:2017,Performing Arts,Theatre
END:VEVENT
END:VCALENDAR