BEGIN:VCALENDAR
VERSION:2.0
PRODID:-//bc magazine - ECPv6.15.20//NONSGML v1.0//EN
CALSCALE:GREGORIAN
METHOD:PUBLISH
X-WR-CALNAME:bc magazine
X-ORIGINAL-URL:https://www.bcmagazine.net
X-WR-CALDESC:Events for bc magazine
REFRESH-INTERVAL;VALUE=DURATION:PT1H
X-Robots-Tag:noindex
X-PUBLISHED-TTL:PT1H
BEGIN:VTIMEZONE
TZID:Asia/Hong_Kong
BEGIN:STANDARD
TZOFFSETFROM:+0800
TZOFFSETTO:+0800
TZNAME:HKT
DTSTART:20170101T000000
END:STANDARD
END:VTIMEZONE
BEGIN:VEVENT
DTSTART;TZID=Asia/Hong_Kong:20180815T200000
DTEND;TZID=Asia/Hong_Kong:20180815T200000
DTSTAMP:20260424T092630
CREATED:19180802T094055Z
LAST-MODIFIED:20190924T041152Z
UID:10004362-1534363200-1534363200@www.bcmagazine.net
SUMMARY:Ichiko Aoba
DESCRIPTION:Ichiko Aoba Hong Kong Mini Live\nDate: 8pm\, 15 August\, 2018\nVenue: 2/F\, 204 Prince Edward Road West\nTickets: $250
URL:https://www.bcmagazine.net/event/ichiko-aoba-2018/
CATEGORIES:2018,Concert,Music,Performing Arts
ATTACH;FMTTYPE=image/jpeg:https://www.bcmagazine.net/wp-content/uploads/1918/08/ichiko-aoba-hk-2018.jpg
END:VEVENT
BEGIN:VEVENT
DTSTART;TZID=Asia/Hong_Kong:20180815T200000
DTEND;TZID=Asia/Hong_Kong:20180815T200000
DTSTAMP:20260424T092630
CREATED:19180802T094055Z
LAST-MODIFIED:20190924T041153Z
UID:10004363-1534363200-1534363200@www.bcmagazine.net
SUMMARY:The Sulis Club
DESCRIPTION:The Sulis Club\nDate: 8:30pm\, 24 August\, 2018\nVenue: La Base HK\nTickets: tbc
URL:https://www.bcmagazine.net/event/the-sulis-club-24-08-2018/
CATEGORIES:2018,Concert,Music,Performing Arts
END:VEVENT
BEGIN:VEVENT
DTSTART;TZID=Asia/Hong_Kong:20180810T200000
DTEND;TZID=Asia/Hong_Kong:20180810T200000
DTSTAMP:20260424T092630
CREATED:19180512T132328Z
LAST-MODIFIED:20180515T020601Z
UID:10004024-1533931200-1533931200@www.bcmagazine.net
SUMMARY:Lamp
DESCRIPTION:Lamp\nDate: 8pm\, 10 August\, 2018\nVenue: TTN\nTickets: tbc
URL:https://www.bcmagazine.net/event/lamp-2018/
LOCATION:This Town Needs (TTN)\, 1/F Ocean One\, 6 Shung Shun Street\, Yau Tong\, Hong Kong
CATEGORIES:2018,Concert,Music,Performing Arts
ATTACH;FMTTYPE=image/jpeg:https://www.bcmagazine.net/wp-content/uploads/1918/05/Lamp-asia-tour-2018.jpg
GEO:22.292861;114.23782
X-APPLE-STRUCTURED-LOCATION;VALUE=URI;X-ADDRESS=This Town Needs (TTN) 1/F Ocean One 6 Shung Shun Street Yau Tong Hong Kong;X-APPLE-RADIUS=500;X-TITLE=1/F Ocean One\, 6 Shung Shun Street:geo:114.23782,22.292861
END:VEVENT
BEGIN:VEVENT
DTSTART;TZID=Asia/Hong_Kong:20180621T200000
DTEND;TZID=Asia/Hong_Kong:20180621T200000
DTSTAMP:20260424T092630
CREATED:19180512T132328Z
LAST-MODIFIED:20180515T020144Z
UID:10004023-1529611200-1529611200@www.bcmagazine.net
SUMMARY:Siamese Cats
DESCRIPTION:Siamese Cats\nDate: 8pm\, 21 June\, 2018\nVenue: MOM Livehouse\nTickets: $350\, $280 (advance)
URL:https://www.bcmagazine.net/event/siamese-cats-2018/
LOCATION:MOM Livehouse\, B39 Seven Seas Shopping Centre\, 117-121 Kings Road\, North Point\, Hong Kong
CATEGORIES:2018,Concert,Music,Performing Arts
ATTACH;FMTTYPE=image/jpeg:https://www.bcmagazine.net/wp-content/uploads/1918/05/siamese-cats-2018.jpg
GEO:22.2884683;114.192803
X-APPLE-STRUCTURED-LOCATION;VALUE=URI;X-ADDRESS=MOM Livehouse B39 Seven Seas Shopping Centre 117-121 Kings Road North Point Hong Kong;X-APPLE-RADIUS=500;X-TITLE=B39 Seven Seas Shopping Centre\, 117-121 Kings Road:geo:114.192803,22.2884683
END:VEVENT
END:VCALENDAR