BEGIN:VCALENDAR
VERSION:2.0
PRODID:-//bc magazine - ECPv6.15.20//NONSGML v1.0//EN
CALSCALE:GREGORIAN
METHOD:PUBLISH
X-WR-CALNAME:bc magazine
X-ORIGINAL-URL:https://www.bcmagazine.net
X-WR-CALDESC:Events for bc magazine
REFRESH-INTERVAL;VALUE=DURATION:PT1H
X-Robots-Tag:noindex
X-PUBLISHED-TTL:PT1H
BEGIN:VTIMEZONE
TZID:Asia/Hong_Kong
BEGIN:STANDARD
TZOFFSETFROM:+0800
TZOFFSETTO:+0800
TZNAME:HKT
DTSTART:20160101T000000
END:STANDARD
END:VTIMEZONE
BEGIN:VEVENT
DTSTART;TZID=Asia/Hong_Kong:20210515T150000
DTEND;TZID=Asia/Hong_Kong:20210515T170000
DTSTAMP:20260422T033628
CREATED:19200405T044512Z
LAST-MODIFIED:20210427T103331Z
UID:10004943-1621090800-1621098000@www.bcmagazine.net
SUMMARY:Vertex
DESCRIPTION:Vertex\nE-Side Dance Company:\nTanki Wong x Justyne Li\, Dick Wong x Zoe Li\, Noel Pong x Duncan Tung\, Felix Ke x Cindy Cheung\nDate: 14-15 May\, 2021\nVenue: Ngau Chi Wan Civic Centre\, Theatre\nTickets: $160 from Urbtix\nMore info:\n14 May – 8pm\n15 May – 3pm
URL:https://www.bcmagazine.net/event/vertex/2021-05-15/
LOCATION:Ngau Chi Wan Civic Centre\, Theatre\, 2/F & 3/F\, Ngau Chi Wan Municipal Services Building\, 11 Clear Water Bay Road\, Kowloon\, Hong Kong
CATEGORIES:2021,Dance,Performing Arts
ATTACH;FMTTYPE=image/jpeg:https://www.bcmagazine.net/wp-content/uploads/1920/04/Vertex-e-side-dance.jpg
GEO:22.3345215;114.2089915
X-APPLE-STRUCTURED-LOCATION;VALUE=URI;X-ADDRESS=Ngau Chi Wan Civic Centre Theatre 2/F & 3/F Ngau Chi Wan Municipal Services Building 11 Clear Water Bay Road Kowloon Hong Kong;X-APPLE-RADIUS=500;X-TITLE=2/F & 3/F\, Ngau Chi Wan Municipal Services Building\, 11 Clear Water Bay Road:geo:114.2089915,22.3345215
END:VEVENT
BEGIN:VEVENT
DTSTART;TZID=Asia/Hong_Kong:20210514T200000
DTEND;TZID=Asia/Hong_Kong:20210514T200000
DTSTAMP:20260422T033628
CREATED:19200405T044512Z
LAST-MODIFIED:20210427T103331Z
UID:10004942-1621022400-1621022400@www.bcmagazine.net
SUMMARY:Vertex
DESCRIPTION:Vertex\nE-Side Dance Company:\nTanki Wong x Justyne Li\, Dick Wong x Zoe Li\, Noel Pong x Duncan Tung\, Felix Ke x Cindy Cheung\nDate: 14-15 May\, 2021\nVenue: Ngau Chi Wan Civic Centre\, Theatre\nTickets: $160 from Urbtix\nMore info:\n14 May – 8pm\n15 May – 3pm
URL:https://www.bcmagazine.net/event/vertex/2021-05-14/
LOCATION:Ngau Chi Wan Civic Centre\, Theatre\, 2/F & 3/F\, Ngau Chi Wan Municipal Services Building\, 11 Clear Water Bay Road\, Kowloon\, Hong Kong
CATEGORIES:2021,Dance,Performing Arts
ATTACH;FMTTYPE=image/jpeg:https://www.bcmagazine.net/wp-content/uploads/1920/04/Vertex-e-side-dance.jpg
GEO:22.3345215;114.2089915
X-APPLE-STRUCTURED-LOCATION;VALUE=URI;X-ADDRESS=Ngau Chi Wan Civic Centre Theatre 2/F & 3/F Ngau Chi Wan Municipal Services Building 11 Clear Water Bay Road Kowloon Hong Kong;X-APPLE-RADIUS=500;X-TITLE=2/F & 3/F\, Ngau Chi Wan Municipal Services Building\, 11 Clear Water Bay Road:geo:114.2089915,22.3345215
END:VEVENT
BEGIN:VEVENT
DTSTART;TZID=Asia/Hong_Kong:20170917T160000
DTEND;TZID=Asia/Hong_Kong:20170917T160000
DTSTAMP:20260422T033628
CREATED:19170807T083751Z
LAST-MODIFIED:20170807T122036Z
UID:10003146-1505664000-1505664000@www.bcmagazine.net
SUMMARY:Seething On
DESCRIPTION:Seething On\nE-Side Dance Company\nDate: 15-19 September\, 2017\nVenue: Ngau Chi Wan Civic Centre\, CA Hall\nTickets: $120 from Urbtix
URL:https://www.bcmagazine.net/event/seething-on-17-09-2017/
LOCATION:Ngau Chi Wan Civic Centre\, CA Hall\, 11 Clear Water Bay Road\, Kowloon\, Hong Kong
CATEGORIES:2017,Dance,Performing Arts
GEO:22.3345745;114.2088179
X-APPLE-STRUCTURED-LOCATION;VALUE=URI;X-ADDRESS=Ngau Chi Wan Civic Centre CA Hall 11 Clear Water Bay Road Kowloon Hong Kong;X-APPLE-RADIUS=500;X-TITLE=11 Clear Water Bay Road:geo:114.2088179,22.3345745
END:VEVENT
BEGIN:VEVENT
DTSTART;TZID=Asia/Hong_Kong:20170916T200000
DTEND;TZID=Asia/Hong_Kong:20170916T200000
DTSTAMP:20260422T033628
CREATED:19170807T083751Z
LAST-MODIFIED:20170807T122043Z
UID:10003145-1505592000-1505592000@www.bcmagazine.net
SUMMARY:Seething On
DESCRIPTION:Seething On\nE-Side Dance Company\nDate: 15-19 September\, 2017\nVenue: Ngau Chi Wan Civic Centre\, CA Hall\nTickets: $120 from Urbtix
URL:https://www.bcmagazine.net/event/seething-on-16-09-2017/
LOCATION:Ngau Chi Wan Civic Centre\, CA Hall\, 11 Clear Water Bay Road\, Kowloon\, Hong Kong
CATEGORIES:2017,Dance,Performing Arts
GEO:22.3345745;114.2088179
X-APPLE-STRUCTURED-LOCATION;VALUE=URI;X-ADDRESS=Ngau Chi Wan Civic Centre CA Hall 11 Clear Water Bay Road Kowloon Hong Kong;X-APPLE-RADIUS=500;X-TITLE=11 Clear Water Bay Road:geo:114.2088179,22.3345745
END:VEVENT
BEGIN:VEVENT
DTSTART;TZID=Asia/Hong_Kong:20170915T200000
DTEND;TZID=Asia/Hong_Kong:20170915T200000
DTSTAMP:20260422T033628
CREATED:19170807T083751Z
LAST-MODIFIED:20170807T121921Z
UID:10003144-1505505600-1505505600@www.bcmagazine.net
SUMMARY:Seething On
DESCRIPTION:Seething On\nE-Side Dance Company\nDate: 15-19 September\, 2017\nVenue: Ngau Chi Wan Civic Centre\, CA Hall\nTickets: $120 from Urbtix
URL:https://www.bcmagazine.net/event/seething-on-15-09-2017/
LOCATION:Ngau Chi Wan Civic Centre\, CA Hall\, 11 Clear Water Bay Road\, Kowloon\, Hong Kong
CATEGORIES:2017,Dance,Performing Arts
GEO:22.3345745;114.2088179
X-APPLE-STRUCTURED-LOCATION;VALUE=URI;X-ADDRESS=Ngau Chi Wan Civic Centre CA Hall 11 Clear Water Bay Road Kowloon Hong Kong;X-APPLE-RADIUS=500;X-TITLE=11 Clear Water Bay Road:geo:114.2088179,22.3345745
END:VEVENT
BEGIN:VEVENT
DTSTART;TZID=Asia/Hong_Kong:20170827T150000
DTEND;TZID=Asia/Hong_Kong:20170827T150000
DTSTAMP:20260422T033628
CREATED:19170807T083751Z
LAST-MODIFIED:20170807T120341Z
UID:10003139-1503846000-1503846000@www.bcmagazine.net
SUMMARY:Rave Up Summer
DESCRIPTION:Rave Up Summer\nE-Side Dance Company\nDate: 26-27 August\, 2017\nVenue: Ngau Chi Wan Civic Centre\, Theatre\nTickets: $120 from Urbtix
URL:https://www.bcmagazine.net/event/rave-up-summer-27-08-2017/
LOCATION:Ngau Chi Wan Civic Centre\, Theatre\, 2/F & 3/F\, Ngau Chi Wan Municipal Services Building\, 11 Clear Water Bay Road\, Kowloon\, Hong Kong
CATEGORIES:2017,Dance,Performing Arts
GEO:22.3345215;114.2089915
X-APPLE-STRUCTURED-LOCATION;VALUE=URI;X-ADDRESS=Ngau Chi Wan Civic Centre Theatre 2/F & 3/F Ngau Chi Wan Municipal Services Building 11 Clear Water Bay Road Kowloon Hong Kong;X-APPLE-RADIUS=500;X-TITLE=2/F & 3/F\, Ngau Chi Wan Municipal Services Building\, 11 Clear Water Bay Road:geo:114.2089915,22.3345215
END:VEVENT
BEGIN:VEVENT
DTSTART;TZID=Asia/Hong_Kong:20170826T200000
DTEND;TZID=Asia/Hong_Kong:20170826T200000
DTSTAMP:20260422T033628
CREATED:19170807T083751Z
LAST-MODIFIED:20170807T120414Z
UID:10003138-1503777600-1503777600@www.bcmagazine.net
SUMMARY:Rave Up Summer
DESCRIPTION:Rave Up Summer\nE-Side Dance Company\nDate: 26-27 August\, 2017\nVenue: Ngau Chi Wan Civic Centre\, Theatre\nTickets: $120 from Urbtix
URL:https://www.bcmagazine.net/event/rave-up-summer-26-08-2017/
LOCATION:Ngau Chi Wan Civic Centre\, Theatre\, 2/F & 3/F\, Ngau Chi Wan Municipal Services Building\, 11 Clear Water Bay Road\, Kowloon\, Hong Kong
CATEGORIES:2017,Dance,Performing Arts
GEO:22.3345215;114.2089915
X-APPLE-STRUCTURED-LOCATION;VALUE=URI;X-ADDRESS=Ngau Chi Wan Civic Centre Theatre 2/F & 3/F Ngau Chi Wan Municipal Services Building 11 Clear Water Bay Road Kowloon Hong Kong;X-APPLE-RADIUS=500;X-TITLE=2/F & 3/F\, Ngau Chi Wan Municipal Services Building\, 11 Clear Water Bay Road:geo:114.2089915,22.3345215
END:VEVENT
BEGIN:VEVENT
DTSTART;TZID=Asia/Hong_Kong:20170120T200000
DTEND;TZID=Asia/Hong_Kong:20170120T200000
DTSTAMP:20260422T033628
CREATED:19161201T232301Z
LAST-MODIFIED:20161201T233545Z
UID:10000999-1484942400-1484942400@www.bcmagazine.net
SUMMARY:Toppling the World
DESCRIPTION:Toppling the World (Rerun)\nE-Side Dance Company\nDate: 8pm\, 20-21 January\, 2017\n\nVenue: Ngau Chi Wan Civic Centre\, Theatre\nTickets: $120 from Urbtix
URL:https://www.bcmagazine.net/event/toppling-the-world/2017-01-20/
LOCATION:Ngau Chi Wan Civic Centre\, Theatre\, 2/F & 3/F\, Ngau Chi Wan Municipal Services Building\, 11 Clear Water Bay Road\, Kowloon\, Hong Kong
CATEGORIES:2017,Dance,Performing Arts
GEO:22.3345215;114.2089915
X-APPLE-STRUCTURED-LOCATION;VALUE=URI;X-ADDRESS=Ngau Chi Wan Civic Centre Theatre 2/F & 3/F Ngau Chi Wan Municipal Services Building 11 Clear Water Bay Road Kowloon Hong Kong;X-APPLE-RADIUS=500;X-TITLE=2/F & 3/F\, Ngau Chi Wan Municipal Services Building\, 11 Clear Water Bay Road:geo:114.2089915,22.3345215
END:VEVENT
END:VCALENDAR