BEGIN:VCALENDAR
VERSION:2.0
PRODID:-//bc magazine - ECPv6.15.20//NONSGML v1.0//EN
CALSCALE:GREGORIAN
METHOD:PUBLISH
X-WR-CALNAME:bc magazine
X-ORIGINAL-URL:https://www.bcmagazine.net
X-WR-CALDESC:Events for bc magazine
REFRESH-INTERVAL;VALUE=DURATION:PT1H
X-Robots-Tag:noindex
X-PUBLISHED-TTL:PT1H
BEGIN:VTIMEZONE
TZID:Asia/Hong_Kong
BEGIN:STANDARD
TZOFFSETFROM:+0800
TZOFFSETTO:+0800
TZNAME:HKT
DTSTART:20140101T000000
END:STANDARD
END:VTIMEZONE
BEGIN:VEVENT
DTSTART;TZID=Asia/Hong_Kong:20150214T201500
DTEND;TZID=Asia/Hong_Kong:20150214T230000
DTSTAMP:20260424T115603
CREATED:20150115T033021Z
LAST-MODIFIED:20150113T034202Z
UID:10005539-1423944900-1423954800@www.bcmagazine.net
SUMMARY:Vincy Live 2015
DESCRIPTION:Vincy Live 2015 \nWhen: 8:15pm\, 14 February\, 2015\nWhere: Lyric Theatre\, The Hong Kong Academy for Performing Arts\nHow Much: $480\, $280 from HKTicketing.com
URL:https://www.bcmagazine.net/event/vincy-live-2015/
LOCATION:HKAPA: Lyric Theatre\, 1 Gloucester Road\, Wanchai\, Hong Kong
CATEGORIES:Music
ATTACH;FMTTYPE=image/jpeg:https://www.bcmagazine.net/wp-content/uploads/2015/01/Vincy-live-2015.jpg
GEO:22.2801854;114.1695054
X-APPLE-STRUCTURED-LOCATION;VALUE=URI;X-ADDRESS=HKAPA: Lyric Theatre 1 Gloucester Road Wanchai Hong Kong;X-APPLE-RADIUS=500;X-TITLE=1 Gloucester Road:geo:114.1695054,22.2801854
END:VEVENT
BEGIN:VEVENT
DTSTART;TZID=Asia/Hong_Kong:20150207T201500
DTEND;TZID=Asia/Hong_Kong:20150207T230000
DTSTAMP:20260424T115603
CREATED:20150114T031349Z
LAST-MODIFIED:20150113T033503Z
UID:10005537-1423340100-1423350000@www.bcmagazine.net
SUMMARY:Timeless - Samantha Live
DESCRIPTION:Timeless – Samantha Live 2015 \nWhen: 8:15pm\, 7 February\, 2015\nWhere: Lyric Theatre\, The Hong Kong Academy for Performing Arts\nHow Much: $580\, $380 from HKTicketing.com
URL:https://www.bcmagazine.net/event/timeless-samantha-live/
LOCATION:HKAPA: Lyric Theatre\, 1 Gloucester Road\, Wanchai\, Hong Kong
CATEGORIES:Music
GEO:22.2801854;114.1695054
X-APPLE-STRUCTURED-LOCATION;VALUE=URI;X-ADDRESS=HKAPA: Lyric Theatre 1 Gloucester Road Wanchai Hong Kong;X-APPLE-RADIUS=500;X-TITLE=1 Gloucester Road:geo:114.1695054,22.2801854
END:VEVENT
END:VCALENDAR