BEGIN:VCALENDAR
VERSION:2.0
PRODID:-//bc magazine - ECPv6.15.20//NONSGML v1.0//EN
CALSCALE:GREGORIAN
METHOD:PUBLISH
X-WR-CALNAME:bc magazine
X-ORIGINAL-URL:https://www.bcmagazine.net
X-WR-CALDESC:Events for bc magazine
REFRESH-INTERVAL;VALUE=DURATION:PT1H
X-Robots-Tag:noindex
X-PUBLISHED-TTL:PT1H
BEGIN:VTIMEZONE
TZID:Asia/Hong_Kong
BEGIN:STANDARD
TZOFFSETFROM:+0800
TZOFFSETTO:+0800
TZNAME:HKT
DTSTART:20150101T000000
END:STANDARD
END:VTIMEZONE
BEGIN:VEVENT
DTSTART;TZID=Asia/Hong_Kong:20180121T150000
DTEND;TZID=Asia/Hong_Kong:20180121T150000
DTSTAMP:20260421T225936
CREATED:19180109T083200Z
LAST-MODIFIED:20180109T105804Z
UID:10003718-1516546800-1516546800@www.bcmagazine.net
SUMMARY:Singin' in the Rain JR
DESCRIPTION:Singin’ in the Rain JR\nDate: 20-21 January\, 2018\nVenue: Youth Square\, Y Studio\nTickets: $250\, $200\, $150 from Urbtix\nMore info: \n20 Jan: 3pm\, 7:30pm\n21 Jan: 11am\, 3pm
URL:https://www.bcmagazine.net/event/singin-in-the-rain-jr-21-01-2018/
LOCATION:Youth Square\, Y Studio\, 238 Chai Wan Road\, Chaiwan\, Hong Kong
CATEGORIES:2018,Musical,Other,Performing Arts,Theatre
GEO:22.26301;114.2366034
X-APPLE-STRUCTURED-LOCATION;VALUE=URI;X-ADDRESS=Youth Square Y Studio 238 Chai Wan Road Chaiwan Hong Kong;X-APPLE-RADIUS=500;X-TITLE=238 Chai Wan Road:geo:114.2366034,22.26301
END:VEVENT
BEGIN:VEVENT
DTSTART;TZID=Asia/Hong_Kong:20180120T193000
DTEND;TZID=Asia/Hong_Kong:20180120T193000
DTSTAMP:20260421T225936
CREATED:19180109T083200Z
LAST-MODIFIED:20180109T105618Z
UID:10003717-1516476600-1516476600@www.bcmagazine.net
SUMMARY:Singin' in the Rain JR
DESCRIPTION:Singin’ in the Rain JR\nDate: 20-21 January\, 2018\nVenue: Youth Square\, Y Studio\nTickets: $250\, $200\, $150 from Urbtix\nMore info: \n20 Jan: 3pm\, 7:30pm\n21 Jan: 11am\, 3pm
URL:https://www.bcmagazine.net/event/singin-in-the-rain-jr-20-01-2018/
LOCATION:Youth Square\, Y Studio\, 238 Chai Wan Road\, Chaiwan\, Hong Kong
CATEGORIES:2018,Musical,Other,Performing Arts,Theatre
GEO:22.26301;114.2366034
X-APPLE-STRUCTURED-LOCATION;VALUE=URI;X-ADDRESS=Youth Square Y Studio 238 Chai Wan Road Chaiwan Hong Kong;X-APPLE-RADIUS=500;X-TITLE=238 Chai Wan Road:geo:114.2366034,22.26301
END:VEVENT
BEGIN:VEVENT
DTSTART;TZID=Asia/Hong_Kong:20170611T200000
DTEND;TZID=Asia/Hong_Kong:20170611T200000
DTSTAMP:20260421T225936
CREATED:19170508T103714Z
LAST-MODIFIED:20170516T104529Z
UID:10001222-1497211200-1497211200@www.bcmagazine.net
SUMMARY:My Fair Lady
DESCRIPTION:My Fair Lady\nFace Productions\nDate: 9-11 June\, 2017\nVenue: HKAPA\, Drama Theatre\nTickets: $395\, $250 from HKTicketing\nMore info:\n9 Jun – 8pm\n10-11 Jun – 3pm\, 7:30pm
URL:https://www.bcmagazine.net/event/my-fair-lady-face-productions-2017/2017-06-11/
LOCATION:HKAPA: Drama Theatre\, 1 Gloucester Road\, Wanchai\, Hong Kong
CATEGORIES:2017,Musical,Performing Arts,Theatre
GEO:22.2801854;114.1695054
X-APPLE-STRUCTURED-LOCATION;VALUE=URI;X-ADDRESS=HKAPA: Drama Theatre 1 Gloucester Road Wanchai Hong Kong;X-APPLE-RADIUS=500;X-TITLE=1 Gloucester Road:geo:114.1695054,22.2801854
END:VEVENT
BEGIN:VEVENT
DTSTART;TZID=Asia/Hong_Kong:20170611T150000
DTEND;TZID=Asia/Hong_Kong:20170611T150000
DTSTAMP:20260421T225936
CREATED:20230114T075908Z
LAST-MODIFIED:20230114T075908Z
UID:10001224-1497193200-1497193200@www.bcmagazine.net
SUMMARY:My Fair Lady
DESCRIPTION:My Fair Lady\nFace Productions\nDate: 9-11 June\, 2017\nVenue: HKAPA\, Drama Theatre\nTickets: $395\, $250 from HKTicketing\nMore info:\n9 Jun – 8pm\n10-11 Jun – 3pm\, 7:30pm
URL:https://www.bcmagazine.net/event/my-fair-lady-face-productions-2017/2017-06-11/
LOCATION:HKAPA: Drama Theatre\, 1 Gloucester Road\, Wanchai\, Hong Kong
CATEGORIES:2017,Musical,Performing Arts,Theatre
GEO:22.2801854;114.1695054
X-APPLE-STRUCTURED-LOCATION;VALUE=URI;X-ADDRESS=HKAPA: Drama Theatre 1 Gloucester Road Wanchai Hong Kong;X-APPLE-RADIUS=500;X-TITLE=1 Gloucester Road:geo:114.1695054,22.2801854
END:VEVENT
BEGIN:VEVENT
DTSTART;TZID=Asia/Hong_Kong:20170610T200000
DTEND;TZID=Asia/Hong_Kong:20170610T200000
DTSTAMP:20260421T225936
CREATED:19170508T103714Z
LAST-MODIFIED:20170516T104529Z
UID:10001221-1497124800-1497124800@www.bcmagazine.net
SUMMARY:My Fair Lady
DESCRIPTION:My Fair Lady\nFace Productions\nDate: 9-11 June\, 2017\nVenue: HKAPA\, Drama Theatre\nTickets: $395\, $250 from HKTicketing\nMore info:\n9 Jun – 8pm\n10-11 Jun – 3pm\, 7:30pm
URL:https://www.bcmagazine.net/event/my-fair-lady-face-productions-2017/2017-06-10/
LOCATION:HKAPA: Drama Theatre\, 1 Gloucester Road\, Wanchai\, Hong Kong
CATEGORIES:2017,Musical,Performing Arts,Theatre
GEO:22.2801854;114.1695054
X-APPLE-STRUCTURED-LOCATION;VALUE=URI;X-ADDRESS=HKAPA: Drama Theatre 1 Gloucester Road Wanchai Hong Kong;X-APPLE-RADIUS=500;X-TITLE=1 Gloucester Road:geo:114.1695054,22.2801854
END:VEVENT
BEGIN:VEVENT
DTSTART;TZID=Asia/Hong_Kong:20170610T150000
DTEND;TZID=Asia/Hong_Kong:20170610T150000
DTSTAMP:20260421T225936
CREATED:20230114T075908Z
LAST-MODIFIED:20230114T075908Z
UID:10001223-1497106800-1497106800@www.bcmagazine.net
SUMMARY:My Fair Lady
DESCRIPTION:My Fair Lady\nFace Productions\nDate: 9-11 June\, 2017\nVenue: HKAPA\, Drama Theatre\nTickets: $395\, $250 from HKTicketing\nMore info:\n9 Jun – 8pm\n10-11 Jun – 3pm\, 7:30pm
URL:https://www.bcmagazine.net/event/my-fair-lady-face-productions-2017/2017-06-10/
LOCATION:HKAPA: Drama Theatre\, 1 Gloucester Road\, Wanchai\, Hong Kong
CATEGORIES:2017,Musical,Performing Arts,Theatre
GEO:22.2801854;114.1695054
X-APPLE-STRUCTURED-LOCATION;VALUE=URI;X-ADDRESS=HKAPA: Drama Theatre 1 Gloucester Road Wanchai Hong Kong;X-APPLE-RADIUS=500;X-TITLE=1 Gloucester Road:geo:114.1695054,22.2801854
END:VEVENT
BEGIN:VEVENT
DTSTART;TZID=Asia/Hong_Kong:20170609T200000
DTEND;TZID=Asia/Hong_Kong:20170609T200000
DTSTAMP:20260421T225936
CREATED:19170508T103714Z
LAST-MODIFIED:20170516T104529Z
UID:10001220-1497038400-1497038400@www.bcmagazine.net
SUMMARY:My Fair Lady
DESCRIPTION:My Fair Lady\nFace Productions\nDate: 9-11 June\, 2017\nVenue: HKAPA\, Drama Theatre\nTickets: $395\, $250 from HKTicketing\nMore info:\n9 Jun – 8pm\n10-11 Jun – 3pm\, 7:30pm
URL:https://www.bcmagazine.net/event/my-fair-lady-face-productions-2017/2017-06-09/
LOCATION:HKAPA: Drama Theatre\, 1 Gloucester Road\, Wanchai\, Hong Kong
CATEGORIES:2017,Musical,Performing Arts,Theatre
GEO:22.2801854;114.1695054
X-APPLE-STRUCTURED-LOCATION;VALUE=URI;X-ADDRESS=HKAPA: Drama Theatre 1 Gloucester Road Wanchai Hong Kong;X-APPLE-RADIUS=500;X-TITLE=1 Gloucester Road:geo:114.1695054,22.2801854
END:VEVENT
BEGIN:VEVENT
DTSTART;TZID=Asia/Hong_Kong:20160204T200000
DTEND;TZID=Asia/Hong_Kong:20160204T200000
DTSTAMP:20260421T225936
CREATED:19160116T033605Z
LAST-MODIFIED:20160117T011717Z
UID:10000310-1454616000-1454616000@www.bcmagazine.net
SUMMARY:Into the Woods
DESCRIPTION:Stephen Sondheim’s epic musical Into the Woods brings together many of the Grimm brothers’ best known fairytales including Cinderella\, Jack and the Beanstalk\, Rapunzel\, and Little Red Riding Hood. Framed by a moving story about a childless couple who long to have a family of their own. With a challenging and captivating score\, dark comedy and physical theatre\, Face Productions brings an exciting new edge to this classic Broadway and West End musical. \nWhen the baker and his wife are cursed to be childless by the witch from next door\, the only way to break her spell is to venture into the woods to find four mysterious ingredients. With a cow as white as milk\, a cape as red as blood\, hair as yellow as corn\, and a slipper as pure as gold\, they must create a potion to appease the Witch and restore her former beauty. On their way\, they cross paths with familiar characters: each with a wish of their own. Who will make it out of the woods alive? And will we find truth in the old adage of happily ever after? \nInto the Woods opened on Broadway in November 1987 to massive critical acclaim winning several Tony Awards\, including Best Score\, Best Book\, and Best Actress in a Musical. While Disney’s 2014 film adaptation\, directed by Rob Marshall and featuring an all-star cast including Meryl Streep\, Emily Blunt\, and Anna Kendrick\, earned US$212 million worldwide\, as well as three Academy Award nominations and three Golden Globe nominations.  \nFace Productions – whose recent productions include Hairspray (2013)\, Footloose (2014)\, and Legally Blonde (2015) – revival has Conor O’Grady at the Director’s helm\, with Roy Rolloda and Jessica Peralta as the Baker and Baker’s Wife respectively\, Candice Caalsen as the Witch\, and Sophie Connell as Little Red Riding Hood. Choreographed by Claire Johnson\, with Enrico Narvaez as Musical Director\, the show features many professional and veteran performers\, a live band\, and some of the highest calibre community theatre performers in Hong Kong. \nCast\nBaker: Roy Rolloda\nBaker’s Wife: Jessica Peralta\nWitch: Candice Caalsen\nLittle Red Riding Hood: Sophie Connell \nDirector: Conor O’Grady\nChoreographer: Claire Johnson\nMusical Director: Enrico Narvaez \nInto the Woods\nDate: 4-7 February\, 2016\nVenue: HK City Hall\, Theatre\nTickets: $395 from Urbtix\nMore info:\n4-6 February – 8pm\n7 February – 7:30pm \nInto the Woods Junior\nFace Academy: $275\n6–7 February – 10.30am and 2.30pm
URL:https://www.bcmagazine.net/event/into-the-woods/2016-02-04/
LOCATION:HK City Hall\, Theatre\, 5 Edinburgh Place\, Central\, Hong Kong
CATEGORIES:2016,Performing Arts,Theatre,Theatre
GEO:22.2822646;114.1615275
X-APPLE-STRUCTURED-LOCATION;VALUE=URI;X-ADDRESS=HK City Hall Theatre 5 Edinburgh Place Central Hong Kong;X-APPLE-RADIUS=500;X-TITLE=5 Edinburgh Place:geo:114.1615275,22.2822646
END:VEVENT
END:VCALENDAR