BEGIN:VCALENDAR
VERSION:2.0
PRODID:-//bc magazine - ECPv6.15.20//NONSGML v1.0//EN
CALSCALE:GREGORIAN
METHOD:PUBLISH
X-WR-CALNAME:bc magazine
X-ORIGINAL-URL:https://www.bcmagazine.net
X-WR-CALDESC:Events for bc magazine
REFRESH-INTERVAL;VALUE=DURATION:PT1H
X-Robots-Tag:noindex
X-PUBLISHED-TTL:PT1H
BEGIN:VTIMEZONE
TZID:Asia/Hong_Kong
BEGIN:STANDARD
TZOFFSETFROM:+0800
TZOFFSETTO:+0800
TZNAME:HKT
DTSTART:20200101T000000
END:STANDARD
END:VTIMEZONE
BEGIN:VEVENT
DTSTART;VALUE=DATE:20241010
DTEND;VALUE=DATE:20241021
DTSTAMP:20260422T013752
CREATED:20241003T124604Z
LAST-MODIFIED:20241005T141323Z
UID:10010164-1728518400-1729468799@www.bcmagazine.net
SUMMARY:KINO/24
DESCRIPTION:KINO/24 – German Film Festival\nDate: 10-20 October\, 2024\nVenue: HKAC\, Louis Koo Cinema; HK Film Archive; Elements Premiere; Broadway Cinematheque\nTickets: $95\, $85\, $70 HKfilm\, HKfilmfestival
URL:https://www.bcmagazine.net/event/kino-24/
CATEGORIES:2024,Film,Performing Arts
ATTACH;FMTTYPE=image/webp:https://www.bcmagazine.net/wp-content/uploads/2021/10/kino24.jpg.webp
END:VEVENT
BEGIN:VEVENT
DTSTART;VALUE=DATE:20211015
DTEND;VALUE=DATE:20211025
DTSTAMP:20260422T013753
CREATED:20211005T054604Z
LAST-MODIFIED:20211007T143314Z
UID:10006682-1634256000-1635119999@www.bcmagazine.net
SUMMARY:KINO/21 – German Film Festival
DESCRIPTION:KINO/21 – German Film Festival\nKiss Me Before It Blows Up!\, Berlin Alexanderplatz\, Free Country\, The Kangaroo Chronicles\, The German Lesson\, Hello Again – A Wedding A Day\, Enfant Terrible\, Tides\nDate: 15-24 October\, 2021\nVenue: HKAC\, Louis Koo Cinema; HK Film Archive; Elements Premiere; Broadway Cinematheque\nTickets: $150\, $95\, $90\, $75
URL:https://www.bcmagazine.net/event/kino-21-german-film-festival/
CATEGORIES:2021,Film,Performing Arts
ATTACH;FMTTYPE=image/jpeg:https://www.bcmagazine.net/wp-content/uploads/1919/09/kino-2021.jpeg
END:VEVENT
END:VCALENDAR