BEGIN:VCALENDAR
VERSION:2.0
PRODID:-//bc magazine - ECPv6.15.20//NONSGML v1.0//EN
CALSCALE:GREGORIAN
METHOD:PUBLISH
X-WR-CALNAME:bc magazine
X-ORIGINAL-URL:https://www.bcmagazine.net
X-WR-CALDESC:Events for bc magazine
REFRESH-INTERVAL;VALUE=DURATION:PT1H
X-Robots-Tag:noindex
X-PUBLISHED-TTL:PT1H
BEGIN:VTIMEZONE
TZID:Asia/Hong_Kong
BEGIN:STANDARD
TZOFFSETFROM:+0800
TZOFFSETTO:+0800
TZNAME:HKT
DTSTART:20150101T000000
END:STANDARD
END:VTIMEZONE
BEGIN:VEVENT
DTSTART;TZID=Asia/Hong_Kong:20160923T193000
DTEND;TZID=Asia/Hong_Kong:20160923T193000
DTSTAMP:20260424T225235
CREATED:19160912T061209Z
LAST-MODIFIED:20160912T061607Z
UID:10002113-1474659000-1474659000@www.bcmagazine.net
SUMMARY:Classic English Songs
DESCRIPTION:Classic English Songs\nGorgeous Dance and Singing Group\nDate: 7:30pm\, 23 September & 20 October\, 2016\nVenue: Sheung Wan Civic Centre\, Lecture Hall\nTickets: $20 from Urbtix
URL:https://www.bcmagazine.net/event/classic-english-songs-2016/2016-09-23/
LOCATION:Sheung Wan Civic Centre\, Lecture Hall\, 345 Queen's Road Central\, Sheung Wan\, Hong Kong
CATEGORIES:2016,Concert,Music
GEO:22.286086;114.149854
X-APPLE-STRUCTURED-LOCATION;VALUE=URI;X-ADDRESS=Sheung Wan Civic Centre Lecture Hall 345 Queen's Road Central Sheung Wan Hong Kong;X-APPLE-RADIUS=500;X-TITLE=345 Queen's Road Central:geo:114.149854,22.286086
END:VEVENT
END:VCALENDAR