BEGIN:VCALENDAR
VERSION:2.0
PRODID:-//bc magazine - ECPv6.15.20//NONSGML v1.0//EN
CALSCALE:GREGORIAN
METHOD:PUBLISH
X-WR-CALNAME:bc magazine
X-ORIGINAL-URL:https://www.bcmagazine.net
X-WR-CALDESC:Events for bc magazine
REFRESH-INTERVAL;VALUE=DURATION:PT1H
X-Robots-Tag:noindex
X-PUBLISHED-TTL:PT1H
BEGIN:VTIMEZONE
TZID:Asia/Hong_Kong
BEGIN:STANDARD
TZOFFSETFROM:+0800
TZOFFSETTO:+0800
TZNAME:HKT
DTSTART:20150101T000000
END:STANDARD
END:VTIMEZONE
BEGIN:VEVENT
DTSTART;TZID=Asia/Hong_Kong:20160403T200000
DTEND;TZID=Asia/Hong_Kong:20160403T200000
DTSTAMP:20260426T111206
CREATED:19160331T062950Z
LAST-MODIFIED:20160911T082304Z
UID:10001546-1459713600-1459713600@www.bcmagazine.net
SUMMARY:Hong Kong Symphony Orchestra
DESCRIPTION:Hong Kong Symphony Orchestra Annual Concert\nDate: 8pm\, 3 April\, 2016\nVenue: HK City Hall\, Concert Hall\nTickets: $180\, $140\, $120\, $100\, $80 from Urbtix
URL:https://www.bcmagazine.net/event/hong-kong-symphony-orchestra-2016/
LOCATION:HK City Hall\, Concert Hall\,  5 Edinburgh Place\, Central\, Hong Kong
CATEGORIES:2016,Concert,Music,Performing Arts
END:VEVENT
END:VCALENDAR