BEGIN:VCALENDAR
VERSION:2.0
PRODID:-//bc magazine - ECPv6.15.20//NONSGML v1.0//EN
CALSCALE:GREGORIAN
METHOD:PUBLISH
X-WR-CALNAME:bc magazine
X-ORIGINAL-URL:https://www.bcmagazine.net
X-WR-CALDESC:Events for bc magazine
REFRESH-INTERVAL;VALUE=DURATION:PT1H
X-Robots-Tag:noindex
X-PUBLISHED-TTL:PT1H
BEGIN:VTIMEZONE
TZID:Asia/Hong_Kong
BEGIN:STANDARD
TZOFFSETFROM:+0800
TZOFFSETTO:+0800
TZNAME:HKT
DTSTART:20170101T000000
END:STANDARD
END:VTIMEZONE
BEGIN:VEVENT
DTSTART;TZID=Asia/Hong_Kong:20181013T193000
DTEND;TZID=Asia/Hong_Kong:20181013T193000
DTSTAMP:20260422T161729
CREATED:19180716T124702Z
LAST-MODIFIED:20180806T181132Z
UID:10004308-1539459000-1539459000@www.bcmagazine.net
SUMMARY:Tumourboy
DESCRIPTION:Tumourboy\nDate: 7:30pm\, 13 October\, 2018\nVenue: Jao Tsung-I Academy\nTickets: $350\, $280
URL:https://www.bcmagazine.net/event/tumourboy-2018/
LOCATION:Jao Tsung-I Academy Theatre\, 800 Castle Peak Road\, Kowloon\, Hong Kong
CATEGORIES:2018,Concert,Music,Performing Arts
ATTACH;FMTTYPE=image/jpeg:https://www.bcmagazine.net/wp-content/uploads/1918/07/Tumourboy.jpg
GEO:22.338826;114.1423128
X-APPLE-STRUCTURED-LOCATION;VALUE=URI;X-ADDRESS=Jao Tsung-I Academy Theatre 800 Castle Peak Road Kowloon Hong Kong;X-APPLE-RADIUS=500;X-TITLE=800 Castle Peak Road:geo:114.1423128,22.338826
END:VEVENT
BEGIN:VEVENT
DTSTART;TZID=Asia/Hong_Kong:20180908T160000
DTEND;TZID=Asia/Hong_Kong:20180908T160000
DTSTAMP:20260422T161729
CREATED:19180810T094055Z
LAST-MODIFIED:20180813T004807Z
UID:10004425-1536422400-1536422400@www.bcmagazine.net
SUMMARY:LionRocks Hong Kong #1
DESCRIPTION:LionRocks Hong Kong #1\nEli\, Blackmass/Siren 獻血\, Mocking Bullet\, The Tracy Lords\, Liquid Fire\, Other Theories\, 崩口碗 (Bung Hau Wun)\, Insects Wake 驚蟄\, Noah To Nowhere\, The Sleeves\, Self-ox Randomness\, Bidroha\nDate: 4pm\, 8 September\, 2018\nVenue: Jao Tsung-I Academy\nTickets: $400\, $300\nMore info:\nFree drink and gift for those arriving before 3pm
URL:https://www.bcmagazine.net/event/lionrocks-hong-kong-08-09-2018/
LOCATION:Jao Tsung-I Academy Theatre\, 800 Castle Peak Road\, Kowloon\, Hong Kong
CATEGORIES:2018,Concert,Music,Performing Arts
GEO:22.338826;114.1423128
X-APPLE-STRUCTURED-LOCATION;VALUE=URI;X-ADDRESS=Jao Tsung-I Academy Theatre 800 Castle Peak Road Kowloon Hong Kong;X-APPLE-RADIUS=500;X-TITLE=800 Castle Peak Road:geo:114.1423128,22.338826
END:VEVENT
BEGIN:VEVENT
DTSTART;TZID=Asia/Hong_Kong:20180818T193000
DTEND;TZID=Asia/Hong_Kong:20180818T193000
DTSTAMP:20260422T161729
CREATED:19180716T124702Z
LAST-MODIFIED:20180806T182330Z
UID:10004309-1534620600-1534620600@www.bcmagazine.net
SUMMARY:Explosicum
DESCRIPTION:Explosicum\nDate: 7:30pm\, 18 August\, 2018\nVenue: Jao Tsung-I Academy\nTickets: $350\, $280
URL:https://www.bcmagazine.net/event/explosicum-2018/
LOCATION:Jao Tsung-I Academy Theatre\, 800 Castle Peak Road\, Kowloon\, Hong Kong
CATEGORIES:2018,Concert,Music,Performing Arts
ATTACH;FMTTYPE=image/jpeg:https://www.bcmagazine.net/wp-content/uploads/1918/07/Explosicum-hk-2018.jpg
GEO:22.338826;114.1423128
X-APPLE-STRUCTURED-LOCATION;VALUE=URI;X-ADDRESS=Jao Tsung-I Academy Theatre 800 Castle Peak Road Kowloon Hong Kong;X-APPLE-RADIUS=500;X-TITLE=800 Castle Peak Road:geo:114.1423128,22.338826
END:VEVENT
END:VCALENDAR