BEGIN:VCALENDAR
VERSION:2.0
PRODID:-//bc magazine - ECPv6.15.20//NONSGML v1.0//EN
CALSCALE:GREGORIAN
METHOD:PUBLISH
X-WR-CALNAME:bc magazine
X-ORIGINAL-URL:https://www.bcmagazine.net
X-WR-CALDESC:Events for bc magazine
REFRESH-INTERVAL;VALUE=DURATION:PT1H
X-Robots-Tag:noindex
X-PUBLISHED-TTL:PT1H
BEGIN:VTIMEZONE
TZID:Asia/Hong_Kong
BEGIN:STANDARD
TZOFFSETFROM:+0800
TZOFFSETTO:+0800
TZNAME:HKT
DTSTART:20150101T000000
END:STANDARD
END:VTIMEZONE
BEGIN:VEVENT
DTSTART;TZID=Asia/Hong_Kong:20170319T200000
DTEND;TZID=Asia/Hong_Kong:20170319T200000
DTSTAMP:20260421T050513
CREATED:20230114T104055Z
LAST-MODIFIED:20230114T104055Z
UID:10002103-1489953600-1489953600@www.bcmagazine.net
SUMMARY:Murder Code : D
DESCRIPTION:Murder Code : D\niStage\nDate: 16-19 March\, 2017\nVenue: Sheung Wan Civic Centre\, Theatre\nTickets: $240\, $200 from Urbtix\nMore info:\nCantonese drama
URL:https://www.bcmagazine.net/event/murder-code-d-istage-2017/2017-03-19/
LOCATION:Sheung Wan Civic Centre\, Theatre\, 345 Queen's Road Central\, Sheung Wan\, Hong Kong
CATEGORIES:2017,Performing Arts,Theatre
GEO:22.2861929;114.1497606
X-APPLE-STRUCTURED-LOCATION;VALUE=URI;X-ADDRESS=Sheung Wan Civic Centre Theatre 345 Queen's Road Central Sheung Wan Hong Kong;X-APPLE-RADIUS=500;X-TITLE=345 Queen's Road Central:geo:114.1497606,22.2861929
END:VEVENT
BEGIN:VEVENT
DTSTART;TZID=Asia/Hong_Kong:20170318T200000
DTEND;TZID=Asia/Hong_Kong:20170318T200000
DTSTAMP:20260421T050513
CREATED:19160911T070745Z
LAST-MODIFIED:20160911T071518Z
UID:10002102-1489867200-1489867200@www.bcmagazine.net
SUMMARY:Murder Code : D
DESCRIPTION:Murder Code : D\niStage\nDate: 16-19 March\, 2017\nVenue: Sheung Wan Civic Centre\, Theatre\nTickets: $240\, $200 from Urbtix\nMore info:\nCantonese drama
URL:https://www.bcmagazine.net/event/murder-code-d-istage-2017/2017-03-18/
LOCATION:Sheung Wan Civic Centre\, Theatre\, 345 Queen's Road Central\, Sheung Wan\, Hong Kong
CATEGORIES:2017,Performing Arts,Theatre
GEO:22.2861929;114.1497606
X-APPLE-STRUCTURED-LOCATION;VALUE=URI;X-ADDRESS=Sheung Wan Civic Centre Theatre 345 Queen's Road Central Sheung Wan Hong Kong;X-APPLE-RADIUS=500;X-TITLE=345 Queen's Road Central:geo:114.1497606,22.2861929
END:VEVENT
BEGIN:VEVENT
DTSTART;TZID=Asia/Hong_Kong:20170317T200000
DTEND;TZID=Asia/Hong_Kong:20170317T200000
DTSTAMP:20260421T050513
CREATED:19160911T070745Z
LAST-MODIFIED:20160911T071518Z
UID:10002101-1489780800-1489780800@www.bcmagazine.net
SUMMARY:Murder Code : D
DESCRIPTION:Murder Code : D\niStage\nDate: 16-19 March\, 2017\nVenue: Sheung Wan Civic Centre\, Theatre\nTickets: $240\, $200 from Urbtix\nMore info:\nCantonese drama
URL:https://www.bcmagazine.net/event/murder-code-d-istage-2017/2017-03-17/
LOCATION:Sheung Wan Civic Centre\, Theatre\, 345 Queen's Road Central\, Sheung Wan\, Hong Kong
CATEGORIES:2017,Performing Arts,Theatre
GEO:22.2861929;114.1497606
X-APPLE-STRUCTURED-LOCATION;VALUE=URI;X-ADDRESS=Sheung Wan Civic Centre Theatre 345 Queen's Road Central Sheung Wan Hong Kong;X-APPLE-RADIUS=500;X-TITLE=345 Queen's Road Central:geo:114.1497606,22.2861929
END:VEVENT
BEGIN:VEVENT
DTSTART;TZID=Asia/Hong_Kong:20170316T200000
DTEND;TZID=Asia/Hong_Kong:20170316T200000
DTSTAMP:20260421T050513
CREATED:19160911T070745Z
LAST-MODIFIED:20160911T071518Z
UID:10002100-1489694400-1489694400@www.bcmagazine.net
SUMMARY:Murder Code : D
DESCRIPTION:Murder Code : D\niStage\nDate: 16-19 March\, 2017\nVenue: Sheung Wan Civic Centre\, Theatre\nTickets: $240\, $200 from Urbtix\nMore info:\nCantonese drama
URL:https://www.bcmagazine.net/event/murder-code-d-istage-2017/2017-03-16/
LOCATION:Sheung Wan Civic Centre\, Theatre\, 345 Queen's Road Central\, Sheung Wan\, Hong Kong
CATEGORIES:2017,Performing Arts,Theatre
GEO:22.2861929;114.1497606
X-APPLE-STRUCTURED-LOCATION;VALUE=URI;X-ADDRESS=Sheung Wan Civic Centre Theatre 345 Queen's Road Central Sheung Wan Hong Kong;X-APPLE-RADIUS=500;X-TITLE=345 Queen's Road Central:geo:114.1497606,22.2861929
END:VEVENT
BEGIN:VEVENT
DTSTART;TZID=Asia/Hong_Kong:20161113T200000
DTEND;TZID=Asia/Hong_Kong:20161113T200000
DTSTAMP:20260421T050513
CREATED:20230114T104102Z
LAST-MODIFIED:20230114T104102Z
UID:10002107-1479067200-1479067200@www.bcmagazine.net
SUMMARY:Waiting For The Match
DESCRIPTION:Waiting For The Match (8th Re-Run)\niStage\nDate: 10-13 November\, 2016\nVenue: Sheung Wan Civic Centre\, Theatre\nTickets: $240\, $200 from Urbtix\nMore info:\nCantonese drama
URL:https://www.bcmagazine.net/event/waiting-for-the-match-istage-11-2016/2016-11-13/
LOCATION:Sheung Wan Civic Centre\, Theatre\, 345 Queen's Road Central\, Sheung Wan\, Hong Kong
CATEGORIES:2016,Performing Arts,Theatre
GEO:22.2861929;114.1497606
X-APPLE-STRUCTURED-LOCATION;VALUE=URI;X-ADDRESS=Sheung Wan Civic Centre Theatre 345 Queen's Road Central Sheung Wan Hong Kong;X-APPLE-RADIUS=500;X-TITLE=345 Queen's Road Central:geo:114.1497606,22.2861929
END:VEVENT
BEGIN:VEVENT
DTSTART;TZID=Asia/Hong_Kong:20161112T200000
DTEND;TZID=Asia/Hong_Kong:20161112T200000
DTSTAMP:20260421T050513
CREATED:19160911T071610Z
LAST-MODIFIED:20160911T071956Z
UID:10002106-1478980800-1478980800@www.bcmagazine.net
SUMMARY:Waiting For The Match
DESCRIPTION:Waiting For The Match (8th Re-Run)\niStage\nDate: 10-13 November\, 2016\nVenue: Sheung Wan Civic Centre\, Theatre\nTickets: $240\, $200 from Urbtix\nMore info:\nCantonese drama
URL:https://www.bcmagazine.net/event/waiting-for-the-match-istage-11-2016/2016-11-12/
LOCATION:Sheung Wan Civic Centre\, Theatre\, 345 Queen's Road Central\, Sheung Wan\, Hong Kong
CATEGORIES:2016,Performing Arts,Theatre
GEO:22.2861929;114.1497606
X-APPLE-STRUCTURED-LOCATION;VALUE=URI;X-ADDRESS=Sheung Wan Civic Centre Theatre 345 Queen's Road Central Sheung Wan Hong Kong;X-APPLE-RADIUS=500;X-TITLE=345 Queen's Road Central:geo:114.1497606,22.2861929
END:VEVENT
BEGIN:VEVENT
DTSTART;TZID=Asia/Hong_Kong:20161111T200000
DTEND;TZID=Asia/Hong_Kong:20161111T200000
DTSTAMP:20260421T050513
CREATED:19160911T071610Z
LAST-MODIFIED:20160911T071956Z
UID:10002105-1478894400-1478894400@www.bcmagazine.net
SUMMARY:Waiting For The Match
DESCRIPTION:Waiting For The Match (8th Re-Run)\niStage\nDate: 10-13 November\, 2016\nVenue: Sheung Wan Civic Centre\, Theatre\nTickets: $240\, $200 from Urbtix\nMore info:\nCantonese drama
URL:https://www.bcmagazine.net/event/waiting-for-the-match-istage-11-2016/2016-11-11/
LOCATION:Sheung Wan Civic Centre\, Theatre\, 345 Queen's Road Central\, Sheung Wan\, Hong Kong
CATEGORIES:2016,Performing Arts,Theatre
GEO:22.2861929;114.1497606
X-APPLE-STRUCTURED-LOCATION;VALUE=URI;X-ADDRESS=Sheung Wan Civic Centre Theatre 345 Queen's Road Central Sheung Wan Hong Kong;X-APPLE-RADIUS=500;X-TITLE=345 Queen's Road Central:geo:114.1497606,22.2861929
END:VEVENT
BEGIN:VEVENT
DTSTART;TZID=Asia/Hong_Kong:20161110T200000
DTEND;TZID=Asia/Hong_Kong:20161110T200000
DTSTAMP:20260421T050513
CREATED:19160911T071610Z
LAST-MODIFIED:20160911T071956Z
UID:10002104-1478808000-1478808000@www.bcmagazine.net
SUMMARY:Waiting For The Match
DESCRIPTION:Waiting For The Match (8th Re-Run)\niStage\nDate: 10-13 November\, 2016\nVenue: Sheung Wan Civic Centre\, Theatre\nTickets: $240\, $200 from Urbtix\nMore info:\nCantonese drama
URL:https://www.bcmagazine.net/event/waiting-for-the-match-istage-11-2016/2016-11-10/
LOCATION:Sheung Wan Civic Centre\, Theatre\, 345 Queen's Road Central\, Sheung Wan\, Hong Kong
CATEGORIES:2016,Performing Arts,Theatre
GEO:22.2861929;114.1497606
X-APPLE-STRUCTURED-LOCATION;VALUE=URI;X-ADDRESS=Sheung Wan Civic Centre Theatre 345 Queen's Road Central Sheung Wan Hong Kong;X-APPLE-RADIUS=500;X-TITLE=345 Queen's Road Central:geo:114.1497606,22.2861929
END:VEVENT
BEGIN:VEVENT
DTSTART;TZID=Asia/Hong_Kong:20160821T200000
DTEND;TZID=Asia/Hong_Kong:20160821T200000
DTSTAMP:20260421T050513
CREATED:19160602T070927Z
LAST-MODIFIED:20160602T071515Z
UID:10001756-1471809600-1471809600@www.bcmagazine.net
SUMMARY:The Troubled Nursing Home
DESCRIPTION:The Troubled Nursing Home\niStage\nDate: 18-21 August\, 2016\nVenue: Sheung Wan Civic Centre\, Theatre\nTickets: $240\, $200 from Urbtix\nMore info:\nIn Cantonese
URL:https://www.bcmagazine.net/event/the-troubled-nursing-home-2016/2016-08-21/
LOCATION:Sheung Wan Civic Centre\, Theatre\, 345 Queen's Road Central\, Sheung Wan\, Hong Kong
CATEGORIES:2016,Performing Arts,Theatre
GEO:22.2861929;114.1497606
X-APPLE-STRUCTURED-LOCATION;VALUE=URI;X-ADDRESS=Sheung Wan Civic Centre Theatre 345 Queen's Road Central Sheung Wan Hong Kong;X-APPLE-RADIUS=500;X-TITLE=345 Queen's Road Central:geo:114.1497606,22.2861929
END:VEVENT
BEGIN:VEVENT
DTSTART;TZID=Asia/Hong_Kong:20160820T200000
DTEND;TZID=Asia/Hong_Kong:20160820T200000
DTSTAMP:20260421T050513
CREATED:19160602T070927Z
LAST-MODIFIED:20160602T071515Z
UID:10001755-1471723200-1471723200@www.bcmagazine.net
SUMMARY:The Troubled Nursing Home
DESCRIPTION:The Troubled Nursing Home\niStage\nDate: 18-21 August\, 2016\nVenue: Sheung Wan Civic Centre\, Theatre\nTickets: $240\, $200 from Urbtix\nMore info:\nIn Cantonese
URL:https://www.bcmagazine.net/event/the-troubled-nursing-home-2016/2016-08-20/
LOCATION:Sheung Wan Civic Centre\, Theatre\, 345 Queen's Road Central\, Sheung Wan\, Hong Kong
CATEGORIES:2016,Performing Arts,Theatre
GEO:22.2861929;114.1497606
X-APPLE-STRUCTURED-LOCATION;VALUE=URI;X-ADDRESS=Sheung Wan Civic Centre Theatre 345 Queen's Road Central Sheung Wan Hong Kong;X-APPLE-RADIUS=500;X-TITLE=345 Queen's Road Central:geo:114.1497606,22.2861929
END:VEVENT
BEGIN:VEVENT
DTSTART;TZID=Asia/Hong_Kong:20160819T200000
DTEND;TZID=Asia/Hong_Kong:20160819T200000
DTSTAMP:20260421T050513
CREATED:19160602T070927Z
LAST-MODIFIED:20160602T071515Z
UID:10001754-1471636800-1471636800@www.bcmagazine.net
SUMMARY:The Troubled Nursing Home
DESCRIPTION:The Troubled Nursing Home\niStage\nDate: 18-21 August\, 2016\nVenue: Sheung Wan Civic Centre\, Theatre\nTickets: $240\, $200 from Urbtix\nMore info:\nIn Cantonese
URL:https://www.bcmagazine.net/event/the-troubled-nursing-home-2016/2016-08-19/
LOCATION:Sheung Wan Civic Centre\, Theatre\, 345 Queen's Road Central\, Sheung Wan\, Hong Kong
CATEGORIES:2016,Performing Arts,Theatre
GEO:22.2861929;114.1497606
X-APPLE-STRUCTURED-LOCATION;VALUE=URI;X-ADDRESS=Sheung Wan Civic Centre Theatre 345 Queen's Road Central Sheung Wan Hong Kong;X-APPLE-RADIUS=500;X-TITLE=345 Queen's Road Central:geo:114.1497606,22.2861929
END:VEVENT
BEGIN:VEVENT
DTSTART;TZID=Asia/Hong_Kong:20160818T200000
DTEND;TZID=Asia/Hong_Kong:20160818T200000
DTSTAMP:20260421T050513
CREATED:19160602T070927Z
LAST-MODIFIED:20160602T071515Z
UID:10001753-1471550400-1471550400@www.bcmagazine.net
SUMMARY:The Troubled Nursing Home
DESCRIPTION:The Troubled Nursing Home\niStage\nDate: 18-21 August\, 2016\nVenue: Sheung Wan Civic Centre\, Theatre\nTickets: $240\, $200 from Urbtix\nMore info:\nIn Cantonese
URL:https://www.bcmagazine.net/event/the-troubled-nursing-home-2016/2016-08-18/
LOCATION:Sheung Wan Civic Centre\, Theatre\, 345 Queen's Road Central\, Sheung Wan\, Hong Kong
CATEGORIES:2016,Performing Arts,Theatre
GEO:22.2861929;114.1497606
X-APPLE-STRUCTURED-LOCATION;VALUE=URI;X-ADDRESS=Sheung Wan Civic Centre Theatre 345 Queen's Road Central Sheung Wan Hong Kong;X-APPLE-RADIUS=500;X-TITLE=345 Queen's Road Central:geo:114.1497606,22.2861929
END:VEVENT
END:VCALENDAR