BEGIN:VCALENDAR
VERSION:2.0
PRODID:-//bc magazine - ECPv6.15.20//NONSGML v1.0//EN
CALSCALE:GREGORIAN
METHOD:PUBLISH
X-WR-CALNAME:bc magazine
X-ORIGINAL-URL:https://www.bcmagazine.net
X-WR-CALDESC:Events for bc magazine
REFRESH-INTERVAL;VALUE=DURATION:PT1H
X-Robots-Tag:noindex
X-PUBLISHED-TTL:PT1H
BEGIN:VTIMEZONE
TZID:Asia/Hong_Kong
BEGIN:STANDARD
TZOFFSETFROM:+0800
TZOFFSETTO:+0800
TZNAME:HKT
DTSTART:20150101T000000
END:STANDARD
END:VTIMEZONE
BEGIN:VEVENT
DTSTART;VALUE=DATE:20250501
DTEND;VALUE=DATE:20250601
DTSTAMP:20260425T030305
CREATED:20250408T004212Z
LAST-MODIFIED:20250430T144832Z
UID:10011338-1746057600-1748735999@www.bcmagazine.net
SUMMARY:Le French GourMay
DESCRIPTION:The 16th edition of French GourMay Food & Wine Festival unveils the soul of French culinary culture and art-de-vivre \nFor the full list of events and participating restaurants\, see  www.frenchgourmay.com \n\nLe French GourMay\nDate: 1-31 May\, 2025\nVenue: Various\nTickets: Various\nMore info:\nwww.frenchgourmay.com
URL:https://www.bcmagazine.net/event/le-french-gourmay-2025/
LOCATION:Hong Kong\, Hong Kong
CATEGORIES:2025,Food,Market
ATTACH;FMTTYPE=image/png:https://www.bcmagazine.net/wp-content/uploads/1923/03/Le-French-GourMay-2025.png
GEO:22.396428;114.109497
END:VEVENT
BEGIN:VEVENT
DTSTART;VALUE=DATE:20250315
DTEND;VALUE=DATE:20250714
DTSTAMP:20260425T030305
CREATED:20250306T000803Z
LAST-MODIFIED:20250430T144051Z
UID:10011337-1741996800-1752451199@www.bcmagazine.net
SUMMARY:Le French May
DESCRIPTION:Le French May\nDate: 15 March – 13 July 2025\nVenue: Various\nTickets: Various\nMore info:\nwww.FrenchMay.com
URL:https://www.bcmagazine.net/event/le-french-may-2025/
CATEGORIES:2025,Art Gallery,Concert,Cultural Festival,Exhibition,Fashion,Film,Food,Lifestyle,Multimedia,Music,Performing Arts
ATTACH;FMTTYPE=image/png:https://www.bcmagazine.net/wp-content/uploads/1916/04/le-french-may-2025.png
END:VEVENT
BEGIN:VEVENT
DTSTART;VALUE=DATE:20230501
DTEND;VALUE=DATE:20230601
DTSTAMP:20260425T030305
CREATED:19230326T052212Z
LAST-MODIFIED:20230326T052610Z
UID:10006790-1682899200-1685577599@www.bcmagazine.net
SUMMARY:French GourMay 2023
DESCRIPTION:The 14th French GourMay\, 1-31 May 2023\, celebrates French Sparkling Wine. \nFor the full list of events and participating restaurants see  www.frenchgourmay.com \n\nLe French GourMay\nDate: 1-31 May\, 2023\nVenue: Various\nTickets: Various\nMore info:\nwww.frenchgourmay.com
URL:https://www.bcmagazine.net/event/french-gourmay-2023/
LOCATION:Hong Kong\, Hong Kong
CATEGORIES:2023,Food,Market
ATTACH;FMTTYPE=image/jpeg:https://www.bcmagazine.net/wp-content/uploads/2016/04/French-Gourmay-2023.jpeg
GEO:22.396428;114.109497
END:VEVENT
BEGIN:VEVENT
DTSTART;VALUE=DATE:20230401
DTEND;VALUE=DATE:20230701
DTSTAMP:20260425T030305
CREATED:19160430T000803Z
LAST-MODIFIED:20230326T174015Z
UID:10006793-1680307200-1688169599@www.bcmagazine.net
SUMMARY:Le French May 2023
DESCRIPTION:Le French May\nDate: April-June\, 2023\nVenue: Various\nTickets: Various\nMore info:\nwww.FrenchMay.com
URL:https://www.bcmagazine.net/event/le-french-may-2023/
CATEGORIES:2023,Art Gallery,Concert,Cultural Festival,Exhibition,Fashion,Film,Food,Lifestyle,Multimedia,Music,Performing Arts
ATTACH;FMTTYPE=image/jpeg:https://www.bcmagazine.net/wp-content/uploads/2016/04/french-may-2023-cover-art.jpg
END:VEVENT
BEGIN:VEVENT
DTSTART;TZID=Asia/Hong_Kong:20220625T201500
DTEND;TZID=Asia/Hong_Kong:20220625T201500
DTSTAMP:20260425T030305
CREATED:19210628T094055Z
LAST-MODIFIED:20220520T101737Z
UID:10005207-1656188100-1656188100@www.bcmagazine.net
SUMMARY:Cities of Light - A Love Affair Between France and Hong Kong
DESCRIPTION:Cities of Light – A Love Affair Between France and Hong Kong\nGin Lee\, Talie Monin\, Leon Ko\nDate: 8:15pm\, 24\, 25 June 2022\nVenue: HK Cultural Centre\, Grand Theatre\nTickets: $880\, $780\, $680\, $580 from Urbtix
URL:https://www.bcmagazine.net/event/cities-of-light-a-love-affair-between-france-and-hong-kong/2022-06-25/
LOCATION:HK Cultural Centre\, Grand Theatre\,\, 10 Salisbury Road\, Tsim Sha Tsui\, Hong Kong
CATEGORIES:2022,Concert,Cultural Festival,Music,Performing Arts
ATTACH;FMTTYPE=image/jpeg:https://www.bcmagazine.net/wp-content/uploads/2021/06/Gin-Lee-june-2022.jpg
GEO:22.294318;114.171708
X-APPLE-STRUCTURED-LOCATION;VALUE=URI;X-ADDRESS=HK Cultural Centre Grand Theatre 10 Salisbury Road Tsim Sha Tsui Hong Kong;X-APPLE-RADIUS=500;X-TITLE=10 Salisbury Road:geo:114.171708,22.294318
END:VEVENT
BEGIN:VEVENT
DTSTART;TZID=Asia/Hong_Kong:20220624T201500
DTEND;TZID=Asia/Hong_Kong:20220624T201500
DTSTAMP:20260425T030305
CREATED:19210628T094055Z
LAST-MODIFIED:20220520T101737Z
UID:10005206-1656101700-1656101700@www.bcmagazine.net
SUMMARY:Cities of Light - A Love Affair Between France and Hong Kong
DESCRIPTION:Cities of Light – A Love Affair Between France and Hong Kong\nGin Lee\, Talie Monin\, Leon Ko\nDate: 8:15pm\, 24\, 25 June 2022\nVenue: HK Cultural Centre\, Grand Theatre\nTickets: $880\, $780\, $680\, $580 from Urbtix
URL:https://www.bcmagazine.net/event/cities-of-light-a-love-affair-between-france-and-hong-kong/2022-06-24/
LOCATION:HK Cultural Centre\, Grand Theatre\,\, 10 Salisbury Road\, Tsim Sha Tsui\, Hong Kong
CATEGORIES:2022,Concert,Cultural Festival,Music,Performing Arts
ATTACH;FMTTYPE=image/jpeg:https://www.bcmagazine.net/wp-content/uploads/2021/06/Gin-Lee-june-2022.jpg
GEO:22.294318;114.171708
X-APPLE-STRUCTURED-LOCATION;VALUE=URI;X-ADDRESS=HK Cultural Centre Grand Theatre 10 Salisbury Road Tsim Sha Tsui Hong Kong;X-APPLE-RADIUS=500;X-TITLE=10 Salisbury Road:geo:114.171708,22.294318
END:VEVENT
BEGIN:VEVENT
DTSTART;TZID=Asia/Hong_Kong:20180504T201500
DTEND;TZID=Asia/Hong_Kong:20180504T201500
DTSTAMP:20260425T030305
CREATED:19180222T090237Z
LAST-MODIFIED:20180222T101318Z
UID:10003834-1525464900-1525464900@www.bcmagazine.net
SUMMARY:The Painting on the Wall - The Mystical World of a Chinese Novel
DESCRIPTION:The Painting on the Wall – The Mystical World of a Chinese Novel\nLe French May\, Ballet Preljocaj\nDate: 8:15pm\, 3-4 May\, 2018\nVenue: HK Cultural Centre\, Grand Theatre\nTickets: $580\, $480\, $380\, $280\, $180 from Urbtix
URL:https://www.bcmagazine.net/event/the-painting-on-the-wall-the-mystical-world-of-a-chinese-novel-04-05-2018/
LOCATION:HK Cultural Centre\, Grand Theatre\,\, 10 Salisbury Road\, Tsim Sha Tsui\, Hong Kong
CATEGORIES:2018,Ballet,Dance,Performing Arts
GEO:22.294318;114.171708
X-APPLE-STRUCTURED-LOCATION;VALUE=URI;X-ADDRESS=HK Cultural Centre Grand Theatre 10 Salisbury Road Tsim Sha Tsui Hong Kong;X-APPLE-RADIUS=500;X-TITLE=10 Salisbury Road:geo:114.171708,22.294318
END:VEVENT
BEGIN:VEVENT
DTSTART;TZID=Asia/Hong_Kong:20180503T201500
DTEND;TZID=Asia/Hong_Kong:20180503T201500
DTSTAMP:20260425T030305
CREATED:19180222T090237Z
LAST-MODIFIED:20180222T101138Z
UID:10003833-1525378500-1525378500@www.bcmagazine.net
SUMMARY:The Painting on the Wall - The Mystical World of a Chinese Novel
DESCRIPTION:The Painting on the Wall – The Mystical World of a Chinese Novel\nLe French May\, Ballet Preljocaj\nDate: 8:15pm\, 3-4 May\, 2018\nVenue: HK Cultural Centre\, Grand Theatre\nTickets: $580\, $480\, $380\, $280\, $180 from Urbtix
URL:https://www.bcmagazine.net/event/the-painting-on-the-wall-the-mystical-world-of-a-chinese-novel-03-05-2018/
LOCATION:HK Cultural Centre\, Grand Theatre\,\, 10 Salisbury Road\, Tsim Sha Tsui\, Hong Kong
CATEGORIES:2018,Ballet,Dance,Performing Arts
GEO:22.294318;114.171708
X-APPLE-STRUCTURED-LOCATION;VALUE=URI;X-ADDRESS=HK Cultural Centre Grand Theatre 10 Salisbury Road Tsim Sha Tsui Hong Kong;X-APPLE-RADIUS=500;X-TITLE=10 Salisbury Road:geo:114.171708,22.294318
END:VEVENT
BEGIN:VEVENT
DTSTART;TZID=Asia/Hong_Kong:20170602T200000
DTEND;TZID=Asia/Hong_Kong:20170602T200000
DTSTAMP:20260425T030305
CREATED:19170422T130552Z
LAST-MODIFIED:20170422T130907Z
UID:10001179-1496433600-1496433600@www.bcmagazine.net
SUMMARY:Orchestra Philharmonique De Radio France
DESCRIPTION:Orchestra Philharmonique De Radio France\nLe French May\nDate: 8pm\, 2 June\, 2017\nVenue: HK Cultural Centre\, Concert Hall\nTickets: $620\, $520\, $420\, $340 from Urbtix
URL:https://www.bcmagazine.net/event/orchestra-philharmonique-de-radio-france-2017/
LOCATION:HK Cultural Centre\, Concert Hall\, 10 Salisbury Road\, Tsim Sha Tsui\, Hong Kong
CATEGORIES:2017,Concert,Cultural Festival,Music,Performing Arts
GEO:22.294318;114.171708
X-APPLE-STRUCTURED-LOCATION;VALUE=URI;X-ADDRESS=HK Cultural Centre Concert Hall 10 Salisbury Road Tsim Sha Tsui Hong Kong;X-APPLE-RADIUS=500;X-TITLE=10 Salisbury Road:geo:114.171708,22.294318
END:VEVENT
BEGIN:VEVENT
DTSTART;VALUE=DATE:20170518
DTEND;VALUE=DATE:20170522
DTSTAMP:20260425T030305
CREATED:19170505T081942Z
LAST-MODIFIED:20170516T030214Z
UID:10002602-1495065600-1495411199@www.bcmagazine.net
SUMMARY:Le French May by The Harbour
DESCRIPTION:Le French May by The Harbour\nDate: 18-21 May\, 2017\nVenue: Central Harbourfront\nTickets: Free
URL:https://www.bcmagazine.net/event/le-french-may-by-the-harbour-2017/
LOCATION:Central Harbourfront\,  9 Lung Wo Road\, Central\, Hong Kong
CATEGORIES:2017,Cultural Festival,Free,Music,Nightlife,Performing Arts
GEO:22.2826223;114.164346
X-APPLE-STRUCTURED-LOCATION;VALUE=URI;X-ADDRESS=Central Harbourfront  9 Lung Wo Road Central Hong Kong;X-APPLE-RADIUS=500;X-TITLE=9 Lung Wo Road:geo:114.164346,22.2826223
END:VEVENT
BEGIN:VEVENT
DTSTART;TZID=Asia/Hong_Kong:20170512T194500
DTEND;TZID=Asia/Hong_Kong:20170512T194500
DTSTAMP:20260425T030305
CREATED:19170421T041703Z
LAST-MODIFIED:20170421T042111Z
UID:10002574-1494618300-1494618300@www.bcmagazine.net
SUMMARY:A Night with the Stars
DESCRIPTION:A Night with the Stars\nLe French May\, Paris Ballet Legends\nDate: 7:45pm\, 11-12 May\, 2017\nVenue: HK Cultural Centre\, Grand Theatre\nTickets: $580\, $460\, $340\, $240 from Urbtix
URL:https://www.bcmagazine.net/event/a-night-with-the-stars-le-french-may-2017/2017-05-12/
LOCATION:HK Cultural Centre\, Grand Theatre\,\, 10 Salisbury Road\, Tsim Sha Tsui\, Hong Kong
CATEGORIES:2017,Ballet,Dance,Performing Arts
GEO:22.294318;114.171708
X-APPLE-STRUCTURED-LOCATION;VALUE=URI;X-ADDRESS=HK Cultural Centre Grand Theatre 10 Salisbury Road Tsim Sha Tsui Hong Kong;X-APPLE-RADIUS=500;X-TITLE=10 Salisbury Road:geo:114.171708,22.294318
END:VEVENT
BEGIN:VEVENT
DTSTART;TZID=Asia/Hong_Kong:20170511T194500
DTEND;TZID=Asia/Hong_Kong:20170511T194500
DTSTAMP:20260425T030305
CREATED:19170421T041703Z
LAST-MODIFIED:20170421T042111Z
UID:10002573-1494531900-1494531900@www.bcmagazine.net
SUMMARY:A Night with the Stars
DESCRIPTION:A Night with the Stars\nLe French May\, Paris Ballet Legends\nDate: 7:45pm\, 11-12 May\, 2017\nVenue: HK Cultural Centre\, Grand Theatre\nTickets: $580\, $460\, $340\, $240 from Urbtix
URL:https://www.bcmagazine.net/event/a-night-with-the-stars-le-french-may-2017/2017-05-11/
LOCATION:HK Cultural Centre\, Grand Theatre\,\, 10 Salisbury Road\, Tsim Sha Tsui\, Hong Kong
CATEGORIES:2017,Ballet,Dance,Performing Arts
GEO:22.294318;114.171708
X-APPLE-STRUCTURED-LOCATION;VALUE=URI;X-ADDRESS=HK Cultural Centre Grand Theatre 10 Salisbury Road Tsim Sha Tsui Hong Kong;X-APPLE-RADIUS=500;X-TITLE=10 Salisbury Road:geo:114.171708,22.294318
END:VEVENT
BEGIN:VEVENT
DTSTART;TZID=Asia/Hong_Kong:20170506T200000
DTEND;TZID=Asia/Hong_Kong:20170506T200000
DTSTAMP:20260425T030305
CREATED:19170422T132015Z
LAST-MODIFIED:20170422T132353Z
UID:10001185-1494100800-1494100800@www.bcmagazine.net
SUMMARY:The Royal Concert of the Night "The Birth of the Sun King"
DESCRIPTION:The Royal Concert of the Night “The Birth of the Sun King”\nLe French May\nDate: 8pm\, 6 May\, 2017\nVenue: HK Cultural Centre\, Concert Hall\nTickets: $580\, $460\, $340\, $240 from Urbtix
URL:https://www.bcmagazine.net/event/the-royal-concert-of-the-night-the-birth-of-the-sun-king-2017/
LOCATION:HK Cultural Centre\, Concert Hall\, 10 Salisbury Road\, Tsim Sha Tsui\, Hong Kong
CATEGORIES:2017,Concert,Cultural Festival,Music,Performing Arts
GEO:22.294318;114.171708
X-APPLE-STRUCTURED-LOCATION;VALUE=URI;X-ADDRESS=HK Cultural Centre Concert Hall 10 Salisbury Road Tsim Sha Tsui Hong Kong;X-APPLE-RADIUS=500;X-TITLE=10 Salisbury Road:geo:114.171708,22.294318
END:VEVENT
BEGIN:VEVENT
DTSTART;TZID=Asia/Hong_Kong:20160624T200000
DTEND;TZID=Asia/Hong_Kong:20160624T200000
DTSTAMP:20260425T030305
CREATED:19160607T041519Z
LAST-MODIFIED:20160607T041753Z
UID:10001814-1466798400-1466798400@www.bcmagazine.net
SUMMARY:Anne Queffélec
DESCRIPTION:Voyage with Anne Queffélec\nLe French May\nDate: 8pm\, 24 June\, 2016\nVenue: HKAPA\, Hong Kong Jockey Club Amphitheatre\nTickets: $380\, $280 from HKTicketing
URL:https://www.bcmagazine.net/event/anne-queffelec-2016/
LOCATION:HKAPA: Jockey Club Amphitheatre\, 1 Gloucester Road\, Wanchai\, Hong Kong
CATEGORIES:2016,Concert,Cultural Festival,Music
GEO:22.2801854;114.1695054
X-APPLE-STRUCTURED-LOCATION;VALUE=URI;X-ADDRESS=HKAPA: Jockey Club Amphitheatre 1 Gloucester Road Wanchai Hong Kong;X-APPLE-RADIUS=500;X-TITLE=1 Gloucester Road:geo:114.1695054,22.2801854
END:VEVENT
BEGIN:VEVENT
DTSTART;TZID=Asia/Hong_Kong:20160617T193000
DTEND;TZID=Asia/Hong_Kong:20160617T193000
DTSTAMP:20260425T030305
CREATED:19160327T154222Z
LAST-MODIFIED:20160327T154718Z
UID:10001512-1466191800-1466191800@www.bcmagazine.net
SUMMARY:Theatre Mu
DESCRIPTION:Renkonti\nLe French May\, Theatre Mu\nDate: 8pm\, 17 June\, 2016\nVenue: HK Cultural Centre\, Grand Theatre\nTickets: $240\, $180 from Urbtix
URL:https://www.bcmagazine.net/event/theatre-mu-renkonti-2016/
LOCATION:HK Cultural Centre\, Studio Theatre\, 10 Salisbury Road\, Tsim Sha Tsui\, Hong Kong
CATEGORIES:2016,Cultural Festival,Performing Arts,Theatre
END:VEVENT
BEGIN:VEVENT
DTSTART;TZID=Asia/Hong_Kong:20160610T200000
DTEND;TZID=Asia/Hong_Kong:20160610T200000
DTSTAMP:20260425T030305
CREATED:19160331T080258Z
LAST-MODIFIED:20160331T080518Z
UID:10001552-1465588800-1465588800@www.bcmagazine.net
SUMMARY:Richard Galliano
DESCRIPTION:Richard Galliano\nLe French May\nDate: 8pm\, 10 June\, 2016\nVenue: HK City Hall\, Concert Hall\nTickets: $400\, $300\, $200 from Urbtix
URL:https://www.bcmagazine.net/event/richard-galliano-2016/
LOCATION:HK City Hall\, Concert Hall\,  5 Edinburgh Place\, Central\, Hong Kong
CATEGORIES:2016,Concert,Music,Performing Arts
END:VEVENT
BEGIN:VEVENT
DTSTART;TZID=Asia/Hong_Kong:20160603T200000
DTEND;TZID=Asia/Hong_Kong:20160603T200000
DTSTAMP:20260425T030305
CREATED:19160327T152729Z
LAST-MODIFIED:20160327T153138Z
UID:10001508-1464984000-1464984000@www.bcmagazine.net
SUMMARY:Malandain Ballet Biarritz
DESCRIPTION:Beauty and the Beast\nLe French May\, Malandain Ballet Biarritz\nDate: 8pm\, 3-4 June\, 2016\nVenue: HK Cultural Centre\, Grand Theatre\nTickets: $480\, $380\, $280\, $180\, $120 from Urbtix
URL:https://www.bcmagazine.net/event/malandain-ballet-biarritz-beauty-and-the-beast-2016/2016-06-03/
LOCATION:HK Cultural Centre\, Grand Theatre\,\, 10 Salisbury Road\, Tsim Sha Tsui\, Hong Kong
CATEGORIES:2016,Cultural Festival,Performing Arts
GEO:22.294318;114.171708
X-APPLE-STRUCTURED-LOCATION;VALUE=URI;X-ADDRESS=HK Cultural Centre Grand Theatre 10 Salisbury Road Tsim Sha Tsui Hong Kong;X-APPLE-RADIUS=500;X-TITLE=10 Salisbury Road:geo:114.171708,22.294318
END:VEVENT
BEGIN:VEVENT
DTSTART;TZID=Asia/Hong_Kong:20160601T193000
DTEND;TZID=Asia/Hong_Kong:20160601T193000
DTSTAMP:20260425T030305
CREATED:19160327T152117Z
LAST-MODIFIED:20160327T152646Z
UID:10001507-1464809400-1464809400@www.bcmagazine.net
SUMMARY:Malandain Ballet Biarritz
DESCRIPTION:Cinderella\nLe French May\, Malandain Ballet Biarritz\nDate: 7:30pm\, 1-2 June\, 2016\nVenue: HK Cultural Centre\, Grand Theatre\nTickets: $480\, $380\, $280\, $180\, $120 from Urbtix
URL:https://www.bcmagazine.net/event/malandain-ballet-biarritz-cinderella-2016/2016-06-01/
LOCATION:HK Cultural Centre\, Grand Theatre\,\, 10 Salisbury Road\, Tsim Sha Tsui\, Hong Kong
CATEGORIES:2016,Cultural Festival,Dance,Performing Arts
GEO:22.294318;114.171708
X-APPLE-STRUCTURED-LOCATION;VALUE=URI;X-ADDRESS=HK Cultural Centre Grand Theatre 10 Salisbury Road Tsim Sha Tsui Hong Kong;X-APPLE-RADIUS=500;X-TITLE=10 Salisbury Road:geo:114.171708,22.294318
END:VEVENT
BEGIN:VEVENT
DTSTART;TZID=Asia/Hong_Kong:20160529T193000
DTEND;TZID=Asia/Hong_Kong:20160529T193000
DTSTAMP:20260425T030305
CREATED:19160327T153301Z
LAST-MODIFIED:20160327T153800Z
UID:10001511-1464550200-1464550200@www.bcmagazine.net
SUMMARY:Romeo et Juliette
DESCRIPTION:Romeo et Juliette\nLe French May\, Opera Hong Kong\nDate: 7:30pm\, 27-29 May\, 2016\nVenue: HK Cultural Centre\, Grand Theatre\nTickets: $800\, $680\, $420\, $300\, $150 from Urbtix
URL:https://www.bcmagazine.net/event/romeo-et-juliette/2016-05-29/
LOCATION:HK Cultural Centre\, Grand Theatre\,\, 10 Salisbury Road\, Tsim Sha Tsui\, Hong Kong
CATEGORIES:2016,Concert,Cultural Festival,Music,Performing Arts
GEO:22.294318;114.171708
X-APPLE-STRUCTURED-LOCATION;VALUE=URI;X-ADDRESS=HK Cultural Centre Grand Theatre 10 Salisbury Road Tsim Sha Tsui Hong Kong;X-APPLE-RADIUS=500;X-TITLE=10 Salisbury Road:geo:114.171708,22.294318
END:VEVENT
BEGIN:VEVENT
DTSTART;TZID=Asia/Hong_Kong:20160528T193000
DTEND;TZID=Asia/Hong_Kong:20160528T193000
DTSTAMP:20260425T030305
CREATED:19160327T153301Z
LAST-MODIFIED:20160327T153800Z
UID:10001510-1464463800-1464463800@www.bcmagazine.net
SUMMARY:Romeo et Juliette
DESCRIPTION:Romeo et Juliette\nLe French May\, Opera Hong Kong\nDate: 7:30pm\, 27-29 May\, 2016\nVenue: HK Cultural Centre\, Grand Theatre\nTickets: $800\, $680\, $420\, $300\, $150 from Urbtix
URL:https://www.bcmagazine.net/event/romeo-et-juliette/2016-05-28/
LOCATION:HK Cultural Centre\, Grand Theatre\,\, 10 Salisbury Road\, Tsim Sha Tsui\, Hong Kong
CATEGORIES:2016,Concert,Cultural Festival,Music,Performing Arts
GEO:22.294318;114.171708
X-APPLE-STRUCTURED-LOCATION;VALUE=URI;X-ADDRESS=HK Cultural Centre Grand Theatre 10 Salisbury Road Tsim Sha Tsui Hong Kong;X-APPLE-RADIUS=500;X-TITLE=10 Salisbury Road:geo:114.171708,22.294318
END:VEVENT
BEGIN:VEVENT
DTSTART;TZID=Asia/Hong_Kong:20160527T193000
DTEND;TZID=Asia/Hong_Kong:20160527T193000
DTSTAMP:20260425T030305
CREATED:19160327T153301Z
LAST-MODIFIED:20160327T153800Z
UID:10001509-1464377400-1464377400@www.bcmagazine.net
SUMMARY:Romeo et Juliette
DESCRIPTION:Romeo et Juliette\nLe French May\, Opera Hong Kong\nDate: 7:30pm\, 27-29 May\, 2016\nVenue: HK Cultural Centre\, Grand Theatre\nTickets: $800\, $680\, $420\, $300\, $150 from Urbtix
URL:https://www.bcmagazine.net/event/romeo-et-juliette/2016-05-27/
LOCATION:HK Cultural Centre\, Grand Theatre\,\, 10 Salisbury Road\, Tsim Sha Tsui\, Hong Kong
CATEGORIES:2016,Concert,Cultural Festival,Music,Performing Arts
GEO:22.294318;114.171708
X-APPLE-STRUCTURED-LOCATION;VALUE=URI;X-ADDRESS=HK Cultural Centre Grand Theatre 10 Salisbury Road Tsim Sha Tsui Hong Kong;X-APPLE-RADIUS=500;X-TITLE=10 Salisbury Road:geo:114.171708,22.294318
END:VEVENT
BEGIN:VEVENT
DTSTART;TZID=Asia/Hong_Kong:20160520T200000
DTEND;TZID=Asia/Hong_Kong:20160520T200000
DTSTAMP:20260425T030305
CREATED:19160414T104307Z
LAST-MODIFIED:20160414T105142Z
UID:10000477-1463774400-1463774400@www.bcmagazine.net
SUMMARY:Paris Combo
DESCRIPTION:Paris Combo\nSupport: SIU2\nLe French May\nDate: 8pm\, 20-21 May\, 2016\nVenue: HKAPA\, HK Jockey Club Amphitheatre\nTickets: $480\, $380\, $280\, $180 from HKTicketing
URL:https://www.bcmagazine.net/event/paris-combo-2016/2016-05-20/
LOCATION:HKAPA: Jockey Club Amphitheatre\, 1 Gloucester Road\, Wanchai\, Hong Kong
CATEGORIES:2016,Concert,Cultural Festival,Music,Performing Arts
GEO:22.2801854;114.1695054
X-APPLE-STRUCTURED-LOCATION;VALUE=URI;X-ADDRESS=HKAPA: Jockey Club Amphitheatre 1 Gloucester Road Wanchai Hong Kong;X-APPLE-RADIUS=500;X-TITLE=1 Gloucester Road:geo:114.1695054,22.2801854
END:VEVENT
BEGIN:VEVENT
DTSTART;TZID=Asia/Hong_Kong:20160512T200000
DTEND;TZID=Asia/Hong_Kong:20160512T200000
DTSTAMP:20260425T030305
CREATED:19160331T085610Z
LAST-MODIFIED:20160331T085856Z
UID:10001561-1463083200-1463083200@www.bcmagazine.net
SUMMARY:Baptiste Trotignon & Minino Garay
DESCRIPTION:Baptiste Trotignon & Minino Garay\nLe French May\nDate: 8pm\, 14 May\, 2016\nVenue: HK City Hall\, Theatre\nTickets: $380\, $280\, $180 from Urbtix
URL:https://www.bcmagazine.net/event/baptiste-trotignon-minino-garay-2016/
LOCATION:HK City Hall\, Theatre\, 5 Edinburgh Place\, Central\, Hong Kong
CATEGORIES:2016,Concert,Music,Performing Arts
GEO:22.2822646;114.1615275
X-APPLE-STRUCTURED-LOCATION;VALUE=URI;X-ADDRESS=HK City Hall Theatre 5 Edinburgh Place Central Hong Kong;X-APPLE-RADIUS=500;X-TITLE=5 Edinburgh Place:geo:114.1615275,22.2822646
END:VEVENT
END:VCALENDAR