BEGIN:VCALENDAR
VERSION:2.0
PRODID:-//bc magazine - ECPv6.15.20//NONSGML v1.0//EN
CALSCALE:GREGORIAN
METHOD:PUBLISH
X-WR-CALNAME:bc magazine
X-ORIGINAL-URL:https://www.bcmagazine.net
X-WR-CALDESC:Events for bc magazine
REFRESH-INTERVAL;VALUE=DURATION:PT1H
X-Robots-Tag:noindex
X-PUBLISHED-TTL:PT1H
BEGIN:VTIMEZONE
TZID:Asia/Hong_Kong
BEGIN:STANDARD
TZOFFSETFROM:+0800
TZOFFSETTO:+0800
TZNAME:HKT
DTSTART:20170101T000000
END:STANDARD
END:VTIMEZONE
BEGIN:VEVENT
DTSTART;TZID=Asia/Hong_Kong:20180506T200000
DTEND;TZID=Asia/Hong_Kong:20180506T200000
DTSTAMP:20260423T080107
CREATED:19180222T090237Z
LAST-MODIFIED:20180222T104614Z
UID:10003839-1525636800-1525636800@www.bcmagazine.net
SUMMARY:The Petit Four
DESCRIPTION:The Petit Four\nLeetle Stage\nDate: 5-6 May\, 2018\nVenue: HK Cultural Centre\, Studio Theatre\nTickets: $220\, $150 from Urbtix\nMore info:\n5 May – 8pm\n6 May – 3pm\, 8pm\nIn Cantonese
URL:https://www.bcmagazine.net/event/the-petit-four-leetle-stage-06-05-2018/
LOCATION:HK Cultural Centre\, Studio Theatre\, 10 Salisbury Road\, Tsim Sha Tsui\, Hong Kong
CATEGORIES:2018,Cantonese drama,Performing Arts
END:VEVENT
BEGIN:VEVENT
DTSTART;TZID=Asia/Hong_Kong:20180505T200000
DTEND;TZID=Asia/Hong_Kong:20180505T200000
DTSTAMP:20260423T080107
CREATED:19180222T090237Z
LAST-MODIFIED:20180222T105714Z
UID:10003838-1525550400-1525550400@www.bcmagazine.net
SUMMARY:The Petit Four
DESCRIPTION:The Petit Four\nLeetle Stage\nDate: 5-6 May\, 2018\nVenue: HK Cultural Centre\, Studio Theatre\nTickets: $220\, $150 from Urbtix\nMore info:\n5 May – 8pm\n6 May – 3pm\, 8pm\nIn Cantonese
URL:https://www.bcmagazine.net/event/the-petit-four-leetle-stage-05-05-2018/
LOCATION:HK Cultural Centre\, Studio Theatre\, 10 Salisbury Road\, Tsim Sha Tsui\, Hong Kong
CATEGORIES:2018,Cantonese drama,Performing Arts
END:VEVENT
END:VCALENDAR