BEGIN:VCALENDAR
VERSION:2.0
PRODID:-//bc magazine - ECPv6.15.20//NONSGML v1.0//EN
CALSCALE:GREGORIAN
METHOD:PUBLISH
X-WR-CALNAME:bc magazine
X-ORIGINAL-URL:https://www.bcmagazine.net
X-WR-CALDESC:Events for bc magazine
REFRESH-INTERVAL;VALUE=DURATION:PT1H
X-Robots-Tag:noindex
X-PUBLISHED-TTL:PT1H
BEGIN:VTIMEZONE
TZID:Asia/Hong_Kong
BEGIN:STANDARD
TZOFFSETFROM:+0800
TZOFFSETTO:+0800
TZNAME:HKT
DTSTART:20150101T000000
END:STANDARD
END:VTIMEZONE
BEGIN:VEVENT
DTSTART;TZID=Asia/Hong_Kong:20220109T143000
DTEND;TZID=Asia/Hong_Kong:20220109T143000
DTSTAMP:20260426T084104
CREATED:19210930T034537Z
LAST-MODIFIED:20211213T102527Z
UID:10005265-1641738600-1641738600@www.bcmagazine.net
SUMMARY:Lost in Xanadu
DESCRIPTION:Lost in Xanadu\nDate: 8-9 January\, 2022\nVenue: HK Cultural Centre\, Studio Theatre\nTickets: $300 from Urbtix\nMore info:\nCantonese Drama
URL:https://www.bcmagazine.net/event/lost-in-xanadu-2022/2022-01-09/
LOCATION:HK Cultural Centre\, Studio Theatre\, 10 Salisbury Road\, Tsim Sha Tsui\, Hong Kong
CATEGORIES:2022,Cantonese drama,Performing Arts
ATTACH;FMTTYPE=image/webp:https://www.bcmagazine.net/wp-content/uploads/1921/09/Lost-in-Xanadu-2022.webp
END:VEVENT
BEGIN:VEVENT
DTSTART;TZID=Asia/Hong_Kong:20220108T193000
DTEND;TZID=Asia/Hong_Kong:20220108T193000
DTSTAMP:20260426T084104
CREATED:19210930T034537Z
LAST-MODIFIED:20211213T102527Z
UID:10005264-1641670200-1641670200@www.bcmagazine.net
SUMMARY:Lost in Xanadu
DESCRIPTION:Lost in Xanadu\nDate: 8-9 January\, 2022\nVenue: HK Cultural Centre\, Studio Theatre\nTickets: $300 from Urbtix\nMore info:\nCantonese Drama
URL:https://www.bcmagazine.net/event/lost-in-xanadu-2022/2022-01-08/2/
LOCATION:HK Cultural Centre\, Studio Theatre\, 10 Salisbury Road\, Tsim Sha Tsui\, Hong Kong
CATEGORIES:2022,Cantonese drama,Performing Arts
ATTACH;FMTTYPE=image/webp:https://www.bcmagazine.net/wp-content/uploads/1921/09/Lost-in-Xanadu-2022.webp
END:VEVENT
BEGIN:VEVENT
DTSTART;TZID=Asia/Hong_Kong:20220108T143000
DTEND;TZID=Asia/Hong_Kong:20220108T143000
DTSTAMP:20260426T084104
CREATED:19210930T034537Z
LAST-MODIFIED:20211213T102527Z
UID:10005263-1641652200-1641652200@www.bcmagazine.net
SUMMARY:Lost in Xanadu
DESCRIPTION:Lost in Xanadu\nDate: 8-9 January\, 2022\nVenue: HK Cultural Centre\, Studio Theatre\nTickets: $300 from Urbtix\nMore info:\nCantonese Drama
URL:https://www.bcmagazine.net/event/lost-in-xanadu-2022/2022-01-08/1/
LOCATION:HK Cultural Centre\, Studio Theatre\, 10 Salisbury Road\, Tsim Sha Tsui\, Hong Kong
CATEGORIES:2022,Cantonese drama,Performing Arts
ATTACH;FMTTYPE=image/webp:https://www.bcmagazine.net/wp-content/uploads/1921/09/Lost-in-Xanadu-2022.webp
END:VEVENT
BEGIN:VEVENT
DTSTART;TZID=Asia/Hong_Kong:20210613T194500
DTEND;TZID=Asia/Hong_Kong:20210613T194500
DTSTAMP:20260426T084104
CREATED:19210409T085402Z
LAST-MODIFIED:20210504T154954Z
UID:10005107-1623613500-1623613500@www.bcmagazine.net
SUMMARY:The Destined
DESCRIPTION:The Destined\nLegend Infinity\nDate: 7:45pm\, 11-13 June\, 2021\nVenue: HK Cultural Centre\, Studio Theatre\nTickets: $280 from Urbtix
URL:https://www.bcmagazine.net/event/the-destined/2021-06-13/
LOCATION:HK Cultural Centre\, Studio Theatre\, 10 Salisbury Road\, Tsim Sha Tsui\, Hong Kong
CATEGORIES:2021,Cantonese drama,Performing Arts,Theatre
ATTACH;FMTTYPE=image/jpeg:https://www.bcmagazine.net/wp-content/uploads/1921/04/the-destined.jpg
END:VEVENT
BEGIN:VEVENT
DTSTART;TZID=Asia/Hong_Kong:20210612T194500
DTEND;TZID=Asia/Hong_Kong:20210612T194500
DTSTAMP:20260426T084104
CREATED:19210409T085402Z
LAST-MODIFIED:20210504T154954Z
UID:10005106-1623527100-1623527100@www.bcmagazine.net
SUMMARY:The Destined
DESCRIPTION:The Destined\nLegend Infinity\nDate: 7:45pm\, 11-13 June\, 2021\nVenue: HK Cultural Centre\, Studio Theatre\nTickets: $280 from Urbtix
URL:https://www.bcmagazine.net/event/the-destined/2021-06-12/
LOCATION:HK Cultural Centre\, Studio Theatre\, 10 Salisbury Road\, Tsim Sha Tsui\, Hong Kong
CATEGORIES:2021,Cantonese drama,Performing Arts,Theatre
ATTACH;FMTTYPE=image/jpeg:https://www.bcmagazine.net/wp-content/uploads/1921/04/the-destined.jpg
END:VEVENT
BEGIN:VEVENT
DTSTART;TZID=Asia/Hong_Kong:20210611T194500
DTEND;TZID=Asia/Hong_Kong:20210611T194500
DTSTAMP:20260426T084104
CREATED:19210409T085402Z
LAST-MODIFIED:20210504T154954Z
UID:10005105-1623440700-1623440700@www.bcmagazine.net
SUMMARY:The Destined
DESCRIPTION:The Destined\nLegend Infinity\nDate: 7:45pm\, 11-13 June\, 2021\nVenue: HK Cultural Centre\, Studio Theatre\nTickets: $280 from Urbtix
URL:https://www.bcmagazine.net/event/the-destined/2021-06-11/
LOCATION:HK Cultural Centre\, Studio Theatre\, 10 Salisbury Road\, Tsim Sha Tsui\, Hong Kong
CATEGORIES:2021,Cantonese drama,Performing Arts,Theatre
ATTACH;FMTTYPE=image/jpeg:https://www.bcmagazine.net/wp-content/uploads/1921/04/the-destined.jpg
END:VEVENT
BEGIN:VEVENT
DTSTART;TZID=Asia/Hong_Kong:20160702T193000
DTEND;TZID=Asia/Hong_Kong:20160702T193000
DTSTAMP:20260426T084104
CREATED:19160530T142318Z
LAST-MODIFIED:20160530T143216Z
UID:10001685-1467487800-1467487800@www.bcmagazine.net
SUMMARY:Right Here Waiting
DESCRIPTION:Right Here Waiting\nLegend Infinity\nDate: 30 June – 2 July\, 2016\nVenue: HK Cultural Centre\, Studio Theatre\nTickets: $200\, $180 from Urbtix\nMore info:\n30 June – 2 July – 7:30pm\n2 July – 2:30pm
URL:https://www.bcmagazine.net/event/right-here-waiting-2016/2016-07-02/
LOCATION:HK Cultural Centre\, Studio Theatre\, 10 Salisbury Road\, Tsim Sha Tsui\, Hong Kong
CATEGORIES:2016,Music,Musical,Performing Arts
END:VEVENT
BEGIN:VEVENT
DTSTART;TZID=Asia/Hong_Kong:20160701T193000
DTEND;TZID=Asia/Hong_Kong:20160701T193000
DTSTAMP:20260426T084104
CREATED:19160530T142318Z
LAST-MODIFIED:20160530T143216Z
UID:10001684-1467401400-1467401400@www.bcmagazine.net
SUMMARY:Right Here Waiting
DESCRIPTION:Right Here Waiting\nLegend Infinity\nDate: 30 June – 2 July\, 2016\nVenue: HK Cultural Centre\, Studio Theatre\nTickets: $200\, $180 from Urbtix\nMore info:\n30 June – 2 July – 7:30pm\n2 July – 2:30pm
URL:https://www.bcmagazine.net/event/right-here-waiting-2016/2016-07-01/
LOCATION:HK Cultural Centre\, Studio Theatre\, 10 Salisbury Road\, Tsim Sha Tsui\, Hong Kong
CATEGORIES:2016,Music,Musical,Performing Arts
END:VEVENT
BEGIN:VEVENT
DTSTART;TZID=Asia/Hong_Kong:20160630T193000
DTEND;TZID=Asia/Hong_Kong:20160630T193000
DTSTAMP:20260426T084104
CREATED:19160530T142318Z
LAST-MODIFIED:20160530T143216Z
UID:10001683-1467315000-1467315000@www.bcmagazine.net
SUMMARY:Right Here Waiting
DESCRIPTION:Right Here Waiting\nLegend Infinity\nDate: 30 June – 2 July\, 2016\nVenue: HK Cultural Centre\, Studio Theatre\nTickets: $200\, $180 from Urbtix\nMore info:\n30 June – 2 July – 7:30pm\n2 July – 2:30pm
URL:https://www.bcmagazine.net/event/right-here-waiting-2016/2016-06-30/
LOCATION:HK Cultural Centre\, Studio Theatre\, 10 Salisbury Road\, Tsim Sha Tsui\, Hong Kong
CATEGORIES:2016,Music,Musical,Performing Arts
END:VEVENT
END:VCALENDAR