BEGIN:VCALENDAR
VERSION:2.0
PRODID:-//bc magazine - ECPv6.15.20//NONSGML v1.0//EN
CALSCALE:GREGORIAN
METHOD:PUBLISH
X-WR-CALNAME:bc magazine
X-ORIGINAL-URL:https://www.bcmagazine.net
X-WR-CALDESC:Events for bc magazine
REFRESH-INTERVAL;VALUE=DURATION:PT1H
X-Robots-Tag:noindex
X-PUBLISHED-TTL:PT1H
BEGIN:VTIMEZONE
TZID:Asia/Hong_Kong
BEGIN:STANDARD
TZOFFSETFROM:+0800
TZOFFSETTO:+0800
TZNAME:HKT
DTSTART:20200101T000000
END:STANDARD
END:VTIMEZONE
BEGIN:VEVENT
DTSTART;TZID=Asia/Hong_Kong:20231208T200000
DTEND;TZID=Asia/Hong_Kong:20231208T200000
DTSTAMP:20260424T135500
CREATED:19231108T004219Z
LAST-MODIFIED:20231118T192422Z
UID:10009418-1702065600-1702065600@www.bcmagazine.net
SUMMARY:One OK Rock
DESCRIPTION:One OK Rock – Luxury Disease Asia Tour\nDate: 8pm\, 7-8 December 2023\nVenue: AsiaWorld Arena\nTickets: $1\,399\, $999\, $799
URL:https://www.bcmagazine.net/event/one-ok-rock-hong-kong-2023/2023-12-08/
LOCATION:AsiaWorld Expo\, Arena\, Hong Kong
CATEGORIES:2023,Comedy,Concert,Music,Nightlife,Performing Arts
ATTACH;FMTTYPE=image/jpeg:https://www.bcmagazine.net/wp-content/uploads/1923/11/one-ok-rock-hong-kong-2023.jpeg
END:VEVENT
BEGIN:VEVENT
DTSTART;TZID=Asia/Hong_Kong:20231207T200000
DTEND;TZID=Asia/Hong_Kong:20231207T200000
DTSTAMP:20260424T135500
CREATED:19231108T004219Z
LAST-MODIFIED:20231118T192422Z
UID:10009417-1701979200-1701979200@www.bcmagazine.net
SUMMARY:One OK Rock
DESCRIPTION:One OK Rock – Luxury Disease Asia Tour\nDate: 8pm\, 7-8 December 2023\nVenue: AsiaWorld Arena\nTickets: $1\,399\, $999\, $799
URL:https://www.bcmagazine.net/event/one-ok-rock-hong-kong-2023/2023-12-07/
LOCATION:AsiaWorld Expo\, Arena\, Hong Kong
CATEGORIES:2023,Comedy,Concert,Music,Nightlife,Performing Arts
ATTACH;FMTTYPE=image/jpeg:https://www.bcmagazine.net/wp-content/uploads/1923/11/one-ok-rock-hong-kong-2023.jpeg
END:VEVENT
BEGIN:VEVENT
DTSTART;TZID=Asia/Hong_Kong:20231121T200000
DTEND;TZID=Asia/Hong_Kong:20231121T200000
DTSTAMP:20260424T135500
CREATED:20230810T044512Z
LAST-MODIFIED:20230822T013958Z
UID:10008372-1700596800-1700596800@www.bcmagazine.net
SUMMARY:Keshi
DESCRIPTION:Keshi – Epilogue Tour\nDate: 8pm\, 20-21 November\, 2023\nVenue: AsiaWorld Expo\, Hall 5\nTickets: $1\,899\, $1\,499\, $899\, $599 from Cityline
URL:https://www.bcmagazine.net/event/keshi-2023/2023-11-21/
LOCATION:AsiaWorld-Expo\, Cheong Wing Road\, Chek Lap Kok\, Lantau\, Hong Kong
CATEGORIES:2023,Concert,Music,Performing Arts
ATTACH;FMTTYPE=image/jpeg:https://www.bcmagazine.net/wp-content/uploads/2023/08/keshi-2023-HK.jpeg
GEO:22.3217383;113.9402012
X-APPLE-STRUCTURED-LOCATION;VALUE=URI;X-ADDRESS=AsiaWorld-Expo Cheong Wing Road Chek Lap Kok Lantau Hong Kong;X-APPLE-RADIUS=500;X-TITLE=Cheong Wing Road\, Chek Lap Kok:geo:113.9402012,22.3217383
END:VEVENT
BEGIN:VEVENT
DTSTART;TZID=Asia/Hong_Kong:20231120T200000
DTEND;TZID=Asia/Hong_Kong:20231120T200000
DTSTAMP:20260424T135500
CREATED:20230810T044512Z
LAST-MODIFIED:20230822T013958Z
UID:10008371-1700510400-1700510400@www.bcmagazine.net
SUMMARY:Keshi
DESCRIPTION:Keshi – Epilogue Tour\nDate: 8pm\, 20-21 November\, 2023\nVenue: AsiaWorld Expo\, Hall 5\nTickets: $1\,899\, $1\,499\, $899\, $599 from Cityline
URL:https://www.bcmagazine.net/event/keshi-2023/2023-11-20/
LOCATION:AsiaWorld-Expo\, Cheong Wing Road\, Chek Lap Kok\, Lantau\, Hong Kong
CATEGORIES:2023,Concert,Music,Performing Arts
ATTACH;FMTTYPE=image/jpeg:https://www.bcmagazine.net/wp-content/uploads/2023/08/keshi-2023-HK.jpeg
GEO:22.3217383;113.9402012
X-APPLE-STRUCTURED-LOCATION;VALUE=URI;X-ADDRESS=AsiaWorld-Expo Cheong Wing Road Chek Lap Kok Lantau Hong Kong;X-APPLE-RADIUS=500;X-TITLE=Cheong Wing Road\, Chek Lap Kok:geo:113.9402012,22.3217383
END:VEVENT
BEGIN:VEVENT
DTSTART;TZID=Asia/Hong_Kong:20230315T200000
DTEND;TZID=Asia/Hong_Kong:20230315T200000
DTSTAMP:20260424T135500
CREATED:19150311T120718Z
LAST-MODIFIED:20230223T220434Z
UID:10006767-1678910400-1678910400@www.bcmagazine.net
SUMMARY:Backstreet Boys DNA World Tour
DESCRIPTION:Backstreet Boys – DNA World Tour\nWhen: 8pm\, 14-15 March\, 2023\nWhere: AsiaWorld Arena\nTickets: $1\,199\, $899\, $699\, $599 from HK Ticketing
URL:https://www.bcmagazine.net/event/backstreet-boys-dna-world-tour/2023-03-15/
LOCATION:AsiaWorld Expo\, Arena\, Hong Kong
CATEGORIES:Concert,Music,Nightlife
ATTACH;FMTTYPE=image/jpeg:https://www.bcmagazine.net/wp-content/uploads/2015/03/Backstreet-Boys-DNA-World-Tour-2023.jpeg
END:VEVENT
BEGIN:VEVENT
DTSTART;TZID=Asia/Hong_Kong:20230314T200000
DTEND;TZID=Asia/Hong_Kong:20230314T200000
DTSTAMP:20260424T135500
CREATED:19150311T120718Z
LAST-MODIFIED:20230223T220434Z
UID:10006731-1678824000-1678824000@www.bcmagazine.net
SUMMARY:Backstreet Boys DNA World Tour
DESCRIPTION:Backstreet Boys – DNA World Tour\nWhen: 8pm\, 14-15 March\, 2023\nWhere: AsiaWorld Arena\nTickets: $1\,199\, $899\, $699\, $599 from HK Ticketing
URL:https://www.bcmagazine.net/event/backstreet-boys-dna-world-tour/2023-03-14/
LOCATION:AsiaWorld Expo\, Arena\, Hong Kong
CATEGORIES:Concert,Music,Nightlife
ATTACH;FMTTYPE=image/jpeg:https://www.bcmagazine.net/wp-content/uploads/2015/03/Backstreet-Boys-DNA-World-Tour-2023.jpeg
END:VEVENT
BEGIN:VEVENT
DTSTART;TZID=Asia/Hong_Kong:20230215T200000
DTEND;TZID=Asia/Hong_Kong:20230215T200000
DTSTAMP:20260424T135500
CREATED:19190423T044512Z
LAST-MODIFIED:20230218T181205Z
UID:10006729-1676491200-1676491200@www.bcmagazine.net
SUMMARY:Westlife: The Wild Dreams Tour
DESCRIPTION:Westlife: The Wild Dreams Tour\nDate: 8pm\, 14-15 February\, 2023\nVenue: Asia World\, Arena\nTickets: $1\,299\, $999\, $699 from HK Ticketing
URL:https://www.bcmagazine.net/event/westlife-the-wild-dreams-tour/2023-02-15/
LOCATION:AsiaWorld Expo\, Arena\, Hong Kong
CATEGORIES:2023,Concert,Music,Nightlife,Performing Arts
ATTACH;FMTTYPE=image/jpeg:https://www.bcmagazine.net/wp-content/uploads/2019/04/westlife-2023-hong-kong.jpeg
END:VEVENT
BEGIN:VEVENT
DTSTART;TZID=Asia/Hong_Kong:20230214T200000
DTEND;TZID=Asia/Hong_Kong:20230214T200000
DTSTAMP:20260424T135500
CREATED:19190423T044512Z
LAST-MODIFIED:20230218T181205Z
UID:10006728-1676404800-1676404800@www.bcmagazine.net
SUMMARY:Westlife: The Wild Dreams Tour
DESCRIPTION:Westlife: The Wild Dreams Tour\nDate: 8pm\, 14-15 February\, 2023\nVenue: Asia World\, Arena\nTickets: $1\,299\, $999\, $699 from HK Ticketing
URL:https://www.bcmagazine.net/event/westlife-the-wild-dreams-tour/2023-02-14/
LOCATION:AsiaWorld Expo\, Arena\, Hong Kong
CATEGORIES:2023,Concert,Music,Nightlife,Performing Arts
ATTACH;FMTTYPE=image/jpeg:https://www.bcmagazine.net/wp-content/uploads/2019/04/westlife-2023-hong-kong.jpeg
END:VEVENT
BEGIN:VEVENT
DTSTART;TZID=Asia/Hong_Kong:20211231T203000
DTEND;TZID=Asia/Hong_Kong:20211231T203000
DTSTAMP:20260424T135500
CREATED:20161124T131017Z
LAST-MODIFIED:20211129T145039Z
UID:10006350-1640982600-1640982600@www.bcmagazine.net
SUMMARY:Countdown in Nocturnland
DESCRIPTION:Countdown in Nocturnland\nBEAUZ\, Pink Panda\, Yeti & Friends!\nDate: 8:30pm\, 31 December\, 2021\nVenue: Ocean Park\nTickets: $1\,499\, $899 from Cityline
URL:https://www.bcmagazine.net/event/countdown-in-nocturnland-2021/
LOCATION:Ocean Park\, Wong Chuk Hang\, Hong Kong
CATEGORIES:2021,DJ,LGBT,Music,Nightlife
ATTACH;FMTTYPE=image/jpeg:https://www.bcmagazine.net/wp-content/uploads/2016/12/nocturnland-2021.jpg
GEO:22.2459198;114.1664957
END:VEVENT
END:VCALENDAR