BEGIN:VCALENDAR
VERSION:2.0
PRODID:-//bc magazine - ECPv6.15.20//NONSGML v1.0//EN
CALSCALE:GREGORIAN
METHOD:PUBLISH
X-WR-CALNAME:bc magazine
X-ORIGINAL-URL:https://www.bcmagazine.net
X-WR-CALDESC:Events for bc magazine
REFRESH-INTERVAL;VALUE=DURATION:PT1H
X-Robots-Tag:noindex
X-PUBLISHED-TTL:PT1H
BEGIN:VTIMEZONE
TZID:Asia/Hong_Kong
BEGIN:STANDARD
TZOFFSETFROM:+0800
TZOFFSETTO:+0800
TZNAME:HKT
DTSTART:20180101T000000
END:STANDARD
END:VTIMEZONE
BEGIN:VEVENT
DTSTART;TZID=Asia/Hong_Kong:20191006T203000
DTEND;TZID=Asia/Hong_Kong:20191006T203000
DTSTAMP:20260422T211133
CREATED:19160919T054156Z
LAST-MODIFIED:20190619T132731Z
UID:10002138-1570393800-1570393800@www.bcmagazine.net
SUMMARY:UK Subs
DESCRIPTION:UK Subs\nDate: 8:30pm\, 6 October\, 2019\nVenue: MOM Livehouse\nTickets: $450\, $390 from Ticketflap
URL:https://www.bcmagazine.net/event/uk-subs-hk-2019/
LOCATION:MOM Livehouse\, B39 Seven Seas Shopping Centre\, 117-121 Kings Road\, North Point\, Hong Kong
CATEGORIES:2019,Concert,Music,Performing Arts
ATTACH;FMTTYPE=image/jpeg:https://www.bcmagazine.net/wp-content/uploads/1916/09/uk-subs-hk-2019.jpg
GEO:22.2884683;114.192803
X-APPLE-STRUCTURED-LOCATION;VALUE=URI;X-ADDRESS=MOM Livehouse B39 Seven Seas Shopping Centre 117-121 Kings Road North Point Hong Kong;X-APPLE-RADIUS=500;X-TITLE=B39 Seven Seas Shopping Centre\, 117-121 Kings Road:geo:114.192803,22.2884683
END:VEVENT
BEGIN:VEVENT
DTSTART;TZID=Asia/Hong_Kong:20190912T203000
DTEND;TZID=Asia/Hong_Kong:20190912T203000
DTSTAMP:20260422T211133
CREATED:19160919T054156Z
LAST-MODIFIED:20190619T132740Z
UID:10002135-1568320200-1568320200@www.bcmagazine.net
SUMMARY:From The Jam
DESCRIPTION:From The Jam\nDate: 8:30pm\, 12 September\, 2019\nVenue: This Town Needs (TTN)\nTickets: $550\, $490 from Ticketflap
URL:https://www.bcmagazine.net/event/from-the-jam-hk-2019/
LOCATION:This Town Needs (TTN)\, 1/F Ocean One\, 6 Shung Shun Street\, Yau Tong\, Hong Kong
CATEGORIES:2019,Concert,Music,Performing Arts
ATTACH;FMTTYPE=image/jpeg:https://www.bcmagazine.net/wp-content/uploads/1916/09/from-the-jam-hk-2019.jpg
GEO:22.292861;114.23782
X-APPLE-STRUCTURED-LOCATION;VALUE=URI;X-ADDRESS=This Town Needs (TTN) 1/F Ocean One 6 Shung Shun Street Yau Tong Hong Kong;X-APPLE-RADIUS=500;X-TITLE=1/F Ocean One\, 6 Shung Shun Street:geo:114.23782,22.292861
END:VEVENT
BEGIN:VEVENT
DTSTART;TZID=Asia/Hong_Kong:20190905T190000
DTEND;TZID=Asia/Hong_Kong:20190905T190000
DTSTAMP:20260422T211133
CREATED:19160919T054156Z
LAST-MODIFIED:20190619T132410Z
UID:10002137-1567710000-1567710000@www.bcmagazine.net
SUMMARY:Cockney Rejects / Two Finger Salute / Oi! Squad
DESCRIPTION:Cockney Rejects / Two Finger Salute / Oi! Squad\nDate: 7pm\, 5 September\, 2019\nVenue: MOM Livehouse\nTickets: $450\, $390 from Ticketflap
URL:https://www.bcmagazine.net/event/cockney-rejects-two-finger-salute-oi-squad/
LOCATION:MOM Livehouse\, B39 Seven Seas Shopping Centre\, 117-121 Kings Road\, North Point\, Hong Kong
CATEGORIES:2019,Concert,Music,Performing Arts
ATTACH;FMTTYPE=image/jpeg:https://www.bcmagazine.net/wp-content/uploads/1916/09/cockney-rejects-hk-2019.jpg
GEO:22.2884683;114.192803
X-APPLE-STRUCTURED-LOCATION;VALUE=URI;X-ADDRESS=MOM Livehouse B39 Seven Seas Shopping Centre 117-121 Kings Road North Point Hong Kong;X-APPLE-RADIUS=500;X-TITLE=B39 Seven Seas Shopping Centre\, 117-121 Kings Road:geo:114.192803,22.2884683
END:VEVENT
BEGIN:VEVENT
DTSTART;TZID=Asia/Hong_Kong:20190815T200000
DTEND;TZID=Asia/Hong_Kong:20190815T200000
DTSTAMP:20260422T211133
CREATED:19160919T054156Z
LAST-MODIFIED:20190619T132332Z
UID:10002136-1565899200-1565899200@www.bcmagazine.net
SUMMARY:The Damned
DESCRIPTION:The Damned\nDate: 8pm\, 15 August\, 2019\nVenue: This Town Needs (TTN)\nTickets: $550\, $490 from Ticketflap
URL:https://www.bcmagazine.net/event/the-damned-hk-2019/
LOCATION:This Town Needs (TTN)\, 1/F Ocean One\, 6 Shung Shun Street\, Yau Tong\, Hong Kong
CATEGORIES:2019,Concert,Music,Performing Arts
ATTACH;FMTTYPE=image/jpeg:https://www.bcmagazine.net/wp-content/uploads/1916/09/The-Damned-hk-2019.jpg
GEO:22.292861;114.23782
X-APPLE-STRUCTURED-LOCATION;VALUE=URI;X-ADDRESS=This Town Needs (TTN) 1/F Ocean One 6 Shung Shun Street Yau Tong Hong Kong;X-APPLE-RADIUS=500;X-TITLE=1/F Ocean One\, 6 Shung Shun Street:geo:114.23782,22.292861
END:VEVENT
END:VCALENDAR