BEGIN:VCALENDAR
VERSION:2.0
PRODID:-//bc magazine - ECPv6.15.20//NONSGML v1.0//EN
CALSCALE:GREGORIAN
METHOD:PUBLISH
X-ORIGINAL-URL:https://www.bcmagazine.net
X-WR-CALDESC:Events for bc magazine
REFRESH-INTERVAL;VALUE=DURATION:PT1H
X-Robots-Tag:noindex
X-PUBLISHED-TTL:PT1H
BEGIN:VTIMEZONE
TZID:Asia/Hong_Kong
BEGIN:STANDARD
TZOFFSETFROM:+0800
TZOFFSETTO:+0800
TZNAME:HKT
DTSTART:20150101T000000
END:STANDARD
END:VTIMEZONE
BEGIN:VEVENT
DTSTART;TZID=Asia/Hong_Kong:20161216T200000
DTEND;TZID=Asia/Hong_Kong:20161216T200000
DTSTAMP:20260421T205320
CREATED:19161204T015503Z
LAST-MODIFIED:20161204T020042Z
UID:10002392-1481918400-1481918400@www.bcmagazine.net
SUMMARY:DiviNation
DESCRIPTION:DiviNation\nMuse Motion\n\n\n\nDate: 8pm\, 16 December\, 2016\n\nVenue: HK City Hall\, Theatre\nTickets: $180\, $100 from Urbtix
URL:https://www.bcmagazine.net/event/divination-2016/
LOCATION:HK City Hall\, Theatre\, 5 Edinburgh Place\, Central\, Hong Kong
CATEGORIES:2016,Dance,Performing Arts
GEO:22.2822646;114.1615275
X-APPLE-STRUCTURED-LOCATION;VALUE=URI;X-ADDRESS=HK City Hall Theatre 5 Edinburgh Place Central Hong Kong;X-APPLE-RADIUS=500;X-TITLE=5 Edinburgh Place:geo:114.1615275,22.2822646
END:VEVENT
END:VCALENDAR