BEGIN:VCALENDAR
VERSION:2.0
PRODID:-//bc magazine - ECPv6.15.20//NONSGML v1.0//EN
CALSCALE:GREGORIAN
METHOD:PUBLISH
X-ORIGINAL-URL:https://www.bcmagazine.net
X-WR-CALDESC:Events for bc magazine
REFRESH-INTERVAL;VALUE=DURATION:PT1H
X-Robots-Tag:noindex
X-PUBLISHED-TTL:PT1H
BEGIN:VTIMEZONE
TZID:Asia/Hong_Kong
BEGIN:STANDARD
TZOFFSETFROM:+0800
TZOFFSETTO:+0800
TZNAME:HKT
DTSTART:20170101T000000
END:STANDARD
END:VTIMEZONE
BEGIN:VEVENT
DTSTART;TZID=Asia/Hong_Kong:20200310T200000
DTEND;TZID=Asia/Hong_Kong:20200310T200000
DTSTAMP:20260422T033005
CREATED:19190711T044512Z
LAST-MODIFIED:20191219T013406Z
UID:10004859-1583870400-1583870400@www.bcmagazine.net
SUMMARY:Fat White Family
DESCRIPTION:Fat White Family\nDate: 8pm\, 10 March\, 2020\nVenue: This Town Needs (TTN)\nTickets: $460\, $360 (advance) from Ticketflap
URL:https://www.bcmagazine.net/event/fat-white-family-hk-2020/
LOCATION:This Town Needs (TTN)\, 1/F Ocean One\, 6 Shung Shun Street\, Yau Tong\, Hong Kong
CATEGORIES:2020,Concert,Music,Performing Arts
ATTACH;FMTTYPE=image/jpeg:https://www.bcmagazine.net/wp-content/uploads/1919/07/fat-white-family.jpg
GEO:22.292861;114.23782
X-APPLE-STRUCTURED-LOCATION;VALUE=URI;X-ADDRESS=This Town Needs (TTN) 1/F Ocean One 6 Shung Shun Street Yau Tong Hong Kong;X-APPLE-RADIUS=500;X-TITLE=1/F Ocean One\, 6 Shung Shun Street:geo:114.23782,22.292861
END:VEVENT
BEGIN:VEVENT
DTSTART;TZID=Asia/Hong_Kong:20181202T200000
DTEND;TZID=Asia/Hong_Kong:20181202T200000
DTSTAMP:20260422T033005
CREATED:19180903T083647Z
LAST-MODIFIED:20180908T064951Z
UID:10004406-1543780800-1543780800@www.bcmagazine.net
SUMMARY:Rookiez is Punk'd
DESCRIPTION:Rookiez is Punk’d\nDate: 8pm\, 2 December\, 2018\nVenue: TTN\nTickets: $480\, $380\, $280 (Advance) from Ticketflap
URL:https://www.bcmagazine.net/event/rookiez-is-punkd-hk-2018/
LOCATION:This Town Needs (TTN)\, 1/F Ocean One\, 6 Shung Shun Street\, Yau Tong\, Hong Kong
CATEGORIES:2018,Concert,Music,Performing Arts
ATTACH;FMTTYPE=image/jpeg:https://www.bcmagazine.net/wp-content/uploads/1918/09/ROOKiEZ-is-PUNK’D-hk-2018.jpg
GEO:22.292861;114.23782
X-APPLE-STRUCTURED-LOCATION;VALUE=URI;X-ADDRESS=This Town Needs (TTN) 1/F Ocean One 6 Shung Shun Street Yau Tong Hong Kong;X-APPLE-RADIUS=500;X-TITLE=1/F Ocean One\, 6 Shung Shun Street:geo:114.23782,22.292861
END:VEVENT
BEGIN:VEVENT
DTSTART;TZID=Asia/Hong_Kong:20181201T200000
DTEND;TZID=Asia/Hong_Kong:20181201T200000
DTSTAMP:20260422T033005
CREATED:19170811T054537Z
LAST-MODIFIED:20181004T140119Z
UID:10003254-1543694400-1543694400@www.bcmagazine.net
SUMMARY:Frandé
DESCRIPTION:Frandé\nDate: 8pm\, 1 December\, 2018\nVenue: TTN\nTickets: $880 (Door)\, $300 (Advance)
URL:https://www.bcmagazine.net/event/frande-2018/
LOCATION:This Town Needs (TTN)\, 1/F Ocean One\, 6 Shung Shun Street\, Yau Tong\, Hong Kong
CATEGORIES:2018,Concert,DJ,Music,Performing Arts
ATTACH;FMTTYPE=image/jpeg:https://www.bcmagazine.net/wp-content/uploads/1917/08/Frande-2018.jpg
GEO:22.292861;114.23782
X-APPLE-STRUCTURED-LOCATION;VALUE=URI;X-ADDRESS=This Town Needs (TTN) 1/F Ocean One 6 Shung Shun Street Yau Tong Hong Kong;X-APPLE-RADIUS=500;X-TITLE=1/F Ocean One\, 6 Shung Shun Street:geo:114.23782,22.292861
END:VEVENT
BEGIN:VEVENT
DTSTART;TZID=Asia/Hong_Kong:20181124T200000
DTEND;TZID=Asia/Hong_Kong:20181124T200000
DTSTAMP:20260422T033005
CREATED:20181009T054218Z
LAST-MODIFIED:20181011T160524Z
UID:10006536-1543089600-1543089600@www.bcmagazine.net
SUMMARY:Polyphia
DESCRIPTION:Polyphia – New Levels New Devils Tour – Live in Hong Kong\nSupport: Marty Friedman\, Jason Kui\nDate: 8pm\, 24 November\, 2018\nVenue: TTN\nTickets: $560\, $460 from Ticketflap
URL:https://www.bcmagazine.net/event/polyphia-2018/
LOCATION:This Town Needs (TTN)\, 1/F Ocean One\, 6 Shung Shun Street\, Yau Tong\, Hong Kong
CATEGORIES:2018,Concert,Music,Performing Arts
ATTACH;FMTTYPE=image/jpeg:https://www.bcmagazine.net/wp-content/uploads/2018/10/polyphia-2018.jpg
GEO:22.292861;114.23782
X-APPLE-STRUCTURED-LOCATION;VALUE=URI;X-ADDRESS=This Town Needs (TTN) 1/F Ocean One 6 Shung Shun Street Yau Tong Hong Kong;X-APPLE-RADIUS=500;X-TITLE=1/F Ocean One\, 6 Shung Shun Street:geo:114.23782,22.292861
END:VEVENT
BEGIN:VEVENT
DTSTART;TZID=Asia/Hong_Kong:20181123T200000
DTEND;TZID=Asia/Hong_Kong:20181123T200000
DTSTAMP:20260422T033005
CREATED:19180903T083647Z
LAST-MODIFIED:20180908T065340Z
UID:10004432-1543003200-1543003200@www.bcmagazine.net
SUMMARY:Wang Wen 惘聞
DESCRIPTION:Wang Wen 惘聞\nDate: 8pm\, 23 November\, 2018\nVenue: TTN\nTickets: $320\, $240 (Advance) from Ticketflap
URL:https://www.bcmagazine.net/event/wang-wen-2018/
LOCATION:This Town Needs (TTN)\, 1/F Ocean One\, 6 Shung Shun Street\, Yau Tong\, Hong Kong
CATEGORIES:2018,Concert,Music,Performing Arts
ATTACH;FMTTYPE=image/jpeg:https://www.bcmagazine.net/wp-content/uploads/1918/09/Wang-Wen-惘聞.jpg
GEO:22.292861;114.23782
X-APPLE-STRUCTURED-LOCATION;VALUE=URI;X-ADDRESS=This Town Needs (TTN) 1/F Ocean One 6 Shung Shun Street Yau Tong Hong Kong;X-APPLE-RADIUS=500;X-TITLE=1/F Ocean One\, 6 Shung Shun Street:geo:114.23782,22.292861
END:VEVENT
BEGIN:VEVENT
DTSTART;TZID=Asia/Hong_Kong:20181102T200000
DTEND;TZID=Asia/Hong_Kong:20181102T200000
DTSTAMP:20260422T033005
CREATED:19170811T054537Z
LAST-MODIFIED:20181004T135622Z
UID:10003253-1541188800-1541188800@www.bcmagazine.net
SUMMARY:Sinsaenum
DESCRIPTION:Sinsaenum\nDate: 8pm\, 2 November\, 2018\nVenue: TTN\nTickets: $580 (VIP)\, $480 (Door)\, $380 (Advance) from Ticketflap
URL:https://www.bcmagazine.net/event/sinsaenum/
LOCATION:This Town Needs (TTN)\, 1/F Ocean One\, 6 Shung Shun Street\, Yau Tong\, Hong Kong
CATEGORIES:2018,Concert,DJ,Music,Performing Arts
ATTACH;FMTTYPE=image/jpeg:https://www.bcmagazine.net/wp-content/uploads/1917/08/Sinsaenum-2018.jpg
GEO:22.292861;114.23782
X-APPLE-STRUCTURED-LOCATION;VALUE=URI;X-ADDRESS=This Town Needs (TTN) 1/F Ocean One 6 Shung Shun Street Yau Tong Hong Kong;X-APPLE-RADIUS=500;X-TITLE=1/F Ocean One\, 6 Shung Shun Street:geo:114.23782,22.292861
END:VEVENT
BEGIN:VEVENT
DTSTART;TZID=Asia/Hong_Kong:20181013T190000
DTEND;TZID=Asia/Hong_Kong:20181013T190000
DTSTAMP:20260422T033005
CREATED:19170811T054537Z
LAST-MODIFIED:20180824T145144Z
UID:10003250-1539457200-1539457200@www.bcmagazine.net
SUMMARY:Jyocho
DESCRIPTION:Jyocho – A Parallel Universe\nSupport: GDJYB\nDate: 8pm\, 13 October\, 2018\nVenue: TTN\nTickets: $380\, $280 (advance)
URL:https://www.bcmagazine.net/event/jyocho-2018/
LOCATION:This Town Needs (TTN)\, 1/F Ocean One\, 6 Shung Shun Street\, Yau Tong\, Hong Kong
CATEGORIES:2018,Concert,DJ,Music,Performing Arts
ATTACH;FMTTYPE=image/jpeg:https://www.bcmagazine.net/wp-content/uploads/1917/08/jyocho-2018.jpg
GEO:22.292861;114.23782
X-APPLE-STRUCTURED-LOCATION;VALUE=URI;X-ADDRESS=This Town Needs (TTN) 1/F Ocean One 6 Shung Shun Street Yau Tong Hong Kong;X-APPLE-RADIUS=500;X-TITLE=1/F Ocean One\, 6 Shung Shun Street:geo:114.23782,22.292861
END:VEVENT
BEGIN:VEVENT
DTSTART;TZID=Asia/Hong_Kong:20180825T200000
DTEND;TZID=Asia/Hong_Kong:20180825T200000
DTSTAMP:20260422T033005
CREATED:20180717T011954Z
LAST-MODIFIED:20180723T013602Z
UID:10006514-1535227200-1535227200@www.bcmagazine.net
SUMMARY:H Zettrio
DESCRIPTION:H Zettrio – Mysterious Superheroes Tour \nDate: 8pm\, 25 August\, 2018\nVenue: TTN\nTickets: $430\, $390 from Ticketflap
URL:https://www.bcmagazine.net/event/h-zettrio-2018/
LOCATION:This Town Needs (TTN)\, 1/F Ocean One\, 6 Shung Shun Street\, Yau Tong\, Hong Kong
CATEGORIES:2018,Concert,Music,Performing Arts
ATTACH;FMTTYPE=image/jpeg:https://www.bcmagazine.net/wp-content/uploads/2018/07/H-Zettrio-2018.jpg
GEO:22.292861;114.23782
X-APPLE-STRUCTURED-LOCATION;VALUE=URI;X-ADDRESS=This Town Needs (TTN) 1/F Ocean One 6 Shung Shun Street Yau Tong Hong Kong;X-APPLE-RADIUS=500;X-TITLE=1/F Ocean One\, 6 Shung Shun Street:geo:114.23782,22.292861
END:VEVENT
BEGIN:VEVENT
DTSTART;TZID=Asia/Hong_Kong:20180802T200000
DTEND;TZID=Asia/Hong_Kong:20180802T200000
DTSTAMP:20260422T033005
CREATED:19180620T094055Z
LAST-MODIFIED:20180723T031453Z
UID:10004247-1533240000-1533240000@www.bcmagazine.net
SUMMARY:Deadsquad
DESCRIPTION:Deadsquad\nDate: 8pm\, 2 August\, 2018\nVenue: MOM Livehouse\nTickets: $280\, $200 from Ticketflap
URL:https://www.bcmagazine.net/event/deadsquad-2018/
LOCATION:MOM Livehouse\, B39 Seven Seas Shopping Centre\, 117-121 Kings Road\, North Point\, Hong Kong
CATEGORIES:2018,Concert,Music,Performing Arts
ATTACH;FMTTYPE=image/jpeg:https://www.bcmagazine.net/wp-content/uploads/1918/06/Deadsquad-2018.jpg
GEO:22.2884683;114.192803
X-APPLE-STRUCTURED-LOCATION;VALUE=URI;X-ADDRESS=MOM Livehouse B39 Seven Seas Shopping Centre 117-121 Kings Road North Point Hong Kong;X-APPLE-RADIUS=500;X-TITLE=B39 Seven Seas Shopping Centre\, 117-121 Kings Road:geo:114.192803,22.2884683
END:VEVENT
BEGIN:VEVENT
DTSTART;TZID=Asia/Hong_Kong:20180616T200000
DTEND;TZID=Asia/Hong_Kong:20180616T200000
DTSTAMP:20260422T033005
CREATED:19180512T132328Z
LAST-MODIFIED:20180515T014250Z
UID:10004020-1529179200-1529179200@www.bcmagazine.net
SUMMARY:Hedgehog
DESCRIPTION:Hedgehog\nDate: 8pm\, 16 June\, 2018\nVenue: TTN\nTickets: $380\, $280 (advance) from Ticketflap
URL:https://www.bcmagazine.net/event/hedgehog-16-06-2018/
LOCATION:This Town Needs (TTN)\, 1/F Ocean One\, 6 Shung Shun Street\, Yau Tong\, Hong Kong
CATEGORIES:2018,Concert,Music,Performing Arts
ATTACH;FMTTYPE=image/jpeg:https://www.bcmagazine.net/wp-content/uploads/1918/05/hedgehog-TTN-june-2018.jpg
GEO:22.292861;114.23782
X-APPLE-STRUCTURED-LOCATION;VALUE=URI;X-ADDRESS=This Town Needs (TTN) 1/F Ocean One 6 Shung Shun Street Yau Tong Hong Kong;X-APPLE-RADIUS=500;X-TITLE=1/F Ocean One\, 6 Shung Shun Street:geo:114.23782,22.292861
END:VEVENT
BEGIN:VEVENT
DTSTART;TZID=Asia/Hong_Kong:20180612T200000
DTEND;TZID=Asia/Hong_Kong:20180612T200000
DTSTAMP:20260422T033005
CREATED:19180512T132328Z
LAST-MODIFIED:20180515T015324Z
UID:10004022-1528833600-1528833600@www.bcmagazine.net
SUMMARY:Devendra Banhart
DESCRIPTION:Devendra Banhart with Noah Georgeson\nDate: 8pm\, 12 June\, 2018\nVenue: TTN\nTickets: $400\, $320 (advance) from Ticketflap
URL:https://www.bcmagazine.net/event/devendra-banhart-2018/
LOCATION:This Town Needs (TTN)\, 1/F Ocean One\, 6 Shung Shun Street\, Yau Tong\, Hong Kong
CATEGORIES:2018,Concert,Music,Performing Arts
ATTACH;FMTTYPE=image/jpeg:https://www.bcmagazine.net/wp-content/uploads/1918/05/Devendra-Banhart-2018.jpg
GEO:22.292861;114.23782
X-APPLE-STRUCTURED-LOCATION;VALUE=URI;X-ADDRESS=This Town Needs (TTN) 1/F Ocean One 6 Shung Shun Street Yau Tong Hong Kong;X-APPLE-RADIUS=500;X-TITLE=1/F Ocean One\, 6 Shung Shun Street:geo:114.23782,22.292861
END:VEVENT
BEGIN:VEVENT
DTSTART;TZID=Asia/Hong_Kong:20180606T200000
DTEND;TZID=Asia/Hong_Kong:20180606T200000
DTSTAMP:20260422T033005
CREATED:19180512T132328Z
LAST-MODIFIED:20180515T014618Z
UID:10004021-1528315200-1528315200@www.bcmagazine.net
SUMMARY:Yellow Fang
DESCRIPTION:Yellow Fang\nSupport: Black Coffee\, Ni.Ne.Mo\nDate: 8pm\, 6 June\, 2018\nVenue: TTN\nTickets: $380\, $280 (advance) from Ticketflap
URL:https://www.bcmagazine.net/event/yellow-fang-06-06-2018/
LOCATION:This Town Needs (TTN)\, 1/F Ocean One\, 6 Shung Shun Street\, Yau Tong\, Hong Kong
CATEGORIES:2018,Concert,Music,Performing Arts
ATTACH;FMTTYPE=image/jpeg:https://www.bcmagazine.net/wp-content/uploads/1918/05/Yellow-Fang-2018.jpg
GEO:22.292861;114.23782
X-APPLE-STRUCTURED-LOCATION;VALUE=URI;X-ADDRESS=This Town Needs (TTN) 1/F Ocean One 6 Shung Shun Street Yau Tong Hong Kong;X-APPLE-RADIUS=500;X-TITLE=1/F Ocean One\, 6 Shung Shun Street:geo:114.23782,22.292861
END:VEVENT
END:VCALENDAR